BEGIN:VCALENDAR
VERSION:2.0
PRODID:-//URBAN PICNIC - ECPv6.9.0//NONSGML v1.0//EN
CALSCALE:GREGORIAN
METHOD:PUBLISH
X-WR-CALNAME:URBAN PICNIC
X-ORIGINAL-URL:https://urbanpicnic.jp
X-WR-CALDESC:URBAN PICNIC のイベント
REFRESH-INTERVAL;VALUE=DURATION:PT1H
X-Robots-Tag:noindex
X-PUBLISHED-TTL:PT1H
BEGIN:VTIMEZONE
TZID:Asia/Tokyo
BEGIN:STANDARD
TZOFFSETFROM:+0900
TZOFFSETTO:+0900
TZNAME:JST
DTSTART:20260101T000000
END:STANDARD
END:VTIMEZONE
BEGIN:VEVENT
DTSTART;TZID=Asia/Tokyo:20260403T180000
DTEND;TZID=Asia/Tokyo:20260403T193000
DTSTAMP:20260420T115103
CREATED:20260327T050050Z
LAST-MODIFIED:20260404T083933Z
UID:7613-1775239200-1775244600@urbanpicnic.jp
SUMMARY:芝生の演奏会2026「公園でひろがる」／フルート＆ヴァイオリン デュオてまり
DESCRIPTION:4/3fri.フルート＆ヴァイオリン デュオてまり\n\n今回の「ひろがる」\n〜クラシックをたどる〜\nこれまで金曜の夕暮れに、小さな音楽の時間を重ねてきた「芝生の演奏会」\n2026年は、ちょっとだけ新しい風を\nジャンル、楽器、そして聴き方\nこれまで大切にしてきた空気感はそのままに\n公園から音楽の世界が、ゆっくりとひろがっていきます。\nあなたの週末を、少しだけクリエイティブに \n今年最初にお迎えするのはデュオてまりのお二人。\n時代ごとに変化をしてきたクラシックの楽しみ方をレクチャーしていただきます。 \n【芝生の演奏会 開催概要】\n日時：2026年4月3日(金)\n1stステージ：18:00-18:30\n2ndステージ：19:00-19:30\n場所：東遊園地　ガーデンステージ（※雨天：ラウンジにて開催）\n兵庫県神戸市中央区加納町6-4-1　東遊園地内\n料金：無料・申込不要\n主催：URBAN PICNIC（一般社団法人リバブルシティイニシアティブ） \n【アーティスト紹介】\nフルート＆ヴァイオリン デュオてまり\n\nフルート服部彩恵、ヴァイオリン正司円によるデュオ。大阪教育大学で出会い、大学院までの6年間を共に過ごす。\n在学中より共に演奏する機会が多く、大学院修了後自主企画コンサートを開催し好評を博す。\nその後2018年より、2人の出身地である兵庫県を中心に、より気軽に手軽にクラシック音楽に親しんでもらえる活動をしたいという思いから「デュオてまり」を結成。\nこれまでに様々なコンサートやイベントに出演している。\n新型コロナウイルスの影響による自粛期間中に作成した動画、「かんたん！フルートとヴァイオリンで、クラシック音楽の歴史を辿ってみた！」が、兵庫県西宮市のアーティスト支援事業に採用され、現在西宮市文化振興財団運営の「にしのみや新進アーティストボックス」登録アーティスト。\nまた2021年より阪神シニアカレッジにて音楽史の講座を担当している。 \n芝生の演奏会2026
URL:https://urbanpicnic.jp/event/lawn-concert-2604-1/
CATEGORIES:芝生の演奏会
ATTACH;FMTTYPE=image/jpeg:https://urbanpicnic.jp/wp-content/uploads/2026/03/IMG_0442_Original-1-scaled.jpeg
END:VEVENT
END:VCALENDAR