BEGIN:VCALENDAR
VERSION:2.0
PRODID:-//URBAN PICNIC - ECPv6.9.0//NONSGML v1.0//EN
CALSCALE:GREGORIAN
METHOD:PUBLISH
X-WR-CALNAME:URBAN PICNIC
X-ORIGINAL-URL:https://urbanpicnic.jp
X-WR-CALDESC:URBAN PICNIC のイベント
REFRESH-INTERVAL;VALUE=DURATION:PT1H
X-Robots-Tag:noindex
X-PUBLISHED-TTL:PT1H
BEGIN:VTIMEZONE
TZID:Asia/Tokyo
BEGIN:STANDARD
TZOFFSETFROM:+0900
TZOFFSETTO:+0900
TZNAME:JST
DTSTART:20260101T000000
END:STANDARD
END:VTIMEZONE
BEGIN:VEVENT
DTSTART;TZID=Asia/Tokyo:20260326T190000
DTEND;TZID=Asia/Tokyo:20260326T210000
DTSTAMP:20260420T121443
CREATED:20260217T095511Z
LAST-MODIFIED:20260217T095511Z
UID:7479-1774551600-1774558800@urbanpicnic.jp
SUMMARY:PARK TALK 2026 #01 「自由」　ゲスト：ヤマザキOKコンピュータ
DESCRIPTION:神戸・三宮の公園「東遊園地」を、だれでも気軽に集まり、\nわたしたちのこれからについて考えるためのキャンパスに。 \n月1回最終木曜日の夜にゲストを招き\nトークプログラムを開催します。 \n2026年のテーマは「パブリックを思う」。\nみんなでつくり、育ててきた公園で、\n正解が混線する世界に対して、個に籠らず他を排さず、\nしかし粒だった自己のまま”わたしたちのパブリック”を提案する\nそんなプログラムを目指します。 \n初回となる3月のゲストは、\nご自身で立ち上げた出版社「穴書」から、\n2月に自著『お金信仰さようなら』を\n出版されたヤマザキOKコンピュータさん。 \n出版社の自己紹介には、こんなことが書いてあった。 \n株式会社 穴書（あなしょ） は、あり得るかもしれない\n「もうひとつの世界」とのつながりをひらく出版社です。\n本を作ることを目的にするのではなく、\n主流文化や主流思考に対するオルタナティヴを提案し、\n行き詰まりを感じる社会や生活に対する突破口や、\n精神的な居場所となり得るものを提供したいと考えています。 \nパンクをルーツに持つヤマザキさんの\nオルタナティブという言葉は\n公園でわたしたちが考えるパブリックと\n接続する可能性があると感じている。 \nヤマザキさんは投資家でもあるが、\n今回は出版も出版もパンクについても\nハウツーの話は伺わない。 \nどんな方向に漕ぎ出していけば\nわたしたちはパブリックな未来に\n辿り着くことができそうなのか。 \nみんなそれぞれ縛られず、\nでもすこし共有していて秩序があり、\n未来をちゃんと思考する可能性を\nみんなで話し合ってみたい。 \n🚩PARK TALK 2026「自由」開催概要 \n日時：2026年3月26日(木) 19:00-21:00\n場所：URBAN PICNIC ラウンジ(神戸市中央区加納町6‐4-1 東遊園地内)\n参加費：1\,500円　※大学生以下500円、小学生以下無料\n※参加費は当日お支払いいただきます。\n定員：30名(先着順) \n🚩プログラム\n18:45　受付開始\n19:00　開講、ゲストトーク\n20:00　質疑応答①\n20:10　休憩\n20:20　参加者ディスカッション「自由とはどんな状態？」\n20:40　質疑応答②\n21:00　閉講 \n≪お申込みと参加方法について≫\nhttps://parktalk20260326.peatix.com/\n※お申し込みは、定員に達するか、イベント当日正午に締め切ります。\n※お申込み方法やイベント詳細についてのご質問は、URBANPICNIC事務局までお問い合わせください。 \nメール：info@urbanpicnic.jp（担当：稲葉）\n電話：078-515-6155(10:00-18:00)
URL:https://urbanpicnic.jp/event/parktalk20260326/
LOCATION:東遊園地\, 中央区加納町6-4\, 神戸市\, 兵庫県\, 652-0186
CATEGORIES:PARK TALK,公園で学ぶ
ATTACH;FMTTYPE=image/jpeg:https://urbanpicnic.jp/wp-content/uploads/2026/02/ヤマザキさん_.jpg
END:VEVENT
END:VCALENDAR