BEGIN:VCALENDAR
VERSION:2.0
PRODID:-//URBAN PICNIC - ECPv6.9.0//NONSGML v1.0//EN
CALSCALE:GREGORIAN
METHOD:PUBLISH
X-WR-CALNAME:URBAN PICNIC
X-ORIGINAL-URL:https://urbanpicnic.jp
X-WR-CALDESC:URBAN PICNIC のイベント
REFRESH-INTERVAL;VALUE=DURATION:PT1H
X-Robots-Tag:noindex
X-PUBLISHED-TTL:PT1H
BEGIN:VTIMEZONE
TZID:Asia/Tokyo
BEGIN:STANDARD
TZOFFSETFROM:+0900
TZOFFSETTO:+0900
TZNAME:JST
DTSTART:20260101T000000
END:STANDARD
END:VTIMEZONE
BEGIN:VEVENT
DTSTART;TZID=Asia/Tokyo:20260322T110000
DTEND;TZID=Asia/Tokyo:20260322T150000
DTSTAMP:20260420T121443
CREATED:20260310T025926Z
LAST-MODIFIED:20260317T042035Z
UID:7534-1774177200-1774191600@urbanpicnic.jp
SUMMARY:みんなのキャンパス2025
DESCRIPTION:🚩みんなのキャンパス2025　開催します。\n\n\nわたしたちは、東遊園地を‘大学のキャンパスのように市民が通い、様々な文化に出会って体験し、新しい価値を創造し交流する’「みんなのキャンパス」というビジョンを掲げて運営をしています。\n\n\nそんな私たちの「東遊園地で1日やってみたいことありませんか？」という呼びかけに\n6組が手をあげてくれました。\n\n\n小さな芝生広場が「公園の文化祭」のような風景に。\n\n\nまた、今年は『ふくふくキャンパス』と名づけた、市内の就労継続支援事業所5か所による小さなマルシェをURBAN　PICNICラウンジで同時開催します。\n\n\n年齢も性別も、色んな人が集まり、東遊園地に「やってみたい」をもちより、自分で企画・運営をします。\n\n\n「足りないくらいが、ちょうどいい」\n\n\n参加してくれる人も合わせて、「みんなのキャンパス」は完成します。\nおおらかな気持ちで、公園での一日を一緒に創ってください。\n\n\nちょっとかわいくて、ちょっと不思議な、企画や出店情報は、今週から少しずつ公開していきます。\n\n\n※参加費はほぼ無料。一部材料費ていどの有料あり。\n\n\n【開催概要】\n\n\n日時：2026年3月22日（日）11:00～15:00\n　※雨天順延　2026年3月29日（日）11:00～15:00\n\n\n開催場所：東遊園地　ガーデンステージ\n　※ふくふくキャンパスはURBAN PICNICラウンジ\n\n\nサポート企業の「株式会社村上工務店」の協力で開催します。\n\n\n【プログラム一覧】\n〜みんなのキャンパス〜\n（データを受け取った順にご紹介します）\n📻公園ラジオ\n📗ちいさな公園児童館\n🌱公園でぼっちゃ\n🫖アリスのワンダーピクニック\n🃏きまぐれゲーム部\n🍵東遊園地で野点 \n〜同時開催〜\nふくふくキャンパス\n❤️KOBE BOLEROお菓子楽団\n💚社会福祉法人クローバー会友が丘作業所\n🧡「みらいおもいけ園」「 RISUSU COFFEE ROASTERS 」「アートプロジェクトOmo!」\n🩵就労継続支援B事業所WAGOMU \nアウトドアライブラリーの本の再寄贈コーナー \n  \n●公園ラジオ\n\n企画：網ノ目\n開催時間：11:00~15:00（ちょこちょこ休憩あり）\n東遊園地で、みんなの声を集める公開ラジオごっこをします。訪れた人、企画した人、公園に関わる人など、誰でも参加OK。その場でインタビューをして、公園にまつわる想いやストーリーを公園にいる人たちへ楽しくお届けします。 \n●ちいさな公園児童館\n\n企画：ちかいしゆう\n開催時間：11:00~15:00\nピクニック気分で遊びに来てください。折り紙、コマ、シャボン玉、トランプなどを用意します、気軽に遊びに来てください。アナログレコードをかけて、小５小２の気まぐれスタッフとお待ちしてます。 \n●公園でぼっちゃ\n\n企画：ひろくん\n開催時間：11:00~15:00\nパラリンピック正式種目の「ボッチャ」は、すべての垣根をこえて誰でも出来るスポーツです。古新聞とテープで球をつくり遊びます。ご家族や友人、はじめましての人とも遊びませんか？気軽にご参加ください。 \n●アリスのワンダーピクニック\n\n企画：アリスのティーパーティー\n開催時間：11:00~15:00\nあなたのふつうがだれかの不思議。不思議がだれかの宝物。アソビビトさんは、空想ピクニックメニューのお絵描き。ヨミビトさんは、匿名参加の読み聞かせ。 芝生で自由に過ごす時間に、ちがうリズムがとけあう午後。それが、ワンダーピクニック！ \n●きまぐれゲーム部\n\n企画：みずき\n開催時間：11:00~15:00\n東遊園地の芝生の上で、きまぐれにゲーム部ひらきます。巨大トランプや坊主めくりで、童心にかえってのんびり楽しむ時間。大人も子どもも、ふらっとどうぞ。 \n●東遊園地で野点\n\n企画：つなぎ庵\n開催時間：11:00~15:00\n公園で、気軽に楽しめる2畳のお茶席を用意します。お茶席は「一期一会」。通りすがりの人もピクニック気分で「日本の文化」に触れてください。おとなもこどもも、ピクニック気分で抹茶をどうぞ。※お茶代500円 \n◾️アウトドアライブラリーの本の再寄贈コーナー\n東遊園地のURBUN PICNIC建物東側にある、誰でも手に取って本が読める「アウトドアライブラリー」\nその本たちもだいぶ傷みが出てまいりました。\n当日、こちらの本の再寄贈コーナーをご用意します。\n詳しくはこちら
URL:https://urbanpicnic.jp/event/minna-no-campus2025/
CATEGORIES:みんなのキャンパス
ATTACH;FMTTYPE=image/jpeg:https://urbanpicnic.jp/wp-content/uploads/2026/03/641088825_18567030076041426_4965651264243997558_n-e1773109313520.jpg
END:VEVENT
BEGIN:VEVENT
DTSTART;TZID=Asia/Tokyo:20260322T110000
DTEND;TZID=Asia/Tokyo:20260322T150000
DTSTAMP:20260420T121443
CREATED:20260317T013737Z
LAST-MODIFIED:20260319T000524Z
UID:7582-1774177200-1774191600@urbanpicnic.jp
SUMMARY:ふくふくキャンパス
DESCRIPTION:💖ふくふくキャンパス　開催します。\n\n\n\n昨年「ふくふくマルシェ」として開催した市内の作業所さんのスイーツマルシェを\n今年は「ふくふくキャンパス」と少し名前を変えて開催します。今年は5か所の作業所による色んな「コト」が集まります。 \n丁寧に作られたお菓子。温もりの宿る雑貨。手から手へ、想いをつなぐマルシェ。凸凹（デコボコ）があるから、おもしろい。混ざり合うから、あたたかい。 \n見て、食べて、語り合う。ここは世界で一番やさしいプレイス。 \n\n\n\n【開催概要】\n\n\n日時：2026年3月22日（日）11:00～15:00\n　※雨天順延　2026年3月29日（日）11:00～15:00\n\n\n開催場所：東遊園地URBAN PICNICラウンジ\n\n\nサポート企業の「株式会社村上工務店」の協力で開催します。\n\n【出店のみなさん】\n〜ふくふくキャンパス〜\n❤️KOBE BOLEROお菓子楽団\n💚社会福祉法人クローバー会友が丘作業所\n🧡「みらいおもいけ園」「 RISUSU COFFEE ROASTERS 」「アートプロジェクトOmo!」\n🩵就労継続支援B事業所WAGOMU\n💜就労継続支援B型事業所Combloom \n  \n★KOBE BOLEROお菓子楽団\n\n神戸・灘区で生まれたKOBE BOLEROお菓子楽団は、ボックサン監修レシピで焼き上げる手作りお菓子のお店。就労継続支援B型事業所として「自分のことは自分でできるようになる」を大切に、メンバーが心を込めて製造・販売しています。アーモンドクッキーなど、やさしく温かな味わいをぜひご賞味ください。 \n★社会福祉法人クローバー会友が丘作業所\n\n名谷駅から少し南へ…。緑豊かな所に友が丘作業所はあります。鳥のさえずりを聞きながら、毎日作業をしています。利用者さんの個性が光るさをり織りでは、利用者さん自身が糸を選びます。「この色合わせでどんな作品が仕上がるの？」と最初は想像できないのですが、出来上がった作品は、どれもいろんな色が織り重なり合って、素敵な色合いのものばかりです。焼菓子は、材料にこだわり、季節感を大切に、丁寧にひとつ一つ焼き上げています。みんなでチカラを合わせて作った製品です！ぜひ手にとってみてくださいね。 \n★「みらいおもいけ園」「 RISUSU COFFEE ROASTERS 」「アートプロジェクトOmo!」\n\nリーススコーヒーロースターズでは、自家焙煎のコーヒーを丁寧に実直に製造販売しております。新鮮でコク深い味わいをぜひ、ご堪能ください。アートプロジェクトOmo！では、日々生まれるアート作品をプロダクトに変えて販売しております。ワークショップでは、コーヒー粉を使った「粉絵アート」を行います。また、今回はギャラリー内で絵画も展示いたします。この日限りのスペシャルコンテンツをぜひ、お楽しみください。 \n★就労継続支援B事業所WAGOMU\n\nあなたのやりたい「働き」は、「学び」と「遊び」に隠れてる。日常にある小さな好奇心、好きとか嫌いとか興味ないとか。心動いた何かを知り尽くす、それは立派な冒険だ。その中にきっと、あなたがやりたい仕事が生まれます。 \n★就労継続支援B型事業所Combloom\n\nCombloom（コンブルーム）は御影にあるB型事業所です。1日1回は必ず笑う！をテーマに、日々、和気あいあいと活動しています。当日は米粉を使った焼菓子を販売いたします。米粉ならではの風味や食感をお楽しみください。 \n\n〜同時開催〜\nみんなのキャンパス2025
URL:https://urbanpicnic.jp/event/fukufuku-campus/
CATEGORIES:公園を使う
ATTACH;FMTTYPE=image/jpeg:https://urbanpicnic.jp/wp-content/uploads/2026/03/IMG_2201-scaled.jpg
END:VEVENT
END:VCALENDAR