BEGIN:VCALENDAR
VERSION:2.0
PRODID:-//URBAN PICNIC - ECPv6.9.0//NONSGML v1.0//EN
CALSCALE:GREGORIAN
METHOD:PUBLISH
X-WR-CALNAME:URBAN PICNIC
X-ORIGINAL-URL:https://urbanpicnic.jp
X-WR-CALDESC:URBAN PICNIC のイベント
REFRESH-INTERVAL;VALUE=DURATION:PT1H
X-Robots-Tag:noindex
X-PUBLISHED-TTL:PT1H
BEGIN:VTIMEZONE
TZID:Asia/Tokyo
BEGIN:STANDARD
TZOFFSETFROM:+0900
TZOFFSETTO:+0900
TZNAME:JST
DTSTART:20260101T000000
END:STANDARD
END:VTIMEZONE
BEGIN:VEVENT
DTSTART;TZID=Asia/Tokyo:20260313T140000
DTEND;TZID=Asia/Tokyo:20260313T163000
DTSTAMP:20260420T121443
CREATED:20260307T071520Z
LAST-MODIFIED:20260307T072811Z
UID:7495-1773410400-1773419400@urbanpicnic.jp
SUMMARY:Living Nature Kobe 2025年度 報告会
DESCRIPTION:まちのみどりのことを考える時間\n\n\n東遊園地の3つのガーデンをはじめ、 \n磯上公園、京町筋プロジェクト、三宮南エリアなど、 \n神戸都心には自然の景を愛でるNaturalistic Landscapingのガーデンがひろがります。 \n  \nそれぞれのガーデンを管理するのは、 \nプロのガーデナーのほか、GREEN COMMONSや \n企業の方や住んでいる方など \nさまざまな「まちのひと」。 \n  \n2025年度は、まちのみどりをみんなで育てる取り組みがさらに広がった一年でした。 \n  \n今年は、GREEN COMMONS卒業生を中心に生まれた \nみどりのコミュニティ「GC BASE」のメンバーも登壇。 \n現場で育まれてきたリアルな活動報告をお届けします。 \n  \nそして後半はトークセッション。 \n再整備が進む三宮。 \nその変化のなかで、まちのみどりはどんな役割を果たせるのか。 \n  \nつくる人、使う人、営む人。 \n立場の異なるみなさんとともに、 \nこれからの都心に必要な“みどりの風景”を探ります。 \n  \n活動報告\n\n\n　Living Nature Kobeに関する2025年度の活動報告\n　東遊園地：こうべののはら\n　市庁舎１号館前花壇\n　東遊園地：GREEN COMMONS\n　磯上公園：磯上コモンガーデン/ヒーリングガーデン\n　GREEN COMMONS NORTH\n　京町筋プロジェクト\n　神戸市公園緑化協会\n\n\nトークセッションゲスト\n　清水 陽氏（神戸市都市局都心再整備本部）\n　今津 修平氏（MuFF）\n　髙井 学氏（三宮本通商店街）\n　高坂 真悟氏（一般社団法人神戸市造園協力会）\n　藤田 毅氏（GREEN COMMONS）\n　モデレーター　楢崎英理氏（AKIND）\n\n\nLiving Nature Kobe 2025年度 報告会 開催概要\n\n\n　日時：2026年3月13日（金）14:00–16:30\n\n\n　場所：東遊園地　URBAN PICNICラウンジ\n\n\n　参加費：無料\n\n\n　定員：35名（定員に達した場合は立ち見にてご案内）\n\n\n　申込方法：下記Googleフォームからお申し込みください。\n　https://forms.gle/JMFmDqSEn6HcoMQv5\n\n\n　主催：一般社団法人リバブルシティイニシアティブ\n　@urbanpicnickobe @greencommonskobe\n\n\n　共催：神戸市建設局公園部魅力創造課\n　@livingnaturekobe
URL:https://urbanpicnic.jp/event/living-nature-kobe-2025/
CATEGORIES:公園で学ぶ
ATTACH;FMTTYPE=image/jpeg:https://urbanpicnic.jp/wp-content/uploads/2026/03/641744224_18567316699041426_5822922280035164538_n-e1772867690427.jpg
END:VEVENT
END:VCALENDAR