BEGIN:VCALENDAR
VERSION:2.0
PRODID:-//URBAN PICNIC - ECPv6.9.0//NONSGML v1.0//EN
CALSCALE:GREGORIAN
METHOD:PUBLISH
X-ORIGINAL-URL:https://urbanpicnic.jp
X-WR-CALDESC:URBAN PICNIC のイベント
REFRESH-INTERVAL;VALUE=DURATION:PT1H
X-Robots-Tag:noindex
X-PUBLISHED-TTL:PT1H
BEGIN:VTIMEZONE
TZID:Asia/Tokyo
BEGIN:STANDARD
TZOFFSETFROM:+0900
TZOFFSETTO:+0900
TZNAME:JST
DTSTART:20260101T000000
END:STANDARD
END:VTIMEZONE
BEGIN:VEVENT
DTSTART;TZID=Asia/Tokyo:20260121T190000
DTEND;TZID=Asia/Tokyo:20260121T200000
DTSTAMP:20260420T090715
CREATED:20260104T032133Z
LAST-MODIFIED:20260104T033103Z
UID:7367-1769022000-1769025600@urbanpicnic.jp
SUMMARY:「みんなのキャンパス2025」説明会のご案内
DESCRIPTION:1月21日(水)、1月25日(日)\n3月に開催予定の「みんなのキャンパス」の説明会を開催します。\n東遊園地の将来ビジョンをそのままプログラム名にした「みんなのキャンパス」\nいろんな出会いや学びが生まれ、公園を一緒に育てる市民を増やしたい。\n大学の文化祭のように、みんなで「こんなことをやってみたい」と色んな企画を東遊園地に持ち寄って、一日を楽しむ。\nそんな、みんなで創るプログラムです。 \n🌱1人ではできなくても、みんなとやればできそう\n🌱小さなアイデアだけど「公園でやってみたい企画」がある \nそんな「企画を一緒に創る人」を募集します。 \n参加を決めている方も、迷っている方もまずは「説明会」にお越しください。\nプログラムの説明をさせてもらいながら、「どんなことができるのか」「どうしていくと公園ぽい企画になるのか？」など一緒に考えていく場にします。ご参加お待ちしています！ \n \n🚩みんなのキャンパス2025　説明会開催概要\n⏱️日時\n2026年1月21日（水）19:00-19:45\n2026年1月25日（日）11:00-11:45\n※平日と休日の2回開催します。どちらも内容は一緒です。説明会に出席していただいて、参加を検討いただいても大丈夫です。 \n🏠開催場所\n東遊園地URBAN PICNIC レンタルスペース　ラウンジ \n📗説明会の内容\nみんなのキャンパス概要説明（事務局より）\n昨年のプログラム事例紹介（事務局より）\nやってみたいことを発表（参加者より） \n📍申込条件\n①開催プログラムは営利目的や、個人プロモーション目的など公園の利用に著しく反しないものとします。\n②URBANPICNICの広報（ウェブサイト、広報誌、SNS）に顔が出てもよい方。\n③主催者の年齢制限はありませんが、小学生以下の方は必ず保護者の同伴をお願いします。 \n🪾申込・問合せ\n①メール　info@urbanpicnic.jp\n②電話　078-515-6155\n③インスタグラムDM　@urbanpicnickobe \n———————————– \n🚩みんなのキャンパス2025　開催概要\n⏱️日時：2026年3月22日（日）11:00～15:00\n※雨天順延　2026年3月29日（日）11:00～15:00 \n🏡開催場所：東遊園地　ガーデンステージ \n📃その他：プログラム参加費として5\,000円（税込）を徴収させていただきます。広報費用、記録撮影費用、運営費に充当させていただきます。 \n※サポート企業の「株式会社村上工務店」の協力で開催します。
URL:https://urbanpicnic.jp/event/campus_for_everyone_2025_preworkshop01/
CATEGORIES:みんなのキャンパス,公園を使う
ATTACH;FMTTYPE=image/jpeg:https://urbanpicnic.jp/wp-content/uploads/2026/01/FullSizeRender5-scaled.jpg
END:VEVENT
END:VCALENDAR