BEGIN:VCALENDAR
VERSION:2.0
PRODID:-//URBAN PICNIC - ECPv6.9.0//NONSGML v1.0//EN
CALSCALE:GREGORIAN
METHOD:PUBLISH
X-ORIGINAL-URL:https://urbanpicnic.jp
X-WR-CALDESC:URBAN PICNIC のイベント
REFRESH-INTERVAL;VALUE=DURATION:PT1H
X-Robots-Tag:noindex
X-PUBLISHED-TTL:PT1H
BEGIN:VTIMEZONE
TZID:Asia/Tokyo
BEGIN:STANDARD
TZOFFSETFROM:+0900
TZOFFSETTO:+0900
TZNAME:JST
DTSTART:20250101T000000
END:STANDARD
END:VTIMEZONE
BEGIN:VEVENT
DTSTART;TZID=Asia/Tokyo:20251128T170000
DTEND;TZID=Asia/Tokyo:20251128T173000
DTSTAMP:20260420T052412
CREATED:20251117T034930Z
LAST-MODIFIED:20251117T035242Z
UID:7344-1764349200-1764351000@urbanpicnic.jp
SUMMARY:公募プログラム／English Meet up at the Park
DESCRIPTION:English Meet up at the Park\n11/28（金）17:00-17:30\n東遊園地でどんなことをしたら、素敵な風景ができるだろうか。東遊園地をどんなふうに使ったら、まち全体がもっと素敵になるだろうか。そんなことを考えながら、市民のみなさんで企画するのが公募プログラムです。 \n〜今回の公募プログラムは、English Meet up at the Park〜 \n子どもたちが、気軽に外国の文化に触れられる、外国の文化をもっと近くに感じられる。そういうきっかけが、公園にあったらいいな。そんな思いから生まれたプログラムです。英語の手遊びや絵本の読み聞かせ、簡単なゲームを楽しめます。公園で、外国の文化に触れてみませんか？ \n【English Meet up at the Park：開催概要】\n場所｜芝生広場\n※雨天の場合、ラウンジ(一番北側のスペース)\n参加費｜無料\n対象：お子さまと保護者の方＆どなたでも参加可能\n申込：不要\n企画｜Kobe English Academy
URL:https://urbanpicnic.jp/event/koubo-englishmeetupatthepark-3/
CATEGORIES:公園を使う
ATTACH;FMTTYPE=image/jpeg:https://urbanpicnic.jp/wp-content/uploads/2025/06/PXL_20241108_0632277382-scaled.jpg
END:VEVENT
END:VCALENDAR