BEGIN:VCALENDAR
VERSION:2.0
PRODID:-//URBAN PICNIC - ECPv6.9.0//NONSGML v1.0//EN
CALSCALE:GREGORIAN
METHOD:PUBLISH
X-WR-CALNAME:URBAN PICNIC
X-ORIGINAL-URL:https://urbanpicnic.jp
X-WR-CALDESC:URBAN PICNIC のイベント
REFRESH-INTERVAL;VALUE=DURATION:PT1H
X-Robots-Tag:noindex
X-PUBLISHED-TTL:PT1H
BEGIN:VTIMEZONE
TZID:Asia/Tokyo
BEGIN:STANDARD
TZOFFSETFROM:+0900
TZOFFSETTO:+0900
TZNAME:JST
DTSTART:20250101T000000
END:STANDARD
END:VTIMEZONE
BEGIN:VEVENT
DTSTART;TZID=Asia/Tokyo:20251118T130000
DTEND;TZID=Asia/Tokyo:20251118T133000
DTSTAMP:20260420T052413
CREATED:20251108T095350Z
LAST-MODIFIED:20251117T033458Z
UID:7322-1763470800-1763472600@urbanpicnic.jp
SUMMARY:公募プログラム／絵本とわらべうた
DESCRIPTION:絵本とわらべうた\n11/18（火）13:00-13:30\n東遊園地でどんなことをしたら、素敵な風景ができるだろうか。東遊園地をどんなふうに使ったら、まち全体がもっと素敵になるだろうか。そんなことを考えながら、市民のみなさんで企画するのが公募プログラムです。 \n〜今回の公募プログラムは、絵本とわらべうた〜\n古来から日本で大切にされてきた遊び、わらべうた。実は、お母さんの心拍数に合わせたリズムになっていたりなど、子どもたちにとっては良いことばかりなツールです。心地よい風に吹かれながら、絵本とわらべうたを楽しんでみませんか？ \n【絵本とわらべうた：開催概要】\n場所｜芝生広場\n※雨天の場合、開催可否は前日にお知らせいたします。\n参加費｜無料\n対象｜どなたでも大歓迎\n申込｜不要\n企画｜NPO法人「絵本で子育て」センター神戸支部　てるてるぼうず
URL:https://urbanpicnic.jp/event/koubo-ehontowarabeuta-2/
CATEGORIES:公園を使う
ATTACH;FMTTYPE=image/png:https://urbanpicnic.jp/wp-content/uploads/2025/11/d4cbc9567bf06621080ecfe5cc652ec5.png
END:VEVENT
END:VCALENDAR