BEGIN:VCALENDAR
VERSION:2.0
PRODID:-//URBAN PICNIC - ECPv6.9.0//NONSGML v1.0//EN
CALSCALE:GREGORIAN
METHOD:PUBLISH
X-ORIGINAL-URL:https://urbanpicnic.jp
X-WR-CALDESC:URBAN PICNIC のイベント
REFRESH-INTERVAL;VALUE=DURATION:PT1H
X-Robots-Tag:noindex
X-PUBLISHED-TTL:PT1H
BEGIN:VTIMEZONE
TZID:Asia/Tokyo
BEGIN:STANDARD
TZOFFSETFROM:+0900
TZOFFSETTO:+0900
TZNAME:JST
DTSTART:20250101T000000
END:STANDARD
END:VTIMEZONE
BEGIN:VEVENT
DTSTART;TZID=Asia/Tokyo:20251102T133000
DTEND;TZID=Asia/Tokyo:20251102T150000
DTSTAMP:20260420T034542
CREATED:20251028T025501Z
LAST-MODIFIED:20251028T025942Z
UID:7310-1762090200-1762095600@urbanpicnic.jp
SUMMARY:みんなでつくる生き物のすみか
DESCRIPTION:東遊園地に関するあれこれを調べてみる。\nインタビューをしたり、自然を観察したり。\n調査して、東遊園地のことをもっともっと深く知る。\nそれが、公園調査部会です。\n調査員の1人、幼いころから東遊園地で遊ぶのが大好きだったという小学6年生のしょうたくんは、昨年9月から、東遊園地にあるビオトープ池について調査を続けています。\nしょうたくんによると、東遊園地のビオトープ池では、リニューアルの前後で、ザリガニをはじめ、動物たちの姿を見ることが減ってしまったそうです。 \n生き物が減ってしまったのはどうしてだろう？\n生き物に戻ってきてもらうために、できることは何だろう？\nそんなことを考えながら、ビオトープ池を舞台に、「公園の自然を育てる」取り組みを進めています！\n今回は、新生田川の植物を東遊園地へ補植しながら、未来の池マップづくりを行います。ご参加、お待ちしています！ \n【開催概要】\n日　時｜ 2025年11月2日（日）13:30～15:00\n場　所｜ 東遊園地　ビオトープ池（園地西側やや南より）\n参加方法｜ 参加自由（申込不要）\n持ち物｜\n・汚れてもいい服装\n・厚手のゴム手袋\n・長靴\n・飲み物\n・スコップ（持っている人）\n注意事項｜\n・池の中に入って作業をします。お子さまが参加される場合は、可能な限り保護者の同伴をお願いいたします。\n・安全管理のため、受付時に参加者全員の「名前・住所・電話番号」をお伺いします。\n・保護者の同伴がない場合は、お子さま自身がその情報を伝えられるようにしておいてください。
URL:https://urbanpicnic.jp/event/biotope-2/
CATEGORIES:公園で学ぶ,公園で遊ぶ
ATTACH;FMTTYPE=image/jpeg:https://urbanpicnic.jp/wp-content/uploads/2025/05/IMG_6209-scaled.jpg
END:VEVENT
END:VCALENDAR