BEGIN:VCALENDAR
VERSION:2.0
PRODID:-//URBAN PICNIC - ECPv6.9.0//NONSGML v1.0//EN
CALSCALE:GREGORIAN
METHOD:PUBLISH
X-WR-CALNAME:URBAN PICNIC
X-ORIGINAL-URL:https://urbanpicnic.jp
X-WR-CALDESC:URBAN PICNIC のイベント
REFRESH-INTERVAL;VALUE=DURATION:PT1H
X-Robots-Tag:noindex
X-PUBLISHED-TTL:PT1H
BEGIN:VTIMEZONE
TZID:Asia/Tokyo
BEGIN:STANDARD
TZOFFSETFROM:+0900
TZOFFSETTO:+0900
TZNAME:JST
DTSTART:20250101T000000
END:STANDARD
END:VTIMEZONE
BEGIN:VEVENT
DTSTART;TZID=Asia/Tokyo:20250829T180000
DTEND;TZID=Asia/Tokyo:20250829T193000
DTSTAMP:20260420T003134
CREATED:20250815T051510Z
LAST-MODIFIED:20250815T051510Z
UID:7144-1756490400-1756495800@urbanpicnic.jp
SUMMARY:芝生の演奏会 ／PEPE Django
DESCRIPTION:8/29fri. PEPE Django\n金曜の夜、週末を前に少しわくわくする時間に音楽の彩りを。 \n芝生の演奏会は、東遊園地にある小さな芝生のステージ 「ガーデンステージ」で毎月2回開催する、インストゥルメンタルの演奏会です。公園でドリンクを片手に、奏でられる音を楽しみましょう。\n今回は、SaxとGuitarによるJazzyでFunkyでSoulfulな熱い演奏をお届けします。 \n【芝生の演奏会 開催概要】\n日時：2025年8月29日(金)\n1stステージ：18:00-18:30\n2ndステージ：19:00-19:30\n場所：東遊園地　ガーデンステージ（※雨天：park kitchen WEEKENDにて開催）\n兵庫県神戸市中央区加納町6-4-1　東遊園地内\n料金：無料・申込不要\n主催：URBAN PICNIC（一般社団法人リバブルシティイニシアティブ） \n【アーティスト紹介】\n◾️PEPE Django\n大阪南部出身のSaxとGuitarによる、哀愁のダウンタウンデュオ。 大人なアコースティックユニットと思いきや、Jazzy\,Funky\,Soulful\,をベースに、熱く、力強く、そしてどこか懐かしい、男溢れるステージを繰り広げる。 全国の各種イベントに数多く出演中。
URL:https://urbanpicnic.jp/event/lawn-concert-2508-1/
CATEGORIES:芝生の演奏会
ATTACH;FMTTYPE=image/jpeg:https://urbanpicnic.jp/wp-content/uploads/2025/08/527360504_2540870202919487_2913666907272693049_n.jpg
END:VEVENT
END:VCALENDAR