BEGIN:VCALENDAR
VERSION:2.0
PRODID:-//URBAN PICNIC - ECPv6.9.0//NONSGML v1.0//EN
CALSCALE:GREGORIAN
METHOD:PUBLISH
X-WR-CALNAME:URBAN PICNIC
X-ORIGINAL-URL:https://urbanpicnic.jp
X-WR-CALDESC:URBAN PICNIC のイベント
REFRESH-INTERVAL;VALUE=DURATION:PT1H
X-Robots-Tag:noindex
X-PUBLISHED-TTL:PT1H
BEGIN:VTIMEZONE
TZID:Asia/Tokyo
BEGIN:STANDARD
TZOFFSETFROM:+0900
TZOFFSETTO:+0900
TZNAME:JST
DTSTART:20250101T000000
END:STANDARD
END:VTIMEZONE
BEGIN:VEVENT
DTSTART;TZID=Asia/Tokyo:20250809T100000
DTEND;TZID=Asia/Tokyo:20250809T120000
DTSTAMP:20260420T003132
CREATED:20250801T051635Z
LAST-MODIFIED:20250801T051940Z
UID:7131-1754733600-1754740800@urbanpicnic.jp
SUMMARY:アウトドアライブラリーのメンテナンスに参加してみませんか？
DESCRIPTION:ハッピーライブラリータイムをご一緒に。\nアウトドアライブラリーの\nメンテナンスに参加してみませんか？ \nアウトドアライブラリーは、\nURBAN PICNICの東側（屋外）にある、\nみんなの想いがあつまる図書館です。 \n2016年の社会実験開始時から 1 人 1 冊を選んで\n寄贈いただいた想いのこもった本が配架されています。 \n配架されている本は、\n公園のなかで自由に読むことができます。 \n親子で楽しむ絵本の時間、\nゆったり過ごすランチタイムのお供など、\n公園のなかにある図書館の本は、\n毎日さまざまな方に読まれています。 \nアウトドアライブラリーはたくさんの方が\n本を手に取りやすい環境である反面、\n太陽の光や風の影響で、本が痛みやすい環境でもあります。 \nそんな環境だからこそ、偶数月の第2土曜日に\n配架されている本のメンテナンスをしています。 \nフィルムを貼りなおしたり、\n本についているメッセージカードの修繕をしたり。 \n想いのこもった本を、\n１冊ずつ大切に、メンテナンスを行います。 \n公園の新緑を眺めながら、\n一緒に本のメンテナンスをしませんか。 \n何時に来ても、何時に帰っても、大丈夫です。\nご自由に参加してください。 \nメンテナンスグッズもこちらで用意しますので、\n手ぶらでどうぞ。 \nご参加、お待ちしています。 \n■概要\n日時：2025年8月9日（土）10：00-12：00\n場所：URBAN PICNIC　ラウンジ\n住所：神戸市中央区加納町6丁目4-1\nその他：\n・初めてましての方は申込推奨です。\n（当日参加も可能です。）\n・申込はinfo@urbanpicnic.jpまでご連絡ください。\n・当日参加希望の方は、URBAN PICNIC東側にあるインフォ窓口までお越しください。\n・場所がわからない方は、078-515-6155までお電話ください。
URL:https://urbanpicnic.jp/event/ol-maintenance1/
CATEGORIES:公園で読む
ATTACH;FMTTYPE=image/jpeg:https://urbanpicnic.jp/wp-content/uploads/2024/02/book.jpg
END:VEVENT
END:VCALENDAR