BEGIN:VCALENDAR
VERSION:2.0
PRODID:-//URBAN PICNIC - ECPv6.9.0//NONSGML v1.0//EN
CALSCALE:GREGORIAN
METHOD:PUBLISH
X-WR-CALNAME:URBAN PICNIC
X-ORIGINAL-URL:https://urbanpicnic.jp
X-WR-CALDESC:URBAN PICNIC のイベント
REFRESH-INTERVAL;VALUE=DURATION:PT1H
X-Robots-Tag:noindex
X-PUBLISHED-TTL:PT1H
BEGIN:VTIMEZONE
TZID:Asia/Tokyo
BEGIN:STANDARD
TZOFFSETFROM:+0900
TZOFFSETTO:+0900
TZNAME:JST
DTSTART:20250101T000000
END:STANDARD
END:VTIMEZONE
BEGIN:VEVENT
DTSTART;TZID=Asia/Tokyo:20250714T180000
DTEND;TZID=Asia/Tokyo:20250714T190000
DTSTAMP:20260419T225438
CREATED:20250611T023853Z
LAST-MODIFIED:20250611T024141Z
UID:6992-1752516000-1752519600@urbanpicnic.jp
SUMMARY:公募プログラム／絵本の夕べ
DESCRIPTION:絵本の夕べ\n7/14（月）18:00-19:00\n東遊園地でどんなことをしたら、素敵な風景ができるだろうか。東遊園地をどんなふうに使ったら、まち全体がもっと素敵になるだろうか。そんなことを考えながら、市民のみなさんで企画するのが公募プログラムです。 \n〜今回の公募プログラムは、絵本の夕べ〜\n大人の方向けに、絵本を音読したり、ゆったりおしゃべりしたり。夕暮れどきの公園で、穏やかに過ごせるプログラムです。\n週初めの少し憂鬱な気持ちも、公園に立ち寄って穏やかに過ごしたら、明日からまた頑張れるはず。ふらりと、ご参加ください。 \n【絵本の夕べ：開催概要】\n場所｜ガーデンステージ（小さい方の芝生）\n※雨天の場合、開催可否は前日にお知らせいたします。\n参加費｜無料\n対象｜どなたでも大歓迎\n主に大人の方を想定していますが、お子さまの参加も可能です。\n申込｜不要\n企画｜セイラ＆やっくん
URL:https://urbanpicnic.jp/event/koubo-ehonnoyube-3/
CATEGORIES:公園を使う
ATTACH;FMTTYPE=image/jpeg:https://urbanpicnic.jp/wp-content/uploads/2025/05/IMG_5843-scaled.jpeg
END:VEVENT
END:VCALENDAR