BEGIN:VCALENDAR
VERSION:2.0
PRODID:-//URBAN PICNIC - ECPv6.9.0//NONSGML v1.0//EN
CALSCALE:GREGORIAN
METHOD:PUBLISH
X-WR-CALNAME:URBAN PICNIC
X-ORIGINAL-URL:https://urbanpicnic.jp
X-WR-CALDESC:URBAN PICNIC のイベント
REFRESH-INTERVAL;VALUE=DURATION:PT1H
X-Robots-Tag:noindex
X-PUBLISHED-TTL:PT1H
BEGIN:VTIMEZONE
TZID:Asia/Tokyo
BEGIN:STANDARD
TZOFFSETFROM:+0900
TZOFFSETTO:+0900
TZNAME:JST
DTSTART:20250101T000000
END:STANDARD
END:VTIMEZONE
BEGIN:VEVENT
DTSTART;TZID=Asia/Tokyo:20250606T180000
DTEND;TZID=Asia/Tokyo:20250606T193000
DTSTAMP:20260419T212405
CREATED:20250523T031024Z
LAST-MODIFIED:20250603T025604Z
UID:6754-1749232800-1749238200@urbanpicnic.jp
SUMMARY:芝生の演奏会／米田あゆ × 安田皓誠
DESCRIPTION:6/6fri. 米田あゆ × 安田皓誠\n金曜の夜、週末を前に少しわくわくする時間。\n芝生の演奏会は、東遊園地にある小さな芝生のステージ「ガーデンステージ」で開催する、インストゥルメンタルの演奏会です。\n今回6月6日にお越しいただくのは、米田あゆさん、安田皓誠さんのお二人です。夜空を眺めながら、ドリンクを片手に、Jazzyな夜を楽しみましょう。 \n【芝生の演奏会 開催概要】\n日時：2025年6月6日(金)\n1stステージ：18:00-18:30\n2ndステージ：19:00-19:30\n場所：東遊園地　ガーデンステージ（※雨天時：ラウンジにて開催）\n兵庫県神戸市中央区加納町6-4-1　東遊園地内\n料金：無料・申込不要\n主催：URBAN PICNIC（一般社団法人リバブルシティイニシアティブ） \n【アーティスト紹介】\n■米田あゆ 神戸市出身。13歳よりサックスを始める。高校時代ジャズに出会いその魅力に惹かれビックバンドで演奏を始める。その後大阪音楽大学ジャズコースに進学。卒業後は関西を中心に自己のカルテットや様々なバンドに所属し活動を行っている。これまでに、河村英樹氏、土岐英史氏、横山未希氏の各氏に、クラシックを飯守伸二氏に師事。Seiko Summer Jazz Camp2022に参加。 2023年に1st Album『Reminisce』をリリース。\n \n■安田皓誠 2001年大阪府生まれ。 3歳からエレクトーンを習い始める。 10歳の時、小曽根真氏の演奏に感銘を受け、ジャズピアニストを志す。 中学生の頃から本格的にジャズを始め、ジャズクラブ各所でのセッションに参加する。 高校生の時からライブ活動を開始し、現在はJazz Club GALLON、JazzOnTop ACTⅢ、など、大阪の主要ジャズクラブに出演している。
URL:https://urbanpicnic.jp/event/lawn-concert-2506-1/
CATEGORIES:芝生の演奏会
ATTACH;FMTTYPE=image/png:https://urbanpicnic.jp/wp-content/uploads/2025/05/名称未設定のデザイン.png
END:VEVENT
END:VCALENDAR