BEGIN:VCALENDAR
VERSION:2.0
PRODID:-//URBAN PICNIC - ECPv6.9.0//NONSGML v1.0//EN
CALSCALE:GREGORIAN
METHOD:PUBLISH
X-ORIGINAL-URL:https://urbanpicnic.jp
X-WR-CALDESC:URBAN PICNIC のイベント
REFRESH-INTERVAL;VALUE=DURATION:PT1H
X-Robots-Tag:noindex
X-PUBLISHED-TTL:PT1H
BEGIN:VTIMEZONE
TZID:Asia/Tokyo
BEGIN:STANDARD
TZOFFSETFROM:+0900
TZOFFSETTO:+0900
TZNAME:JST
DTSTART:20250101T000000
END:STANDARD
END:VTIMEZONE
BEGIN:VEVENT
DTSTART;TZID=Asia/Tokyo:20251003T000000
DTEND;TZID=Asia/Tokyo:20251019T000000
DTSTAMP:20260420T021435
CREATED:20251001T091826Z
LAST-MODIFIED:20251005T131433Z
UID:7224-1759449600-1760832000@urbanpicnic.jp
SUMMARY:GREEN MARKET 2025 Autumnフォトコンテスト
DESCRIPTION:テーマ：植物のある暮らし \n植物を育てる。\n植物と暮らす。\n植物とつながる。 \n土にふれたときの、ふっと心がほどける感覚。\n部屋のすみに佇むグリーン。\nプレゼントにもらった花束を花器にいけているとき。 \n植物のある暮らしのなかには、人との記憶や、自分らしさを感じる瞬間がそっとあります。あなたの日常の中にある、植物とのやさしい時間を、写真におさめてみませんか？そんなすてきな作品をお待ちしております。 \n｜応募方法｜\nInstagramに投稿して応募するフォトコンテストです。\n:1:　Instagramで @greenmarket.eastpark をフォロー\n:2:　投稿写真に @greenmarket.eastpark をメンション\n:3:　ハッシュタグ 「#グリーンマーケットフォトコン2025」 と、エントリーしたい部門 「#育てる部門」、「#暮らす部門」、「#つながる部門」のいずれかをつけて投稿\n:4:　写真のタイトルやエピソードを記入。あなたと植物とのお話を聞かせてください。\n※1人何点でも応募可（1投稿1枚まで）\n※ストーリーズではエントリーとなりません。ご注意ください。\n｜募集期間｜\n2025年10月3日(金) 〜 10月18日(土) \n｜結果発表｜\n2025年10月25日\n当アカウントと神戸・東遊園地のグリーンマーケット会場（入賞写真展示） \n  \n｜３つの部門とプレゼント｜ \n育てる部門\n育てることが喜びであり楽しみ。\nそんなシーンを伝える作品。\nプレゼント：ルーツポーチ５点セット　５名様 \n\n \n  \n暮らす部門\nグリーンがそばにあること、グリーンが近くにあり心地いい様子はどんな風景ですか。\nそんな、植物と暮らす心地よさを伝える作品。\nプレゼント：淡路島｜ミナトノミナト宿泊券（5名様まで宿泊可） 1名様 \n\n \n  \nつながる部門\n沿道でいつも見送ってくれる木々、毎年出会う花、\nまた、植物が人と人をつなぐ様子を伝えるような作品。\nプレゼント：神戸市兵庫区｜食べる植物園お食事券5\,000円 10名様 \n \n \n――― \n  \n特別賞　LOVEGREEN賞\nすべてのご応募の中から、ボタニカル専門のWEBメディアLOVEGREEN編集スタッフが素敵だと感じた作品を投稿いただいた1名の方にムーミン×LOVEGREEN特製ガーデニングバッグをプレゼント。 \n\n<!doctype html> \n\n\n\n\n\nフォトコンテスト 応募要項 \n\n\n \n\nフォトコンテスト 応募要項\n\n\n      応募期間＋ \n\n2025年10月3日～10月18日 \n \n\n\n      入選者への通知＋ \n\n2025年10月20日頃。 \n \n\n\n      結果発表＋ \n\n2025年10月25日　当アカウントと神戸東遊園地のグリーンマーケット会場（入賞写真展示） \n \n\n\n      応募資格＋ \n\n\nInstagramアカウントをお持ちの個人の方。\nアカウントを公開設定にして、ダイレクトメッセージを受け取れる設定にしていること。\n日本国内在住で、賞品の発送先が日本国内の方。\n応募方法・規約に従い、応募ができること。\n\n\n\n      応募規約＋ \n\n\n入賞者には弊社公式InstagramアカウントからDMをお送りいたします。その際、ご住所、お名前、お電話番号等をお伺いいたします。\n入賞の通知から期日までにご連絡のない場合は入賞を取り消しとさせていただきます。\nご応募いただいた投稿の中から、当アカウントの投稿や公式サイトのニュースリリースやイベント等にて、お写真をご紹介させていただく場合がございます。\n写真画像に応募者以外の人物が写っている場合は、その方（未成年の場合は保護者）の承諾を得た上で応募してください。\n写真画像には住所や氏名等の個人情報、政治的または性的表現、法令または公序良俗に反する表現が含まれないようにしてください。\n本コンテストは、やむを得ない事情により中止または内容が変更となる場合がございますので、あらかじめご了承ください。\n\n\n\n      お問い合わせ＋ \n\nコンテストに関するお問い合わせは、以下までお願いいたします。 \ninfo@urbanpicnic.jp
URL:https://urbanpicnic.jp/event/green-market-2025-autumn-photo-contest/
CATEGORIES:GREEN MARKET
ATTACH;FMTTYPE=image/png:https://urbanpicnic.jp/wp-content/uploads/2025/10/GM2025秋フォトコン.png
END:VEVENT
BEGIN:VEVENT
DTSTART;TZID=Asia/Tokyo:20251003T180000
DTEND;TZID=Asia/Tokyo:20251003T200000
DTSTAMP:20260420T021435
CREATED:20250926T075259Z
LAST-MODIFIED:20251010T060144Z
UID:7210-1759514400-1759521600@urbanpicnic.jp
SUMMARY:芝生の演奏会 Night Picnic特別編 ／ 橋本次郎 – shared by 和田興産株式会社
DESCRIPTION:10/3 fri. 橋本次郎\n金曜の夜、週末を前に少しわくわくする時間に音楽の彩りを。 \n芝生の演奏会は、東遊園地にある小さな芝生のステージ 「ガーデンステージ」で毎月2回開催する、インストゥルメンタルの演奏会です。公園でドリンクを片手に、奏でられる音を楽しみましょう。\n今回は、Night Picnicとの特別編、Landscape-like soundをお届けします。 \n-sound picnic-東遊園地のふたつのエリアに、神戸の海と山の音が響きます。公園をめぐると、波の音や鳥の声など、さまざまな音の風景に出会えます。自然の響きと街のざわめきが重なり合い、夜の東遊園地にひとつのハーモニーが生まれます。音に耳を澄ませながら、神戸の豊かさを味わい、夜をゆったり過ごすひとときです。 \n【芝生の演奏会 開催概要】\n日時：2025年10月3日(金)\n18:00-20:00\n場所：東遊園地　ガーデンステージ\n兵庫県神戸市中央区加納町6-4-1　東遊園地内\n料金：無料・申込不要\n主催：URBAN PICNIC（一般社団法人リバブルシティイニシアティブ）\n協賛：和田興産株式会社 \n【アーティスト紹介】\n◾️橋本次郎　音楽家 / サウンド・アーティスト\n楽曲や音を主軸としたアート作品のほか、ある土地の文化や歴史、風土を背景とした「象徴的な音」をテーマに各地でフィールドレコーディングを行い、そこで聴こえるサウンドスケープ（音風景）をモチーフとした作品を制作している。\nhttp://zeit-label.com
URL:https://urbanpicnic.jp/event/lawn-concert-2510-1/
CATEGORIES:芝生の演奏会
ATTACH;FMTTYPE=image/jpeg:https://urbanpicnic.jp/wp-content/uploads/2025/09/5f533052-2471-4f26-b0b6-a7c4470cc90d.jpeg
END:VEVENT
BEGIN:VEVENT
DTSTART;TZID=Asia/Tokyo:20251017T180000
DTEND;TZID=Asia/Tokyo:20251017T200000
DTSTAMP:20260420T021435
CREATED:20251010T032143Z
LAST-MODIFIED:20251010T060047Z
UID:7258-1760724000-1760731200@urbanpicnic.jp
SUMMARY:芝生の演奏会 Night Picnic特別編 ／ Chie Otomi – shared by 和田興産株式会社
DESCRIPTION:10/17 fri. Chie Otomi\n金曜の夜、週末を前に少しわくわくする時間に音楽の彩りを。 \n芝生の演奏会は、東遊園地にある小さな芝生のステージ 「ガーデンステージ」で毎月2回開催する、インストゥルメンタルの演奏会です。公園でドリンクを片手に、奏でられる音を楽しみましょう。\n今回は、Night Picnicとの特別編、Landscape-like soundをお届けします。 \n【芝生の演奏会 開催概要】\n日時：2025年10月17日(金) 18:00-20:00\n場所：東遊園地　ガーデンステージ\n兵庫県神戸市中央区加納町6-4-1　東遊園地内\n料金：無料・申込不要\n主催：URBAN PICNIC（一般社団法人リバブルシティイニシアティブ）\n協賛：和田興産株式会社 \n【アーティスト紹介】\n◾️Chie Otomi\n大阪を拠点に活動する電子音楽家。\n関西のアンビエント・エクスペリメンタルレーベル”Muzan Editions”からいくつかのアルバムをリリースしています。
URL:https://urbanpicnic.jp/event/lawn-concert-2510-2/
CATEGORIES:芝生の演奏会
ATTACH;FMTTYPE=image/jpeg:https://urbanpicnic.jp/wp-content/uploads/2025/10/about_23-e1760067600727.jpg
END:VEVENT
BEGIN:VEVENT
DTSTART;TZID=Asia/Tokyo:20251020T180000
DTEND;TZID=Asia/Tokyo:20251020T190000
DTSTAMP:20260420T021435
CREATED:20251014T020922Z
LAST-MODIFIED:20251014T020922Z
UID:7272-1760983200-1760986800@urbanpicnic.jp
SUMMARY:公募プログラム／絵本の夕べ
DESCRIPTION:絵本の夕べ\n10/20（月）18:00-19:00\n東遊園地でどんなことをしたら、素敵な風景ができるだろうか。東遊園地をどんなふうに使ったら、まち全体がもっと素敵になるだろうか。そんなことを考えながら、市民のみなさんで企画するのが公募プログラムです。 \n〜今回の公募プログラムは、絵本の夕べ〜\n大人の方向けに、絵本を音読したり、ゆったりおしゃべりしたり。夕暮れどきの公園で、穏やかに過ごせるプログラムです。\n週初めの少し憂鬱な気持ちも、公園に立ち寄って穏やかに過ごしたら、明日からまた頑張れるはず。ふらりと、ご参加ください。 \n【絵本の夕べ：開催概要】\n場所｜ガーデンステージ（小さい方の芝生）\n※雨天の場合、開催可否は前日にお知らせいたします。\n参加費｜無料\n対象｜どなたでも大歓迎\n主に大人の方を想定していますが、お子さまの参加も可能です。\n申込｜不要\n企画｜セイラ＆やっくん
URL:https://urbanpicnic.jp/event/koubo-ehonnoyube-4/
CATEGORIES:公園を使う
ATTACH;FMTTYPE=image/jpeg:https://urbanpicnic.jp/wp-content/uploads/2025/05/IMG_5843-scaled.jpeg
END:VEVENT
BEGIN:VEVENT
DTSTART;TZID=Asia/Tokyo:20251022T183000
DTEND;TZID=Asia/Tokyo:20251022T193000
DTSTAMP:20260420T021435
CREATED:20251014T021806Z
LAST-MODIFIED:20251014T021806Z
UID:7276-1761157800-1761161400@urbanpicnic.jp
SUMMARY:公募プログラム／かんたんサルサ
DESCRIPTION:かんたんサルサ\n10/22（水）18:30-19:30\n東遊園地でどんなことをしたら、素敵な風景ができるだろうか。東遊園地をどんなふうに使ったら、まち全体がもっと素敵になるだろうか。そんなことを考えながら、市民のみなさんで企画するのが公募プログラムです。 \n〜今回の公募プログラムは、かんたんサルサ〜\nラテンの音楽に合わせて、陽気にステップを踏むペアダンス「サルサ」。ペアダンスと言っても、このプログラムはステップもシンプルで、ひとりでも気軽に楽しめる内容です。音楽が流れる芝生のうえで、自然にからだが揺れる時間。そんなひとときが、きっと、日常のなかの“平和”を感じさせてくれるはずです。お仕事帰りや学校帰り、お子さま連れの方も気軽にご参加ください。 \n【かんたんサルサ：開催概要】\n場所｜ガーデンステージ（小さい方の芝生）\n※雨天の場合、ラウンジ(一番北側のスペース)\n参加費｜無料\n対象｜どなたでも大歓迎\n申込｜不要\nその他｜動きやすい服装がおすすめです。\n企画｜サルサダンサーJ
URL:https://urbanpicnic.jp/event/koubo-kantansalsa-3/
CATEGORIES:公園を使う
ATTACH;FMTTYPE=image/jpeg:https://urbanpicnic.jp/wp-content/uploads/2025/07/IMG_6717.jpg
END:VEVENT
BEGIN:VEVENT
DTSTART;TZID=Asia/Tokyo:20251024T063000
DTEND;TZID=Asia/Tokyo:20251024T191500
DTSTAMP:20260420T021435
CREATED:20251014T023933Z
LAST-MODIFIED:20260323T020051Z
UID:7280-1761287400-1761333300@urbanpicnic.jp
SUMMARY:公募プログラム／花金YOGA
DESCRIPTION:花金YOGA\n10/24（金）18:30-19:15\n東遊園地でどんなことをしたら、素敵な風景ができるだろうか。東遊園地をどんなふうに使ったら、まち全体がもっと素敵になるだろうか。そんなことを考えながら、市民のみなさんで企画するのが公募プログラムです。 \n〜今回の公募プログラムは、花金YOGA〜\n週末を控えた金曜日の夜。1週間がんばった身体を労わるように、芝生のうえでのんびりYOGAを楽しむプログラム。会社や学校帰りの方はもちろん、お子さま連れの方のご参加も大歓迎です。ふらりと、お立ち寄りください。 \n【花金YOGA：開催概要】\n場所｜ガーデンステージ（小さい方の芝生）\n※雨天の場合、ラウンジ(一番北側のスペース)\n参加費｜無料\n対象｜どなたでも大歓迎\n申込｜当日参加可・申し込み推奨\n・ヨガマットレンタルあり（先着順：有料300円）\n・申し込みは\n@aya_kayazono さんのインスタグラムをご確認ください\n企画｜Kayazono Aya
URL:https://urbanpicnic.jp/event/koubo-hanakinyoga-6/
CATEGORIES:公園を使う
ATTACH;FMTTYPE=image/jpeg:https://urbanpicnic.jp/wp-content/uploads/2025/05/IMG_6094-scaled.jpeg
END:VEVENT
BEGIN:VEVENT
DTSTART;TZID=Asia/Tokyo:20251025T080000
DTEND;TZID=Asia/Tokyo:20251025T170000
DTSTAMP:20260420T021435
CREATED:20251003T040503Z
LAST-MODIFIED:20251008T083404Z
UID:7242-1761379200-1761411600@urbanpicnic.jp
SUMMARY:GREEN MARKET 2025 Autumn
DESCRIPTION:植物と人とが近づける場所、東遊園地。\n10月25日、GREEN MARKET 開催します。 \nGREEN MARKET は、日ごろから植物を暮らしに取り入れるカルチャーを提案するマーケット。花やみどりの生産者や個性的な園芸店、素材にこだわっ た食品や雑貨、古書など魅力的なお店が一同に会し、植物のある 豊かな暮らしを伝えます。 \nまた、会場となる東遊園地は、自然の景を創出するNaturalistic landscapingの手法で構成されたガーデンがあり、ガーデナーや ボランティアが連携し、まちのみどりを支えています。 \n植物のある豊かな暮らしと街。 \nこれを伝え、そのムーブメントをみんなと考える一日です。 \n2025 Autumn のテーマは「循環」。 \nつくる人とつかう人、自然と街、日々の暮らしと未来―\nそのつながりはめぐりめぐって、日常に小さな豊かさをもたらし、次の世代へ受け継がれていきます。 \n種や苗が育ち、やがてまた次の種となるように。\n落ち葉や野菜くずが土に還り、新しい花を育む力になるように。\n植物を分け合い、暮らしのアイデアを交換しながら、人と人ともつながっていくように。 \n自然とともにめぐる暮らしのかたちを、ここで感じてみてください。\nあなたのささやかな関わりが、この循環を育む力になります。 \n🌱 \n| GREEN MARKET 2025 Autumn 概要 | \n日時\n2025年10月25日(土)10:00-16:00\n※雨天の場合、10月26日(日)に延期開催 \n場所\n東遊園地\n（神戸市中央区加納町6-4） \n出店者のみなさん（五十音順） \n🌿Plants and flowers \n👨‍🌾生産者のみなさん_______________\nherva｜ハーブ栽培\nlucky hill fruit farm｜いちじく根域栽培\nmoromoro garden｜ハーブ栽培\nシャンデエルブ｜ハーブ、野菜栽培\nテラゲンファーム｜養蜂、野菜・果樹栽培\n_______________________________ \nantique totto｜ミニ盆栽、アンティーク\nHERB SHOP｜ハーブ、アロマ、蒸留デモンストレーション\nHOME&PLANTS｜観葉植物\ntlahus｜樹木、北欧雑貨\nvalon tila｜生花・EAST PARK FLOWERS\nVESTITA｜生花・EAST PARK FLOWERS\nデラプランタ・レイノ｜観葉植物\nビカクモノ｜観葉植物（ビカクシダ）\n二楽園｜観葉植物、雑貨\n鈴蘭園｜花苗 \n🪵Goods\nAasha｜植物でつくる財布\nFUJIKO｜マクラメ\nHORT｜パロサント\nsoso｜天然木と岩絵具のアクセサリー\nWalnut & Co.｜ルーツポーチ\n地球Labo｜コンポスト \n🥪Foods\nADASTRA Café｜軽食\nbirica COFFEE & FRESHVEGS｜軽食\nborage(ボリジ)｜軽食・焼菓子\nCHiQ｜グルテンフリーのパン\nRAGI｜天然酵母のパン\nよなよなドーナッツ｜植物、米粉とおからのお菓子\nレピス｜焼菓子・瓶詰\n萩原珈琲｜コーヒー、ドリンク \n📚Books\nhoneycombBOOKS*\n蚊帳文庫\n百窓文庫・実験花壇百庭 \n🎨Workshop\nおさんぽアロマテラス｜ハーブバスソルトづくり\nおやこふらっとひろば中央｜落ち葉と枝でつくるアート作品\n二楽園｜ロスフラワーでサシェづくり\n萩原珈琲｜麻袋でつくる育苗ポット\n御影倶楽部｜紙すき体験\nGREEN COMMONS ｜ガーデンの植物でたたき染め \n👩‍🏫Lessons\n食べるハーブラー油をつくろう｜大久保たえ（アトリエレピス）\n小さな森のテラリウムづくり｜Lunca Plants\nアロマバームづくり｜伊藤友美（HERB SHOP） \n🎪Contents\n株式会社エコリカル｜資源の循環の展示\nひょうごの在来種保存会｜シードライブラリー＆スワップ\nLiving Nature Kobe｜街の緑化の展示 \n📷GREEN MARKET 2025 Autumnフォトコンテスト開催！\n応募期間：2025年10月3日（金）-10月18日（土）\nテーマ：植物のある暮らし\n詳細は別の投稿でご案内します。 \n※上記内容は変更となる場合があります。予めご了承ください。 \n協賛\ntlahus @tlahus_sanda\n株式会社エコリカル @greenblue_by_ecolical\n食べる植物園 @tabeshoku_jp\nLOVEGREEN @lovegreen_official\nRoot pouch @terrabon \n後援\n神戸市建設局公園部魅力創造課\n@livingnaturekobe \n主催\nURBAN PICNIC\n@urbanpicnickobe\n(一般社団法人リバブルシティイニシアティブ) \n企画運営・事務局\n有限会社リバーワークス\n@riverworks.jp
URL:https://urbanpicnic.jp/event/green-market-2025-autumn/
CATEGORIES:GREEN MARKET,公園で学ぶ
ATTACH;FMTTYPE=image/jpeg:https://urbanpicnic.jp/wp-content/uploads/2025/10/L1032119-scaled.jpg
END:VEVENT
BEGIN:VEVENT
DTSTART;TZID=Asia/Tokyo:20251028T163000
DTEND;TZID=Asia/Tokyo:20251028T170000
DTSTAMP:20260420T021435
CREATED:20251018T064112Z
LAST-MODIFIED:20251018T064112Z
UID:7284-1761669000-1761670800@urbanpicnic.jp
SUMMARY:公募プログラム／絵本とハープのやさしい時間
DESCRIPTION:絵本とハープのやさしい時間\n10/28（火）16:30-17:00\n東遊園地でどんなことをしたら、素敵な風景ができるだろうか。東遊園地をどんなふうに使ったら、まち全体がもっと素敵になるだろうか。そんなことを考えながら、市民のみなさんで企画するのが公募プログラムです。 \n〜今回の公募プログラムは、絵本とハープのやさしい時間〜\n公園で自然を感じながら、絵本とハープのやさしい音色が楽しめるプログラムです。物語に合わせて奏でられるハープの音をゆったりと、楽しんでみてください。当日、読む絵本を決めますので、お子さまはもちろん、大人の方もふらりとどうぞ。 \n【絵本とハープのやさしい時間：開催概要】\n場所｜ガーデンステージ（小さい方の芝生）\n※雨天中止（前日に開催可否をお知らせします）\n参加費｜無料\n対象｜どなたでも大歓迎\n申込｜不要\n企画｜シュシュ＊カノン
URL:https://urbanpicnic.jp/event/koubo-ehontoharpnoyasashijikan-5/
CATEGORIES:公園を使う
ATTACH;FMTTYPE=image/jpeg:https://urbanpicnic.jp/wp-content/uploads/2025/06/IMG_6257-1-scaled-e1760769629845.jpg
END:VEVENT
BEGIN:VEVENT
DTSTART;TZID=Asia/Tokyo:20251030T170000
DTEND;TZID=Asia/Tokyo:20251030T173000
DTSTAMP:20260420T021435
CREATED:20251018T064745Z
LAST-MODIFIED:20251018T064745Z
UID:7288-1761843600-1761845400@urbanpicnic.jp
SUMMARY:公募プログラム／English Meet up at the Park
DESCRIPTION:English Meet up at the Park\n10/30（木）17:00-17:30\n東遊園地でどんなことをしたら、素敵な風景ができるだろうか。東遊園地をどんなふうに使ったら、まち全体がもっと素敵になるだろうか。そんなことを考えながら、市民のみなさんで企画するのが公募プログラムです。 \n〜今回の公募プログラムは、English Meet up at the Park〜 \n子どもたちが、気軽に外国の文化に触れられる、外国の文化をもっと近くに感じられる。そういうきっかけが、公園にあったらいいな。そんな思いから生まれたプログラムです。英語の手遊びや絵本の読み聞かせ、簡単なゲームを楽しめます。公園で、外国の文化に触れてみませんか？ \n【English Meet up at the Park：開催概要】\n場所｜ガーデンステージ（小さい方の芝生）\n※雨天の場合、ラウンジ(一番北側のスペース)\n参加費｜無料\n対象：お子さまと保護者の方＆どなたでも参加可能\n申込：不要\n企画｜Kobe English Academy
URL:https://urbanpicnic.jp/event/koubo-englishmeetupatthepark-2/
CATEGORIES:公園を使う
ATTACH;FMTTYPE=image/jpeg:https://urbanpicnic.jp/wp-content/uploads/2025/06/PXL_20241108_0632277382-scaled.jpg
END:VEVENT
BEGIN:VEVENT
DTSTART;TZID=Asia/Tokyo:20251031T180000
DTEND;TZID=Asia/Tokyo:20251031T193000
DTSTAMP:20260420T021435
CREATED:20251023T021837Z
LAST-MODIFIED:20251031T003125Z
UID:7293-1761933600-1761939000@urbanpicnic.jp
SUMMARY:芝生の演奏会 ／ マサンカク shared by 神戸電子専門学校
DESCRIPTION:10/31fri. マサンカク\n金曜の夜、週末を前に少しわくわくする時間。\nそんなひとときに、小さな芝生のステージ 「ガーデンステージ」で演奏会を開催します。\n夜空を眺めながら、ドリンクを片手に、奏でられる音を楽しみましょう。 \n今年度最後にお迎えするのはマサンカクのお二人。ハワイアンを中心にしっとりとした夜をお楽しみください。 \n【芝生の演奏会 開催概要】\n日時：2025年10月31日(金)\n1stステージ：18:00-18:30\n2ndステージ：19:00-19:30\n場所：東遊園地　ガーデンステージ（※雨天：ラウンジにて開催）\n兵庫県神戸市中央区加納町6-4-1　東遊園地内\n料金：無料・申込不要\n主催：URBAN PICNIC（一般社団法人リバブルシティイニシアティブ）\n協賛：神戸電子専門学校 \n【アーティスト紹介】\nマサンカク\nMASA Kahiwa × 三角歌彦\nMASA Kahiwa(マサ カヒヴァ)\n16歳からエレキギターを始め、ハードロックバンドを結成してライブハウスで活動。その後3人のジャズギタリストに師事し音楽理論を学ぶ。ウクレレでもジャズを弾くうちにハワイアンの魅力を知り本格的に活動。ハワイアンを中心としたウクレレ講師として関西を中心に活動をしています。サンディエゴ在住のハワイの先生Liana Ionaより「Kahiwa」というハワイアンネームを授かる。 \n三角歌彦(さんかく カヒコ)\n28年前にウクレレと出会う、それ以来Hawaiianミュージックの虜です。コンサートや自宅でウクレレ教室も開き歌うことの素晴らしさを分かち合っています。関西を中心にライブやイベント、各種パーティーに出演。フラダンスのバック演奏、ソロでの演奏、日本の曲も隔たりなく歌っています。 \n 
URL:https://urbanpicnic.jp/event/lawn-concert-2510-3/
CATEGORIES:芝生の演奏会
ATTACH;FMTTYPE=image/jpeg:https://urbanpicnic.jp/wp-content/uploads/2025/10/IMG_1876-1.jpeg
END:VEVENT
END:VCALENDAR