BEGIN:VCALENDAR
VERSION:2.0
PRODID:-//URBAN PICNIC - ECPv6.9.0//NONSGML v1.0//EN
CALSCALE:GREGORIAN
METHOD:PUBLISH
X-ORIGINAL-URL:https://urbanpicnic.jp
X-WR-CALDESC:URBAN PICNIC のイベント
REFRESH-INTERVAL;VALUE=DURATION:PT1H
X-Robots-Tag:noindex
X-PUBLISHED-TTL:PT1H
BEGIN:VTIMEZONE
TZID:Asia/Tokyo
BEGIN:STANDARD
TZOFFSETFROM:+0900
TZOFFSETTO:+0900
TZNAME:JST
DTSTART:20250101T000000
END:STANDARD
END:VTIMEZONE
BEGIN:VEVENT
DTSTART;TZID=Asia/Tokyo:20250910T160000
DTEND;TZID=Asia/Tokyo:20250916T210000
DTSTAMP:20260420T003130
CREATED:20250906T093006Z
LAST-MODIFIED:20250906T093006Z
UID:7177-1757520000-1758056400@urbanpicnic.jp
SUMMARY:NIGHT PICNIC September 2025［環境］としての公園
DESCRIPTION:NIGHT PICNIC\n2025.9.10wed-9.16tue\nNIGHT PICNIC September 2025\n［環境］としての公園\n～\nパブリックな夜遊びを\nたゆたいながら文化へむかう\nあなたと公園の関係性\n～ \n私たちの日々は何かに囲まれている \n可視/不可視\n聴こえる/聴こえない\n匂う/匂わない　etc.. \n五感で知覚可能かによらず\n大きな背景を抱えている \nしかしながら口から出る「環境」は\n目的意識が強い文脈で\n保護すべきものとして\n語られることが少なくない \nもっとわからなくなってみたい\n環境とはなにか \nもっと溶け合ってみたい\n自分だって誰かにとっての環境なのだから \nfood&drinkアイコンの説明\n🍞：ベーカリー　🍳：フード\n🍷：ワイン 🍺：ビール\n🍰：スイーツ ☕：コーヒー \n■9/10 Wed\n🍞トランジスタベーカリー\n🍳cucina akairo\n🍳二ノ宮 稀\n🍳野菜居酒屋 いたぎ家\n🍺ハレとケ\n🍷酪と酵母\n🍰KD donuts ~神出ドーナツ工房~\n☕tent-coffee\n~PROGRAM~\n🎨PARK ART ～夜の公園でゴッホになりきる～\n①16:00-18:00 ②19:00-21:00\n油彩画家の古賀陽子さんをお招きして、神戸市立博物館および大ゴッホ展神戸実行委員会とのコラボレーションとして実施する油絵ワークショップ。公園で油絵を描く人々がいるという風景を楽しむ。\n※ワークショップは満席で、当日申込やキャンセル待ちはできかねます。ご了承ください。 \n■9/11 Thu\n🍞dannapan\n🍳cucina akairo\n🍳Hare ma ハンバーガーと、コーヒーと、\n🍳senの台所\n🍺ハレとケ\n🍷酪と酵母\n🍰LE MARRON\n☕上田珈琲焙煎所\n~PROGRAM~\n🗣️PARK TALK #14\n「環境とまち　～環境とわたし～」\n19:00-20:00\n＠ガーデンステージ\n自然、人工という垣根を超えて、自分たちの周りにある“環境”をどう捉え、大切にできるのか。場所のもつ個性を咀嚼し、形にする建築家と、雰囲気を探求する学者との対話。\nゲスト：久山 雄甫(神戸雰囲気学研究所代表)、高橋渓(COL. Architects主宰) \n■9/12 Fri\n🍞nenne pan\n🍳屋根裏カリー306\n🍳CRAZY BURRITO\n🍳Hare ma ハンバーガーと、コーヒーと、\n🍺ハレとケ\n🍷日仏商事\n🍰che bontà\n☕CINEMA COFFEE ROASTERS\n~PROGRAM~\n💿Landscape-like sound\n～芝生の演奏会特別編～\n18:00-20:00\n@ガーデンステージ\n公園らしい音楽を探そう。目をつぶって海風を感じながら、ワインを片手に公園で聞きたい音、水を浴びながらはしゃぐこどもの声と共存する音、ひとりでもこの場所にいていいんだと思える音。公園にもともとある音を使ったり、その音とセッションしたり。\n【出演】km: \n■9/13 Sat\n🍞ベッカライノイス\n🍳ululato\n🍳食堂 粹稔\n🍳大衆スパイス食堂ニューヤスダヤ\n🍺ハレとケ\n🍷日仏商事\n🍰Harlow Ice Cream\n☕petal\n~PROGRAM~\n🎨PARK ART ～夜の公園でゴッホになりきる～\n①16:00-18:00 ②19:00-21:00\n🪡 ラグ・アンビエント・パーク　”縫”\n17:00-20:00ごろ\n@ガーデンステージ\ntamaki niimeからいただいた播州織の端切れはやさしい芝ざわり。ドッ、ドッ、ドッっと、縫い合わせるミシンのリズムが公園に響く。ひとつの大きなラグができていく過程を、公園で目の当たりにする。\n出演：柳谷縫務店\n協力：tamaki niime \n■9/14 Sun\n🍞Le Riz\n🍳drizzle\n🍳Park COZY SPICE KITCHEN\n🍳ポルトパニーノ\n🍺VALLESAGADO\n🍷Viva vin VIVANT\n🍰Harlow Ice Cream\n☕The Sowers\n~PROGRAM~\n🖼️POP UP ART THEATER\n19:00-\n都市のさまざまな場所に突然現れる4面投影型の映像シアター。今回は、映像・音楽などを手掛けるアートグループ、Delaware（デラウエア）のリーダーであるサマタマサトによる映像と音を上映します。ドリンク片手に、行灯（あんどん）のような発光体がつくりだす不思議な夜の景色をお楽しみください。\n協力：KITSUNE Book & Art\n🪡 ラグ・アンビエント・パーク　”集”\n17:00-20:00ごろ\n@芝生ひろば\nわたしたちは、公園の環境をつくっている一人でもある。それは忘れがちなことで、見知っ\nた人たちと気持ちく過ごしていると、ちいさなプライベートがはじまる。公園で縫製された巨大なラグをみんなでシェアすることで、だれかとともに“環境を担ってみる”。 \n■9/15 Mon\n🍞林パン商店\n🍳肉とワイン LUCY\n🍳ブラッスリーラルドワーズ\n🍳amasora\n🍺VALLESAGADO\n🍷R the wine shop\n🍰シオヤチョコレート\n☕youth coffee\n~PROGRAM~\n🧚‍♂️公園こどもフレンズ\n16:00-20:00\nワイングラスを貸し出したり、お店の場所を案内したり。NIGHT PICNICを手助けしてくれるこどもたちを募集します。\n1時間程度で、スタッフが見守りも行います。事前申込は不要で、当日に本部で受付をします。参加無料。対象年齢：小学4年生以上\n※受付には保護者の方もお越しください。\n※参加者が多い場合、お待ちいただく可能性があります。\n🪡 ラグ・アンビエント・パーク　”集”\n17:00-20:00ごろ \n■9/16 Tue\n🍞BREADMAN\n🍳drizzle\n🍳QUEST\n🍳韓国鉄板料理jinan\n🍺VALLESAGADO\n🍷R the wine shop\n🍰JHOICE laboratory\n☕明暮焙煎所\n~PROGRAM~\n🛣️耳で見る環境\n16:00-20:00\n普段何気なく歩いているわたしたちは、耳からもまちを見ているのだろうか。都市を歩きながら収集した音とピクニックしてみる。 \n■All day\n📽️みえない背景\n不定期上映\n公園に集う人も、食材も、普段はほかの場所でさまざまな背景を積み重ねている。そこには環境との対話がある。都市と畑、2か所の風景を定点で撮影した映像が公園に流れる。\n場所：VIVANTの畑、senの台所\n撮影：Kazuki Yamashita \n——————————————————\nNIGHT PICNIC 2025概要\n●日程：\n4/16(水)-18(金) ［遭遇］としての公園\n5/28(水)-30(金) ［媒体］としての公園\n7/23(水)-29(火) ［公共］としての公園\n9/10(水)-16(火) ［環境］としての公園\n10/1(水)-19(日) ［舞台］としての公園\n●時間：16:00~21:00\n●主催：URBAN PICNIC　@urbanpicnickobe\n●会場：東遊園地(神戸市中央区加納町6-4)\n●入場：無料\n●決済方法：各店舗により異なる\n●問い合わせ：info@urbanpicnic.jp\n——————————————————\n※出店者、企画内容は予告なく変更となる場合がございます。ご了承ください
URL:https://urbanpicnic.jp/event/nightpicnic_september2025/
CATEGORIES:公園で過ごす
ATTACH;FMTTYPE=image/jpeg:https://urbanpicnic.jp/wp-content/uploads/2025/09/DSC00469.jpg
END:VEVENT
BEGIN:VEVENT
DTSTART;TZID=Asia/Tokyo:20250912T180000
DTEND;TZID=Asia/Tokyo:20250912T200000
DTSTAMP:20260420T003130
CREATED:20250905T032459Z
LAST-MODIFIED:20250905T033402Z
UID:7161-1757700000-1757707200@urbanpicnic.jp
SUMMARY:芝生の演奏会 in Night Picnic ／ km:
DESCRIPTION:9/12fri. km:\n金曜の夜、週末を前に少しわくわくする時間に音楽の彩りを。 \n芝生の演奏会は、東遊園地にある小さな芝生のステージ 「ガーデンステージ」で毎月2回開催する、インストゥルメンタルの演奏会です。公園でドリンクを片手に、奏でられる音を楽しみましょう。\n今回は、Night Picnicとの特別編、Landscape-like soundをお届けします。 \n– 公園らしい音楽を探そう。目をつぶって海風を感じながら、ワインを片手に公園で聞きたい音、水を浴びながらはしゃぐこどもの声と共存する音、ひとりでもこの場所にいていいんだと思える音。公園にもともとある音を使ったり、その音とセッションしたり。- \n【芝生の演奏会 開催概要】\n日時：2025年9月12日(金)\n18:00-20:00\n場所：東遊園地　ガーデンステージ（※雨天：park kitchen WEEKENDにて開催）\n兵庫県神戸市中央区加納町6-4-1　東遊園地内\n料金：無料・申込不要\n主催：URBAN PICNIC（一般社団法人リバブルシティイニシアティブ） \n【アーティスト紹介】\n◾️km: (kmcolon\,ケーエムコロン)\n大阪在住。2011年よりソロ活動を開始。楽器・日用品・フィールドレコーディング音源など、自分の琴線に触れる物・音を用いて映像的な音楽を探求。「ひなたみずアンビエンス」「study\,drink.」「partition」「event」主宰。「祭」「蘇我氏」「タブラボング」「starry night come again」「topos」「mulusie」「▽◁▷」「g/m:」「タブラボンゴ関西」「ELECTRONICOS FANTASTICOS! | 京都 Orchest-Lab」といったバンド・ユニット・プロジェクトにも参加し活動する。また、「coffee:」名義でコーヒースタンドやワークショップも行う。
URL:https://urbanpicnic.jp/event/lawn-concert-2509-1/
CATEGORIES:芝生の演奏会
ATTACH;FMTTYPE=image/jpeg:https://urbanpicnic.jp/wp-content/uploads/2025/09/427EE30D-1C3B-47D8-BC39-B744D9B0B30D.jpg
END:VEVENT
BEGIN:VEVENT
DTSTART;TZID=Asia/Tokyo:20250919T180000
DTEND;TZID=Asia/Tokyo:20250919T193000
DTSTAMP:20260420T003130
CREATED:20250905T013526Z
LAST-MODIFIED:20250918T023117Z
UID:7158-1758304800-1758310200@urbanpicnic.jp
SUMMARY:芝生の演奏会 ／中止のお知らせ
DESCRIPTION:9/19fri. 諸般の事情により中止させていただきます。\n9月19日に予定しておりましたchika et saeさんの演奏会は中止とさせていただきます。何卒ご理解のほどよろしくお願いいたします。 \n「芝生の演奏会」は、第1、第3金曜日の夕方～夜に、東遊園地で心地よい音楽を楽しんでもらうために、URBANPICNICが主催をしている小さな音楽会です。\n10月は、NIGHTPICNIC期間中の10/3、10/17に「芝生の演奏会」を開催予定です。\n秋の夜長を、素敵な音楽と共にお過ごしください。
URL:https://urbanpicnic.jp/event/lawn-concert-2509-2/
CATEGORIES:芝生の演奏会
ATTACH;FMTTYPE=image/jpeg:https://urbanpicnic.jp/wp-content/uploads/2025/09/82C44187-2991-4BA8-A932-D255C5EDB772.jpg
END:VEVENT
BEGIN:VEVENT
DTSTART;TZID=Asia/Tokyo:20250922T123000
DTEND;TZID=Asia/Tokyo:20250922T133000
DTSTAMP:20260420T003130
CREATED:20250918T030229Z
LAST-MODIFIED:20250920T094114Z
UID:7197-1758544200-1758547800@urbanpicnic.jp
SUMMARY:公募プログラム／『詩』を創り、感じる
DESCRIPTION:『詩』を創り、感じる\n9/22（月）12:30-13:30\n東遊園地でどんなことをしたら、素敵な風景ができるだろうか。東遊園地をどんなふうに使ったら、まち全体がもっと素敵になるだろうか。そんなことを考えながら、市民のみなさんで企画するのが公募プログラムです。 \n〜今回の公募プログラムは、『詩』を創り、感じる〜\n公園の自然に目を向けて、詩をつくるプログラム。\nもちろん、他の人が作った詩を眺めるだけの参加もOK。 \nランチタイムにお腹を満たすように、\n心を満たしませんか？ \n材料は東遊園地にある『自然」だけで大丈夫。\nお腹を空かせるように、心のお弁当箱を空っぽにして、\nお気軽にどうぞご参加ください。 \n（12:30-12:50 作詩の時間　12:50-13:30ギャラリーの時間） \n【『詩』を創り、感じる：開催概要】\n場所｜ガーデンステージ（小さい方の芝生）\n※雨天の場合、ラウンジ(一番北側のスペース)\n参加費｜無料\n対象｜どなたでも大歓迎\n申込｜不要\n企画｜原 友希
URL:https://urbanpicnic.jp/event/koubo-shiwotsukurikanjiru/
CATEGORIES:公園を使う
ATTACH;FMTTYPE=image/jpeg:https://urbanpicnic.jp/wp-content/uploads/2025/09/DSC01515-scaled.jpg
END:VEVENT
BEGIN:VEVENT
DTSTART;TZID=Asia/Tokyo:20250924T183000
DTEND;TZID=Asia/Tokyo:20250924T193000
DTSTAMP:20260420T003130
CREATED:20250918T024021Z
LAST-MODIFIED:20250918T030529Z
UID:7189-1758738600-1758742200@urbanpicnic.jp
SUMMARY:公募プログラム／かんたんサルサ
DESCRIPTION:かんたんサルサ\n9/24（水）18:30-19:30\n東遊園地でどんなことをしたら、素敵な風景ができるだろうか。東遊園地をどんなふうに使ったら、まち全体がもっと素敵になるだろうか。そんなことを考えながら、市民のみなさんで企画するのが公募プログラムです。 \n〜今回の公募プログラムは、かんたんサルサ〜\nラテンの音楽に合わせて、陽気にステップを踏むペアダンス「サルサ」。ペアダンスと言っても、このプログラムはステップもシンプルで、ひとりでも気軽に楽しめる内容です。音楽が流れる芝生のうえで、自然にからだが揺れる時間。そんなひとときが、きっと、日常のなかの“平和”を感じさせてくれるはずです。お仕事帰りや学校帰り、お子さま連れの方も気軽にご参加ください。 \n【かんたんサルサ：開催概要】\n場所｜ガーデンステージ（小さい方の芝生）\n※雨天の場合、ラウンジ(一番北側のスペース)\n参加費｜無料\n対象｜どなたでも大歓迎\n申込｜不要\nその他｜動きやすい服装がおすすめです。\n企画｜サルサダンサーJ
URL:https://urbanpicnic.jp/event/koubo-kantansalsa-2/
CATEGORIES:公園を使う
ATTACH;FMTTYPE=image/jpeg:https://urbanpicnic.jp/wp-content/uploads/2025/07/IMG_6717.jpg
END:VEVENT
BEGIN:VEVENT
DTSTART;TZID=Asia/Tokyo:20250926T183000
DTEND;TZID=Asia/Tokyo:20250926T193000
DTSTAMP:20260420T003130
CREATED:20250918T025109Z
LAST-MODIFIED:20250918T025109Z
UID:7193-1758911400-1758915000@urbanpicnic.jp
SUMMARY:公募プログラム／花金YOGA
DESCRIPTION:花金YOGA\n9/26（金）18:30-19:30\n東遊園地でどんなことをしたら、素敵な風景ができるだろうか。東遊園地をどんなふうに使ったら、まち全体がもっと素敵になるだろうか。そんなことを考えながら、市民のみなさんで企画するのが公募プログラムです。 \n〜今回の公募プログラムは、花金YOGA〜\n週末を控えた金曜日の夜。1週間がんばった身体を労わるように、芝生のうえでのんびりYOGAを楽しむプログラム。会社や学校帰りの方はもちろん、お子さま連れの方のご参加も大歓迎です。ふらりと、お立ち寄りください。\n※18:30-19:30のうちyoga timeは45分間ほど \n【花金YOGA：開催概要】\n場所｜ガーデンステージ（小さい方の芝生）\n※雨天の場合、ラウンジ(一番北側のスペース)\n参加費｜無料\n対象｜どなたでも大歓迎\n申込｜当日参加可・申し込み推奨\n・ヨガマットレンタルあり（先着順：有料300円）\n・申し込みは\n@aya_kayazono さんのインスタグラムをご確認ください\n企画｜Kayazono Aya
URL:https://urbanpicnic.jp/event/koubo-hanakinyoga-5/
CATEGORIES:公園を使う
ATTACH;FMTTYPE=image/jpeg:https://urbanpicnic.jp/wp-content/uploads/2025/08/IMG_6435-1.jpg
END:VEVENT
BEGIN:VEVENT
DTSTART;TZID=Asia/Tokyo:20250930T170000
DTEND;TZID=Asia/Tokyo:20250930T173000
DTSTAMP:20260420T003130
CREATED:20250918T031035Z
LAST-MODIFIED:20250920T094319Z
UID:7202-1759251600-1759253400@urbanpicnic.jp
SUMMARY:公募プログラム／絵本とハープのやさしい時間
DESCRIPTION:絵本とハープのやさしい時間\n9/30（火）17:00-17:30\n東遊園地でどんなことをしたら、素敵な風景ができるだろうか。東遊園地をどんなふうに使ったら、まち全体がもっと素敵になるだろうか。そんなことを考えながら、市民のみなさんで企画するのが公募プログラムです。 \n〜今回の公募プログラムは、絵本とハープのやさしい時間〜\n公園で自然を感じながら、絵本とハープのやさしい音色が楽しめるプログラムです。物語に合わせて奏でられるハープの音をゆったりと、楽しんでみてください。当日、読む絵本を決めますので、お子さまはもちろん、大人の方もふらりとどうぞ。 \n【絵本とハープのやさしい時間：開催概要】\n場所｜ガーデンステージ（小さい方の芝生）\n※雨天中止（前日に開催可否をお知らせします）\n参加費｜無料\n対象｜どなたでも大歓迎\n申込｜不要\n企画｜シュシュ＊カノン
URL:https://urbanpicnic.jp/event/koubo-ehontoharpnoyasashijikan-4/
CATEGORIES:公園を使う
ATTACH;FMTTYPE=image/jpeg:https://urbanpicnic.jp/wp-content/uploads/2025/06/写真-2025-06-16-17-35-23-scaled.jpg
END:VEVENT
END:VCALENDAR