BEGIN:VCALENDAR
VERSION:2.0
PRODID:-//URBAN PICNIC - ECPv6.9.0//NONSGML v1.0//EN
CALSCALE:GREGORIAN
METHOD:PUBLISH
X-ORIGINAL-URL:https://urbanpicnic.jp
X-WR-CALDESC:URBAN PICNIC のイベント
REFRESH-INTERVAL;VALUE=DURATION:PT1H
X-Robots-Tag:noindex
X-PUBLISHED-TTL:PT1H
BEGIN:VTIMEZONE
TZID:Asia/Tokyo
BEGIN:STANDARD
TZOFFSETFROM:+0900
TZOFFSETTO:+0900
TZNAME:JST
DTSTART:20250101T000000
END:STANDARD
END:VTIMEZONE
BEGIN:VEVENT
DTSTART;TZID=Asia/Tokyo:20250709T093000
DTEND;TZID=Asia/Tokyo:20250709T100000
DTSTAMP:20260419T212402
CREATED:20250626T024855Z
LAST-MODIFIED:20250626T024855Z
UID:7036-1752053400-1752055200@urbanpicnic.jp
SUMMARY:公募プログラム／絵本とハープのやさしい時間
DESCRIPTION:絵本とハープのやさしい時間\n7/9（水）9:30-10:00\n東遊園地でどんなことをしたら、素敵な風景ができるだろうか。東遊園地をどんなふうに使ったら、まち全体がもっと素敵になるだろうか。そんなことを考えながら、市民のみなさんで企画するのが公募プログラムです。 \n〜今回の公募プログラムは、絵本とハープのやさしい時間〜\n公園で自然を感じながら、絵本とハープのやさしい音色が楽しめるプログラムです。物語に合わせて奏でられるハープの音をゆったりと、楽しんでみてください。当日、読む絵本を決めますので、お子さまはもちろん、大人の方もふらりとどうぞ。 \n【絵本とハープのやさしい時間：開催概要】\n場所｜ガーデンステージ（小さい方の芝生）\n※雨天中止（前日に開催可否をお知らせします）\n参加費｜無料\n対象｜どなたでも大歓迎\n申込｜不要\n企画｜城地裕子・小笠原佳代子
URL:https://urbanpicnic.jp/event/koubo-ehontoharpnoyasashijikan-3/
CATEGORIES:公園を使う
ATTACH;FMTTYPE=image/jpeg:https://urbanpicnic.jp/wp-content/uploads/2025/06/写真-2025-06-16-17-35-23-scaled.jpg
END:VEVENT
BEGIN:VEVENT
DTSTART;TZID=Asia/Tokyo:20250714T180000
DTEND;TZID=Asia/Tokyo:20250714T190000
DTSTAMP:20260419T212402
CREATED:20250611T023853Z
LAST-MODIFIED:20250611T024141Z
UID:6992-1752516000-1752519600@urbanpicnic.jp
SUMMARY:公募プログラム／絵本の夕べ
DESCRIPTION:絵本の夕べ\n7/14（月）18:00-19:00\n東遊園地でどんなことをしたら、素敵な風景ができるだろうか。東遊園地をどんなふうに使ったら、まち全体がもっと素敵になるだろうか。そんなことを考えながら、市民のみなさんで企画するのが公募プログラムです。 \n〜今回の公募プログラムは、絵本の夕べ〜\n大人の方向けに、絵本を音読したり、ゆったりおしゃべりしたり。夕暮れどきの公園で、穏やかに過ごせるプログラムです。\n週初めの少し憂鬱な気持ちも、公園に立ち寄って穏やかに過ごしたら、明日からまた頑張れるはず。ふらりと、ご参加ください。 \n【絵本の夕べ：開催概要】\n場所｜ガーデンステージ（小さい方の芝生）\n※雨天の場合、開催可否は前日にお知らせいたします。\n参加費｜無料\n対象｜どなたでも大歓迎\n主に大人の方を想定していますが、お子さまの参加も可能です。\n申込｜不要\n企画｜セイラ＆やっくん
URL:https://urbanpicnic.jp/event/koubo-ehonnoyube-3/
CATEGORIES:公園を使う
ATTACH;FMTTYPE=image/jpeg:https://urbanpicnic.jp/wp-content/uploads/2025/05/IMG_5843-scaled.jpeg
END:VEVENT
BEGIN:VEVENT
DTSTART;TZID=Asia/Tokyo:20250715T190000
DTEND;TZID=Asia/Tokyo:20250715T210000
DTSTAMP:20260419T212402
CREATED:20250712T051843Z
LAST-MODIFIED:20250712T052450Z
UID:7086-1752606000-1752613200@urbanpicnic.jp
SUMMARY:PARK TALK #13 「経済とまち～豊かさのバトンをつなぐ～」
DESCRIPTION:公園で、さまざまなテーマからまちのことについて考えるトーク＆ディスカッション。\nつながりが薄まっていく世界の中で、出会い直し、\n関係を結びなおしていく場を考えます。\n神戸のまちは、音が聞こえてくるくらいに目まぐるしく変化をしています。駅前で大きな工事が進み、海沿いにはアリーナができ、まちが芽吹こうとしているような感覚があります。海外の方が観光をしている姿も、以前より見かけるようになったような感じ。 \nしかし一方で、神戸のまちが経済的にも豊かになっているのか、と問われると少し疑問が残ります。目につくところでは、街の中心でも商業テナントの空き区画が続いていたり、統計データでも、実質経済成長率(2021年)が兵庫県や全国平均よりも低くなっていたり。 \nこれからの未来、少子高齢化も加速し、課題がより表層化してくる都市で、長期的に地域が続いていくためには、どんな開発、地域運営の形があるのでしょうか。 \nアメリカ・ポートランドで官民一体の都市計画や歴史と最新環境テクノロジーの融合、コミュニティやローカルビジネスの支援などさまざまな都市戦略をご経験され、現在 “サステナブル都市計画家”として活動されている山崎満広さんをお招きし、ひとびとが豊かに暮らすことができる街を、未来へとつなぐことを考えます。 \n🚩PARK TALK 「経済とまち～豊かさのバトンをつなぐ～」開催概要 \n日時：2025年7月15日(火) 19:00-21:00\n場所：URBAN PICNIC ラウンジ(神戸市中央区加納町6‐4-1 東遊園地内)\n参加費：1\,500円　※大学生以下500円、小学生以下無料\n※参加費は当日お支払いいただきます。\n定員：30名(先着順) \n👤ゲスト\n山崎満広 / Green Cities\, Inc. 代表取締役 \, 横浜国立大学 客員教授\n山﨑満広（1975年生まれ、茨城県出身）は、サステナブル都市計画家。米サザンミシシッピ大学院(地域経済学)修了後、アメリカで大手ゼネコンやコンサルティング会社での勤務を経て、2012年にポートランド市開発局の国際事業開発オフィサーとして日本の都市開発にも関わり始める。2017年に独立し、現在は自身の都市計画事務所Green Cities\, Inc.を経営。つくば市や神戸港湾エリア、富山県南砺市井波地域などの開発計画、ビジョンづくりや企業のコンサルティングも行う傍ら横浜国立大学、至善館大学院、秋田国際教養大学の客員教授としても活躍。著書に第7回不動産協会賞を受賞した『ポートランド－世界で一番住みたい街をつくる』や『ポートランド・メイカーズ クリエイティブコミュニティのつくり方 』（学芸出版社）がある。 \n🚩プログラム\n18:45　受付開始\n19:00　開講、ゲストトーク\n20:00　質疑応答①\n20:10　休憩\n20:20　参加者ディスカッション「これからの街の発展」\n20:40　質疑応答②\n21:00　閉講 \n🚩PARK TALKとは\n神戸の都心・三宮にある公園「東遊園地」を、だれでも気軽に集まり、街のこれからについて考えるための「視野」を広げる、多種多様なテーマで「〇〇とまち」を考えるキャンパスに。公園という開かれた場所だからこそ、自分の専門以外でも話を聴きに来ることができる、だれかと意見を交わすことができる、そんな機会になっていけばと思い、2024年2月から月1回程度開催。「街を使う人(の思考)が街をつくっている」ということを念頭に、だれもが立場に関係なく議論し、まちの人自身が、自分の暮らす街にあふれるさまざまな事象を「他人事」ではなく、意欲的に注視・参画したい(できる)ものだと感じることを目指す。 \n≪お申込みと参加方法について≫\nチケットをお選びのうえ、Peatixを通じてお申し込みください。\nhttps://parktalk20250715.peatix.com/\n※お申し込みは、定員に達するか、イベント当日正午に締め切ります。\n※お申込み方法やイベント詳細についてのご質問は、URBANPICNIC事務局までお問い合わせください。
URL:https://urbanpicnic.jp/event/park-talk-13/
CATEGORIES:PARK TALK,公園で学ぶ
ATTACH;FMTTYPE=image/jpeg:https://urbanpicnic.jp/wp-content/uploads/2025/07/cover-KnFRmpUCVD8QeAF4xeOed6tlZ73zsysC-1.jpeg
END:VEVENT
BEGIN:VEVENT
DTSTART;TZID=Asia/Tokyo:20250723T160000
DTEND;TZID=Asia/Tokyo:20250729T210000
DTSTAMP:20260419T212402
CREATED:20250721T031220Z
LAST-MODIFIED:20250721T031220Z
UID:7094-1753286400-1753822800@urbanpicnic.jp
SUMMARY:NIGHT PICNIC July 2025［公共］としての公園
DESCRIPTION:NIGHT PICNIC Be public→\n2025.7.23wed-7.29tue\nNIGHT PICNIC July 2025\n［公共］としての公園\n/\nパブリックな夜遊びを\nたゆたいながら文化へむかう\nあなたと公園の関係性\n\ \n異常な気候、揺れる情勢。\n見えない出口に公園は\n何を提示できるのだろうかと\n考えながら組み立てた7日間。 \n小さな光をさがして\n公共(pubilc)の意味を\n捉え直してみたいと思います。 \nどうすればより公園らしく\nそして夜の公園ですごすことが\nまちの文化となりうるのか\n一緒に探求してみせんか？ \n🍞〜🍷：フード&ドリンク(16:00-21:00)\n🗣️：トーク企画「パブリックのがっこう」(19:00-20:00)\n🧘‍♀️：URBAN PICNIC 公募プログラムコラボ企画 \n■7/23 wed\n🍞HIYORI BROT\n🍳L’epice\n🍳八葉食堂\n🍳QUEST\n🍰JHOICE laboratory\n🍺ハレとケ\n☕明暮焙煎所\n🍷R the wine shop\n🗣️今村 謙人(カモメ・ラボ代表 / 合同会社ルツボ代表社員)\n🧘‍♀️芝生と音じかん(18:00-18:45) \n■7/24 thu\n🍞穂々\n🍳amasora\n🍳酪と酵母\n🍳小さな中華ビストロROKU\n🍰LE MARRON\n🍺ハレとケ\n☕LAGOM COFFEE ROASTERY\n🍷Viva vin VIVANT\n🗣️茶谷 直人(神戸大学大学院人文学研究科・文学部教授)\n🧘‍♀️English Meet-up at the park(16:30-17:00) \n■7/25 fri\n🍞nenne pan\n🍳鉄板韓国料理jinan\n🍳Park COZY SPICE KITCHEN\n🍳CRAZY BURRITO\n🍰Ｌ’AVENUE\n🍺ハレとケ\n🍷酪と酵母\n🍷nofasa × 日仏商事\n🗣️松村 圭一郎(文化人類学者 / 岡山大学文学部准教授)\n🧘‍♀️花金YOGA(18:00-18:45) \n■7/26 sat\n🍞RAGI\n🍳ululato\n🍳食堂粹稔\n🍳神戸アジアン食堂バルSALA\n🍰KD donuts〜神出ドーナツ工房〜\n🍺ハレとケ\n🍺VALLESAGRADO\n🍷nofasa × 日仏商事\n🗣️饗庭 伸(東京都立大学都市環境学部教授) \n■7/27 sun\n🍞BREADMAN\n🍳cucina akairo\n🍳 肉とワイン　LUCY\n🍳obi obi\n🍰キヌンとマツリカ\n🍺ハレとケ\n🍺VALLESAGRADO\n🍷Viva vin VIVANT\n🗣️西井 開(立教大学社会デザイン研究科特任准教授/一般社団法人UNLEARN理事) \n■7/28 mon\n🍞パン屋 小麦生活\n🍳drizzle\n🍳食のわ\n🍳アンジョリーノ神戸\n🍰cafe L’Arche\n🍺VALLESAGRADO\n☕petal\n🍷酪と酵母\n🗣️湊 三次郎(株式会社ゆとなみ社 代表取締役 / 銭湯活動家) \n■7/29 tue\n🍞ブーランジェリーオノ\n🍳L’ARDOISE\n🍳ネパール料理店kukuri\n🍳drizzle\n🍰candy shop ICE-UP\n🍺VALLESAGRADO\n☕YOUTH COFFEE\n🍷酪と酵母\n🗣️指出 一正(株式会社ソトコト代表取締役 / 『ソトコト』編集長)\n🧘‍♀️かんたんサルサ(18:00-18:45) \n——————————————————\nNIGHT PICNIC 2025概要\n●日程：\n4/16(水)-18(金) ［遭遇］としての公園\n5/28(水)-30(金) ［媒体］としての公園\n7/23(水)-29(火) ［公共］としての公園\n9/10(水)-16(火) ［環境］としての公園\n10/1(水)-19(日) ［舞台］としての公園\n●時間：16:00~21:00\n●主催：URBAN PICNIC　@urbanpicnickobe\n●会場：東遊園地(神戸市中央区加納町6-4)\n●入場：無料\n●決済方法：各店舗により異なる\n●問い合わせ：info@urbanpicnic.jp\n——————————————————\n※出店者、企画内容は予告なく変更となる場合がございます。ご了承ください
URL:https://urbanpicnic.jp/event/nightpicnic_july2025/
CATEGORIES:公園で過ごす
ATTACH;FMTTYPE=image/jpeg:https://urbanpicnic.jp/wp-content/uploads/2024/10/DSC00907.jpg
END:VEVENT
BEGIN:VEVENT
DTSTART;TZID=Asia/Tokyo:20250723T180000
DTEND;TZID=Asia/Tokyo:20250723T184500
DTSTAMP:20260419T212402
CREATED:20250626T020814Z
LAST-MODIFIED:20250627T053254Z
UID:7022-1753293600-1753296300@urbanpicnic.jp
SUMMARY:公募プログラム／芝生と音じかん
DESCRIPTION:芝生と音じかん\n7/23（水）18:00-18:45\n東遊園地でどんなことをしたら、素敵な風景ができるだろうか。東遊園地をどんなふうに使ったら、まち全体がもっと素敵になるだろうか。そんなことを考えながら、市民のみなさんで企画するのが公募プログラムです。 \n〜今回の公募プログラムは、芝生と音じかん〜\nおんさやクリスタルボウルなど、サウンドバスで使われる楽器の音を聴きながら、芝生に座ったり、寝転がったり。公園で、自分のために心をケアできるような、ゆったりした時間を過ごせるプログラムです。\n楽器の音、風の音、生き物たちの声など、目を閉じて、今ここにある「音」に、静かに耳を傾けみませんか。服装も自由、持ち物も特にいりません。\n1日の終わりに、自分のための、ちいさな休息を。ふらりと、立ち寄ってみてくださいね。 \n【芝生と音じかん：開催概要】\n場所｜ガーデンステージ（小さい方の芝生）\n※雨天中止（前日に開催可否をお知らせします）\n参加費｜無料\n対象｜どなたでも（小学生以上推奨）\n申込｜申し込み推奨、当日参加も可\n企画｜KŪ（くう）サウンドバス主宰、ASMJ認定プラクティショナー　福原智子
URL:https://urbanpicnic.jp/event/koubo-shibafutootojikan-2/
CATEGORIES:公園を使う
ATTACH;FMTTYPE=image/jpeg:https://urbanpicnic.jp/wp-content/uploads/2025/06/A5A9717.jpg
END:VEVENT
BEGIN:VEVENT
DTSTART;TZID=Asia/Tokyo:20250724T163000
DTEND;TZID=Asia/Tokyo:20250724T170000
DTSTAMP:20260419T212402
CREATED:20250626T033355Z
LAST-MODIFIED:20250627T025024Z
UID:7051-1753374600-1753376400@urbanpicnic.jp
SUMMARY:公募プログラム／English Meet up at the Park
DESCRIPTION:English Meet up at the Park\n7/24（木）16:30-17:00\n東遊園地でどんなことをしたら、素敵な風景ができるだろうか。東遊園地をどんなふうに使ったら、まち全体がもっと素敵になるだろうか。そんなことを考えながら、市民のみなさんで企画するのが公募プログラムです。 \n〜今回の公募プログラムは、English Meet up at the Park〜 \n子どもたちが、気軽に外国の文化に触れられる、外国の文化をもっと近くに感じられる。そういうきっかけが、公園にあったらいいな。そんな思いから生まれたプログラムです。英語の手遊びや絵本の読み聞かせ、簡単なゲームを楽しめます。公園で、外国の文化に触れてみませんか？ \n【English Meet up at the Park：開催概要】\n場所｜ガーデンステージ（小さい方の芝生）\n※雨天の場合、ラウンジ(一番北側のスペース)\n参加費｜無料\n対象：お子さまと保護者の方＆どなたでも参加可能\n申込：不要\n企画｜Kobe English Academy
URL:https://urbanpicnic.jp/event/koubo-englishmeetupatthepark/
CATEGORIES:公園を使う
ATTACH;FMTTYPE=image/jpeg:https://urbanpicnic.jp/wp-content/uploads/2025/06/PXL_20241108_0632277382-scaled.jpg
END:VEVENT
BEGIN:VEVENT
DTSTART;TZID=Asia/Tokyo:20250725T180000
DTEND;TZID=Asia/Tokyo:20250725T184500
DTSTAMP:20260419T212402
CREATED:20250626T031833Z
LAST-MODIFIED:20250626T032109Z
UID:7045-1753466400-1753469100@urbanpicnic.jp
SUMMARY:公募プログラム／花金YOGA
DESCRIPTION:花金YOGA\n7/25（金）18:00-18:45\n東遊園地でどんなことをしたら、素敵な風景ができるだろうか。東遊園地をどんなふうに使ったら、まち全体がもっと素敵になるだろうか。そんなことを考えながら、市民のみなさんで企画するのが公募プログラムです。 \n〜今回の公募プログラムは、花金YOGA〜\n週末を控えた金曜日の夜。1週間がんばった身体を労わるように、芝生のうえでのんびりYOGAを楽しむプログラム。会社や学校帰りの方はもちろん、お子さま連れの方のご参加も大歓迎です。ふらりと、お立ち寄りください。 \n【花金YOGA：開催概要】\n場所｜ガーデンステージ（小さい方の芝生）\n※雨天の場合、ラウンジ(一番北側のスペース)\n参加費｜無料\n対象｜どなたでも大歓迎\n申込｜当日参加可・申し込み推奨\n・ヨガマットレンタルあり（先着順：有料300円）\n・申し込みは\n@aya_kayazono さんのインスタグラムをご確認ください\n企画｜Kayazono Aya
URL:https://urbanpicnic.jp/event/koubo-hanakinyoga-3/
CATEGORIES:公園を使う
ATTACH;FMTTYPE=image/jpeg:https://urbanpicnic.jp/wp-content/uploads/2025/05/IMG_6094-scaled.jpeg
END:VEVENT
BEGIN:VEVENT
DTSTART;TZID=Asia/Tokyo:20250729T180000
DTEND;TZID=Asia/Tokyo:20250729T184500
DTSTAMP:20260419T212402
CREATED:20250712T050013Z
LAST-MODIFIED:20250716T022050Z
UID:7080-1753812000-1753814700@urbanpicnic.jp
SUMMARY:公募プログラム／かんたんサルサ
DESCRIPTION:かんたんサルサ\n7/29（火）18:00-18:45\n東遊園地でどんなことをしたら、素敵な風景ができるだろうか。東遊園地をどんなふうに使ったら、まち全体がもっと素敵になるだろうか。そんなことを考えながら、市民のみなさんで企画するのが公募プログラムです。 \n〜今回の公募プログラムは、かんたんサルサ〜\nラテンの音楽に合わせて、陽気にステップを踏むペアダンス「サルサ」。ペアダンスと言っても、このプログラムはステップもシンプルで、ひとりでも気軽に楽しめる内容です。音楽が流れる芝生のうえで、自然にからだが揺れる時間。そんなひとときが、きっと、日常のなかの“平和”を感じさせてくれるはずです。お仕事帰りや学校帰り、お子さま連れの方も気軽にご参加ください。 \n【かんたんサルサ：開催概要】\n場所｜ガーデンステージ（小さい方の芝生）\n※雨天の場合、ラウンジ(一番北側のスペース)\n参加費｜無料\n対象｜どなたでも大歓迎\n申込｜不要\nその他｜動きやすい服装がおすすめです。\n企画｜サルサダンサーJ
URL:https://urbanpicnic.jp/event/koubo-kantansalsa/
CATEGORIES:公園を使う
ATTACH;FMTTYPE=image/jpeg:https://urbanpicnic.jp/wp-content/uploads/2025/07/IMG_6717.jpg
END:VEVENT
END:VCALENDAR