BEGIN:VCALENDAR
VERSION:2.0
PRODID:-//URBAN PICNIC - ECPv6.9.0//NONSGML v1.0//EN
CALSCALE:GREGORIAN
METHOD:PUBLISH
X-WR-CALNAME:URBAN PICNIC
X-ORIGINAL-URL:https://urbanpicnic.jp
X-WR-CALDESC:URBAN PICNIC のイベント
REFRESH-INTERVAL;VALUE=DURATION:PT1H
X-Robots-Tag:noindex
X-PUBLISHED-TTL:PT1H
BEGIN:VTIMEZONE
TZID:Asia/Tokyo
BEGIN:STANDARD
TZOFFSETFROM:+0900
TZOFFSETTO:+0900
TZNAME:JST
DTSTART:20250101T000000
END:STANDARD
END:VTIMEZONE
BEGIN:VEVENT
DTSTART;TZID=Asia/Tokyo:20250609T180000
DTEND;TZID=Asia/Tokyo:20250609T190000
DTSTAMP:20260426T014010
CREATED:20250524T014325Z
LAST-MODIFIED:20250524T014648Z
UID:6929-1749492000-1749495600@urbanpicnic.jp
SUMMARY:公募プログラム／絵本の夕べ
DESCRIPTION:絵本の夕べ\n6/9（月）18:00-19:00\n東遊園地でどんなことをしたら、素敵な風景ができるだろうか。東遊園地をどんなふうに使ったら、まち全体がもっと素敵になるだろうか。そんなことを考えながら、市民のみなさんで企画するのが公募プログラムです。 \n〜今回の公募プログラムは、絵本の夕べ〜\n大人の方向けに、絵本を音読したり、ゆったりおしゃべりしたり。夕暮れどきの公園で、穏やかに過ごせるプログラムです。\n週初めの少し憂鬱な気持ちも、公園に立ち寄って穏やかに過ごしたら、明日からまた頑張れるはず。ふらりと、ご参加ください。 \n【絵本の夕べ：開催概要】\n場所｜ガーデンステージ（小さい方の芝生）\n※雨天の場合、開催可否は前日にお知らせいたします。\n参加費｜無料\n対象｜どなたでも大歓迎\n主に大人の方を想定していますが、お子さまの参加も可能です。\n申込｜不要\n企画｜セイラ＆やっくん
URL:https://urbanpicnic.jp/event/koubo-ehonnoyube-2/
CATEGORIES:公園を使う
ATTACH;FMTTYPE=image/jpeg:https://urbanpicnic.jp/wp-content/uploads/2025/05/IMG_5843-scaled.jpeg
END:VEVENT
BEGIN:VEVENT
DTSTART;TZID=Asia/Tokyo:20250613T183000
DTEND;TZID=Asia/Tokyo:20250613T193000
DTSTAMP:20260426T014010
CREATED:20250524T014024Z
LAST-MODIFIED:20250524T014024Z
UID:6927-1749839400-1749843000@urbanpicnic.jp
SUMMARY:公募プログラム／花金YOGA
DESCRIPTION:花金YOGA\n6/13（金）18:30-19:30\n東遊園地でどんなことをしたら、素敵な風景ができるだろうか。東遊園地をどんなふうに使ったら、まち全体がもっと素敵になるだろうか。そんなことを考えながら、市民のみなさんで企画するのが公募プログラムです。 \n〜今回の公募プログラムは、花金YOGA〜\n週末を控えた金曜日の夜。1週間がんばった身体を労わるように、芝生のうえでのんびりYOGAを楽しむプログラム。会社や学校帰りの方はもちろん、お子さま連れの方のご参加も大歓迎です。ふらりと、お立ち寄りください。 \n【花金YOGA：開催概要】\n場所｜ガーデンステージ（小さい方の芝生）\n※雨天の場合、ラウンジ(一番北側のスペース)\n参加費｜無料\n対象｜どなたでも大歓迎\n申込｜当日参加可・申し込み推奨\n・事前に申し込みいただいた方にはヨガマットを貸し出します（先着順）\n・申し込みは\n@aya_kayazono さんのインスタグラムをご確認ください\n企画｜Kayazono Aya
URL:https://urbanpicnic.jp/event/koubo-hanakinyoga-2/
CATEGORIES:公園を使う
ATTACH;FMTTYPE=image/jpeg:https://urbanpicnic.jp/wp-content/uploads/2025/05/IMG_6094-scaled.jpeg
END:VEVENT
BEGIN:VEVENT
DTSTART;TZID=Asia/Tokyo:20250616T160000
DTEND;TZID=Asia/Tokyo:20250616T180000
DTSTAMP:20260426T014010
CREATED:20250524T013453Z
LAST-MODIFIED:20250524T013453Z
UID:6923-1750089600-1750096800@urbanpicnic.jp
SUMMARY:公募プログラム／絵本とハープのやさしい時間
DESCRIPTION:絵本とハープのやさしい時間\n6/16（月）16:00-16:30 / 17:30-18:00\n東遊園地でどんなことをしたら、素敵な風景ができるだろうか。東遊園地をどんなふうに使ったら、まち全体がもっと素敵になるだろうか。そんなことを考えながら、市民のみなさんで企画するのが公募プログラムです。 \n〜今回の公募プログラムは、絵本とハープのやさしい時間〜\n公園で自然を感じながら、絵本とハープのやさしい音色が楽しめるプログラムです。物語に合わせて奏でられるハープの音をゆったりと、楽しんでみてください。当日、読む絵本を決めますので、お子さまはもちろん、大人の方もふらりとどうぞ。 \n【絵本とハープのやさしい時間：開催概要】\n場所｜ガーデンステージ（小さい方の芝生）\n※雨天中止（前日に開催可否をお知らせします）\n参加費｜無料\n対象｜どなたでも大歓迎\n申込｜不要\n企画｜城地裕子・小笠原佳代子
URL:https://urbanpicnic.jp/event/koubo-ehontoharpnoyasashijikan-2/
CATEGORIES:公園を使う
ATTACH;FMTTYPE=image/jpeg:https://urbanpicnic.jp/wp-content/uploads/2025/05/IMG_6219-e1748050031141.jpg
END:VEVENT
END:VCALENDAR