BEGIN:VCALENDAR
VERSION:2.0
PRODID:-//URBAN PICNIC - ECPv6.9.0//NONSGML v1.0//EN
CALSCALE:GREGORIAN
METHOD:PUBLISH
X-WR-CALNAME:URBAN PICNIC
X-ORIGINAL-URL:https://urbanpicnic.jp
X-WR-CALDESC:URBAN PICNIC のイベント
REFRESH-INTERVAL;VALUE=DURATION:PT1H
X-Robots-Tag:noindex
X-PUBLISHED-TTL:PT1H
BEGIN:VTIMEZONE
TZID:Asia/Tokyo
BEGIN:STANDARD
TZOFFSETFROM:+0900
TZOFFSETTO:+0900
TZNAME:JST
DTSTART:20250101T000000
END:STANDARD
END:VTIMEZONE
BEGIN:VEVENT
DTSTART;TZID=Asia/Tokyo:20250723T180000
DTEND;TZID=Asia/Tokyo:20250723T184500
DTSTAMP:20260426T014021
CREATED:20250626T020814Z
LAST-MODIFIED:20250627T053254Z
UID:7022-1753293600-1753296300@urbanpicnic.jp
SUMMARY:公募プログラム／芝生と音じかん
DESCRIPTION:芝生と音じかん\n7/23（水）18:00-18:45\n東遊園地でどんなことをしたら、素敵な風景ができるだろうか。東遊園地をどんなふうに使ったら、まち全体がもっと素敵になるだろうか。そんなことを考えながら、市民のみなさんで企画するのが公募プログラムです。 \n〜今回の公募プログラムは、芝生と音じかん〜\nおんさやクリスタルボウルなど、サウンドバスで使われる楽器の音を聴きながら、芝生に座ったり、寝転がったり。公園で、自分のために心をケアできるような、ゆったりした時間を過ごせるプログラムです。\n楽器の音、風の音、生き物たちの声など、目を閉じて、今ここにある「音」に、静かに耳を傾けみませんか。服装も自由、持ち物も特にいりません。\n1日の終わりに、自分のための、ちいさな休息を。ふらりと、立ち寄ってみてくださいね。 \n【芝生と音じかん：開催概要】\n場所｜ガーデンステージ（小さい方の芝生）\n※雨天中止（前日に開催可否をお知らせします）\n参加費｜無料\n対象｜どなたでも（小学生以上推奨）\n申込｜申し込み推奨、当日参加も可\n企画｜KŪ（くう）サウンドバス主宰、ASMJ認定プラクティショナー　福原智子
URL:https://urbanpicnic.jp/event/koubo-shibafutootojikan-2/
CATEGORIES:公園を使う
ATTACH;FMTTYPE=image/jpeg:https://urbanpicnic.jp/wp-content/uploads/2025/06/A5A9717.jpg
END:VEVENT
END:VCALENDAR