BEGIN:VCALENDAR
VERSION:2.0
PRODID:-//URBAN PICNIC - ECPv6.9.0//NONSGML v1.0//EN
CALSCALE:GREGORIAN
METHOD:PUBLISH
X-WR-CALNAME:URBAN PICNIC
X-ORIGINAL-URL:https://urbanpicnic.jp
X-WR-CALDESC:URBAN PICNIC のイベント
REFRESH-INTERVAL;VALUE=DURATION:PT1H
X-Robots-Tag:noindex
X-PUBLISHED-TTL:PT1H
BEGIN:VTIMEZONE
TZID:Asia/Tokyo
BEGIN:STANDARD
TZOFFSETFROM:+0900
TZOFFSETTO:+0900
TZNAME:JST
DTSTART:20240101T000000
END:STANDARD
END:VTIMEZONE
BEGIN:VEVENT
DTSTART;TZID=Asia/Tokyo:20250224T110000
DTEND;TZID=Asia/Tokyo:20250226T160000
DTSTAMP:20260424T215207
CREATED:20250217T062654Z
LAST-MODIFIED:20250217T070834Z
UID:6314-1740394800-1740585600@urbanpicnic.jp
SUMMARY:みんなのキャンパス － 写真展 －
DESCRIPTION:「みんなのキャンパス2024」は、\nみんなが公園でやりたいプログラムを持ち寄る一日。 \nみんなの「やってみたい」を実現させるこのプログラム。2024年9月21日に開催いたしました。 \n公園だから、東遊園地だから、できること\n公園をこんなふうに使ったらすてきだな\n東遊園地をこんなふうにしていきたい \nそんなプログラムが集まりました。 \n  \nプログラム主催者向け説明会から本番当日までの記録を、写真展として振り返ります。 \n自分だったら東遊園地でこんなことやってみたいな、なんて妄想しながら見てみるのもいいかもしれません。 \n  \n写真展は入場無料。どなたも自由にご覧いただけます。 \nお気軽にお立ち寄りください。 \n  \n■開催概要 \nみんなのキャンパス － 写真展 － \n日時　2025年2月24日(祝月)―2月26日(水)　11:00-19:00 \n（最終日26日のみ16時までの開催） \n場所　東遊園地URBAN PICNIC　ラウンジ \n神戸市中央区加納町6-4-1 \n 
URL:https://urbanpicnic.jp/event/minnanocampus2024photogallery/
LOCATION:東遊園地\, 中央区加納町6-4\, 神戸市\, 兵庫県\, 652-0186
CATEGORIES:みんなのキャンパス,公園を使う
ATTACH;FMTTYPE=image/png:https://urbanpicnic.jp/wp-content/uploads/2025/02/みんなのキャンパスWEB.png
END:VEVENT
BEGIN:VEVENT
DTSTART;TZID=Asia/Tokyo:20240921T110000
DTEND;TZID=Asia/Tokyo:20240921T160000
DTSTAMP:20260424T215207
CREATED:20240824T062124Z
LAST-MODIFIED:20240915T044014Z
UID:5806-1726916400-1726934400@urbanpicnic.jp
SUMMARY:みんなのキャンパス2024
DESCRIPTION:「みんなのキャンパス2024」は、みんなが公園でやりたいプログラムを持ち寄る一日。 \n公園だから、東遊園地だから、できること。\n公園をこんなふうに使ったらすてきだな。\n東遊園地をこんなふうにしていきたい。\nそんなプログラムが集まりました。 \n個性的な11個のプログラムが集まりました。 \nいろんな学びや出会いが生まれ、それぞれの楽しみかたが発見できたらうれしいです。 \n  \n【みんなのキャンパス2024  開催概要】\n日時：2024年9月21日（土）11:00-16:00\n場所：東遊園地\n参加費：プログラムごとに異なります\n申込：不要 \nみんなのキャンパス2024は、株式会社村上工務店様の協賛のもと、開催いたします。 \n【プログラム一覧】 \n　　　　　　　　　　 \n  \n●絵本の時間 \n \n土曜日の昼下がり、好きな絵本を持って公園でゆったりとした時間を過ごしませんか。 お待ちいただいた絵本の読みきかせと選書理由やご紹介を、そして聞き手のみなさんには、ちょこっと感想なんかもいただけたらなぁ〜って思ってます。 \n \n絵本の時間 \n開催時間：15:00-16:00\n所要時間：1時間程度\n参加費：無料\n主催：やっくん \n  \n●かんたんサルサ\n \nサルサはめっちゃ楽しいラテンダンスです。1人でもペアでも踊れます。リズム感がなくたって「足を一歩出して引く」ができればOK！サルサをやれば世界中にお友達もできちゃいます。だって北米・南米でもヨーロッパでもアジアでも大勢が踊るパーティがたくさんあるんですから。かんたんサルサを体験してみませんか！ \n \n簡単サルサ \n開催時間：13:00-14:00\n所要時間：1時間\n参加費：無料\n主催：J \n  \n（上）編集：季刊『コトノネ』編集部　イラスト：小俣裕人　発行：社会福祉法人埼玉福祉会 （下）著者：藤澤 和子・川﨑 千加・多賀谷 津也子・小安 展子　発行：樹村房 \n●読書バリアフリー　LLブックを楽しもう \nLLブックは、知的障がいのある方、母語が日本語でない方をはじめとした 　“やさしくてわかりやすい”情報提供を必要としている人を主な読者として想定し、 誰もが読書を楽しめる工夫がされた本。 高齢化、グローバル化に伴い活用の場が広がっています。 一般書店では取り扱いが少ないLLブック。ぜひお手にとってご覧ください！ \n \n読書バリアフリー　LLブックを楽しもう\n開催時間：11:00-16:00\n参加費：無料（物販は除く）\n主催：やさしく読める本の店　レットレスト \n  \n●私のお気に入り本のお披露目会\n \n本当にお気に入りの本は、寄贈もしたくないし、売りたくもない。ただせっかくなら実際に手にとってほしい。 そんな本をお披露目するだけのプログラム。 本好きの人はもちろん、忙しくて普段読めない人もタイトルから「どんな本ですか？」とたずねてもらうだけで、いっぱいお話しちゃいますので、わいわいお話をしましょう！ \n \n私のお気に入り本のお披露目会\n開催時間：終日開催\n所要時間：おまかせ\n参加費：無料\n主催：網ノ目 \n  \n●新聞ボッチャをつくってあそぼう\n \nパラリンピック正式種目の「ボッチャ」。投げても、蹴っても大丈夫。どんな方でも参加できます。古新聞とビニールテープを使って球をつくり遊びます。たくさん集まったら団体戦をやってみても楽しそう！ご家族や友人、公園ではじめてあった人とも一緒に遊べます。気軽にご参加ください。 \n \n新聞ボッチャをつくってあそぼう\n開催時間：終日開催\n所要時間：30分程度\n参加費：無料\n主催：ヒロくん \n  \n●東遊園地でかくれんぼ\n \nかくれんぼする人この指とまれ\n神戸の中心でかくれんぼをしながら、リニューアルした東遊園地の魅力も探して見つけて共有しませんか？ 大人も子供も歓迎！未就学児は、保護者同伴で。 \n \n東遊園地でかくれんぼ\n開催時間：①11:00-　②14:00-\n所要時間：30分程度\n参加費：無料\n主催：ちかいしゆう \n  \n●みんなのキャンバス \n \nまっさらで大きなキャンバスに描く、みんなが持ってるキラキラしたもの。ワクワクすること、好きなモノ、行きたい場所、したいこと、将来の夢…とかとか。 「何が好き？」「将来どんな感じ？」 ざっくばらんに話しながら、芝生に寝転びながら、キャンバスを自由に色付けしましょう！ 個性の爆発した予測不能アート、完成予定です💥最後は作品をステッカーにしてお配りする予定です。 \n \nみんなのキャンバス\n開催時間：11:00-12:00\n所要時間：1時間程度\n参加費：500円（材料費）\n主催：ぴーや \n  \n●都会でヒミツ基地\n \n都会のど真ん中東遊園地で自分のヒミツ基地を作りましょう。芝生の上に新聞紙で作った骨組を組み立てその上に布をかぶせたらあなたのプライベート空間「ヒミツ基地」が完成。思い思いの使い方をしてみましょう。11時に集合ください。（持ち物：古新聞、ハサミ、テープ、布とかヒミツ基地を飾るもの） \nタイムスケジュール（予定） \n・11：00～11：15　建物の強さや災害時の避難所のお話 \n・11：15～11：30　図面（イメージ図）を書いてみる \n・11：30～12：00　新聞紙でフレーム（1m程度）を必要本数作成。 \n・12：00～14：00　芝生でヒミツ基地を作成 \n・14；00～15：00　ヒミツ基地を使ってみる（住んでみる） \n・15：00～　　　　片付け、全て自分で持ち帰り。 \n \n都会でヒミツ基地\n開催時間：11:00-15:00\n所要時間：4時間\n参加費：無料\n主催：野宿部 \n  \n●PUBLIC SAUNA (パブリックサウナ)\n \n「公園でサウナができたら最高に気持ちいいだろうな。」 そんな思いつきで企画したパブリックサウナ。 開放的な芝生スペースに寝転がると広がる青空。 遊んでいる子供達の声や、お散歩中の犬を眺めながらととのってみませんか？ サウナーの方はもちろん、サウナ未経験の方も大歓迎です。 \n \nPUBLIC SAUNA (パブリックサウナ)\n開催時間：終日開催\n参加費：無料\n主催：meguminch　協力：湊山温泉 \n＊テントサウナ・着替え用テントの準備があります。お洋服のままでも参加可能ですが、汗が気になる場合は水着やタオルなどをご持参ください。 \n  \n●KIDS TALK「東遊園地のビオトープ」 \n \n東遊園地のザリガニは何故いなくなってしまったのでしょうか。生態系について学び、観察し、ビオトープについてみんなで考えます。 \n \nKIDS TALK「東遊園地のビオトープ」\n開催時間：①11:00-　②13:00-　③15:00-\n所要時間：各30分\n参加費：無料\n主催：しょうた \n  \n●ホネと自分 〜身体を知るワーク〜\n \n皆さんは自分の身体のことをどれだけ把握していますか？実は骨の大きさや関節の位置って、意外にイメージとは違っています。それらが実際はどうなっているのか、確認、実感をするワークです。上手くいけば身体が軽くなったり、呼吸や声が楽になったりします。回ごとに観察する部位を変える予定ですので、全て受けて全身を！ \n \nホネと自分 〜身体を知るワーク〜\n開催時間：①11:30-　②13:30-　③15:20-\n所要時間：40分\n参加費：無料\n主催：鈴木優
URL:https://urbanpicnic.jp/event/minna-no-campus2024/
CATEGORIES:みんなのキャンパス,公園を使う
ATTACH;FMTTYPE=image/jpeg:https://urbanpicnic.jp/wp-content/uploads/2024/08/アートワーク_みんなのキャンバス2.jpg
END:VEVENT
BEGIN:VEVENT
DTSTART;TZID=Asia/Tokyo:20240720T110000
DTEND;TZID=Asia/Tokyo:20240720T150000
DTSTAMP:20260424T215207
CREATED:20240706T030052Z
LAST-MODIFIED:20240708T064050Z
UID:5655-1721473200-1721487600@urbanpicnic.jp
SUMMARY:みんなのキャンパス2024　説明会
DESCRIPTION:2019年にURBANPICNICは東遊園地全体を運営するうえで、大学のキャンパスのように日頃から市民が東遊園地に通い、さまざまな文化に出会い、体験し、新しい価値を創造し、交流する未来を描いて「みんなのキャンパス」というビジョンを掲げました。 \n  \n将来ビジョンをそのままプログラム名にした「みんなのキャンパス」 \n「やってみたい」を東遊園地でやってみる。いろんな学びや出会いが生まれ、公園を一緒に育てる市民を増やしたい。そんな想いをカタチにするプログラムです。 \n  \n大学の文化祭のような、市民の方がいろいろなプログラムを東遊園地に持ち寄って、一日を楽しむ。そんなプログラムを一緒に創ってくれるみなさんを募集します。 \n  \n2020年に「OPEN CAMPUS」という名のプログラムで開催したときには、ツリーイングやストレッチなどの体を動かすものから、コマまわしやただ芝生で寝ころぼうという、遊びやのんびりしたプログラムなどさまざまなみんなの「やってみたい」が集まりました。 \n　 \n  \n今回は、みんなのキャンパスで「プログラムを開催したい人」を募集します。また、みんなのキャンパスでは、どんなことができるの？という疑問に答えるために（みんなで考えるために）、説明会を開催します。 \n  \n■説明会の内容 \n・みんなのキャンパスの概要説明 \n・前回開催「OPEN CAMPUS」のプログラム事例紹介 \n・やってみたいことを3分程度でお話 \nやってみたいことは、ちょっとしたアイデアだけで十分です。プログラムとして企画・運営するところまで、事務局が伴走してフォローします。 \n  \n準備しているところに密着して、本番まで記録し形に残そうと計画中。どんな形となるかはお楽しみ。 \n  \n参加しようか迷っている方も大歓迎です。まずは7/20の説明会にお越しください。 \n  \n【みんなのキャンパス説明会　開催概要】 \n  \n■日時 \n2024年7月20日（土）①11：00~12：00、②14：00～15：00（どちらかの時間帯にご参加ください） \n※8月下旬にも、準備ワークショップを開催予定 \n  \n■場所 \n東遊園地URBAN PICNIC　ラウンジ \n  \n■参加費 \n無料 \n  \n■申込 \n下記Googleフォームからお申し込みください \nhttps://forms.gle/HCydJ67H9mfD8X7H9 \n  \n———————————————————————- \n  \nみんなのキャンパス2024は、下記の要領で開催予定です。 \n■日時 \n2024年9月21日（土）11：00~16：00（雨天の場合は、9月22日に順延） \n  \n■条件 \n・参加費　１プログラムにつき5000円（税込）：広報費（フライヤー・ポスター印刷等）、記録撮影費等を含みます \n・準備ワークショップに最低1回は参加できる方。 \n・開催するプログラムは、営利目的ではないものとします（材料費として少額の参加費を受領することは可）。 \n・主催者の年齢制限はありませんが、小学生以下の方は必ず保護者の方の付き添いをお願いします。 \n・準備ワークショップ、当日の記録を撮影いたします。顔出しNGの方はご遠慮ください。
URL:https://urbanpicnic.jp/event/campus_for_everyone_2024_preworkshop01/
LOCATION:東遊園地\, 中央区加納町6-4\, 神戸市\, 兵庫県\, 652-0186
CATEGORIES:みんなのキャンパス,公園を使う
ATTACH;FMTTYPE=image/jpeg:https://urbanpicnic.jp/wp-content/uploads/2024/07/oi0QEbJbRHWdTKkeBlO7kg.jpg
END:VEVENT
END:VCALENDAR