BEGIN:VCALENDAR
VERSION:2.0
PRODID:-//URBAN PICNIC - ECPv6.9.0//NONSGML v1.0//EN
CALSCALE:GREGORIAN
METHOD:PUBLISH
X-WR-CALNAME:URBAN PICNIC
X-ORIGINAL-URL:https://urbanpicnic.jp
X-WR-CALDESC:URBAN PICNIC のイベント
REFRESH-INTERVAL;VALUE=DURATION:PT1H
X-Robots-Tag:noindex
X-PUBLISHED-TTL:PT1H
BEGIN:VTIMEZONE
TZID:Asia/Tokyo
BEGIN:STANDARD
TZOFFSETFROM:+0900
TZOFFSETTO:+0900
TZNAME:JST
DTSTART:20240101T000000
END:STANDARD
END:VTIMEZONE
BEGIN:VEVENT
DTSTART;TZID=Asia/Tokyo:20251102T133000
DTEND;TZID=Asia/Tokyo:20251102T150000
DTSTAMP:20260425T210137
CREATED:20251028T025501Z
LAST-MODIFIED:20251028T025942Z
UID:7310-1762090200-1762095600@urbanpicnic.jp
SUMMARY:みんなでつくる生き物のすみか
DESCRIPTION:東遊園地に関するあれこれを調べてみる。\nインタビューをしたり、自然を観察したり。\n調査して、東遊園地のことをもっともっと深く知る。\nそれが、公園調査部会です。\n調査員の1人、幼いころから東遊園地で遊ぶのが大好きだったという小学6年生のしょうたくんは、昨年9月から、東遊園地にあるビオトープ池について調査を続けています。\nしょうたくんによると、東遊園地のビオトープ池では、リニューアルの前後で、ザリガニをはじめ、動物たちの姿を見ることが減ってしまったそうです。 \n生き物が減ってしまったのはどうしてだろう？\n生き物に戻ってきてもらうために、できることは何だろう？\nそんなことを考えながら、ビオトープ池を舞台に、「公園の自然を育てる」取り組みを進めています！\n今回は、新生田川の植物を東遊園地へ補植しながら、未来の池マップづくりを行います。ご参加、お待ちしています！ \n【開催概要】\n日　時｜ 2025年11月2日（日）13:30～15:00\n場　所｜ 東遊園地　ビオトープ池（園地西側やや南より）\n参加方法｜ 参加自由（申込不要）\n持ち物｜\n・汚れてもいい服装\n・厚手のゴム手袋\n・長靴\n・飲み物\n・スコップ（持っている人）\n注意事項｜\n・池の中に入って作業をします。お子さまが参加される場合は、可能な限り保護者の同伴をお願いいたします。\n・安全管理のため、受付時に参加者全員の「名前・住所・電話番号」をお伺いします。\n・保護者の同伴がない場合は、お子さま自身がその情報を伝えられるようにしておいてください。
URL:https://urbanpicnic.jp/event/biotope-2/
CATEGORIES:公園で学ぶ,公園で遊ぶ
ATTACH;FMTTYPE=image/jpeg:https://urbanpicnic.jp/wp-content/uploads/2025/05/IMG_6209-scaled.jpg
END:VEVENT
BEGIN:VEVENT
DTSTART;TZID=Asia/Tokyo:20250528T160000
DTEND;TZID=Asia/Tokyo:20250530T210000
DTSTAMP:20260425T210137
CREATED:20250621T092627Z
LAST-MODIFIED:20250621T093524Z
UID:7014-1748448000-1748638800@urbanpicnic.jp
SUMMARY:NIGHT PICNIC May 2025［媒体］としての公園
DESCRIPTION:パブリックな夜遊びを\nたゆたいながら文化へ向かう\nあなたと公園の関係性\nNIGHT PICNICは、神戸都心の中心にある都市公園・東遊園地の夜にあらわれる実験的なプログラム。もっと日常的に夜の公園を使いこなすことができたら、夜のまちでの過ごし方が増え、暮らしが豊かになるのではないかという仮説を検証しています。 \n5月のテーマは「媒体」。 \n公園は媒(なかだち)する。\n公園を訪れたとき、公園から聞こえる音を耳にしたとき、そこに集う人たちを眺めるとき、わたしたちは公園そのものだけでなく、地域の風土を感じ取る。\nそのまちでの暮らしを想像する。 \n「伝える」でなく「伝わる」を大切に。 \n  \n≪5/28 のピクニック≫\n[FOOD & DRINK]\nbirica COFFEE & FRESHVEGS / BREADMAN / Cini curry / CÔNE / Harlow Ice Cream / JHOICE laboratory / R the wine shop / SAVEUR / The Sowers / uoyaki cave bar / VALLESAGRADO / viva vin VIVANT / アンジョリーノ神戸 / 季と菜と魚と さんたか / 二ノ宮 稀 / ハレとケ / 骨付鶏専門店がやがや / 穂々 \n[CULTURE]\n▶夜にやさしいフェア\n16:00-21:00\n＠ラウンジ\nさまざまな「やさしさ」を集めたマルシェ的なキャンペーン。\n【出展】山陽製紙、想造楽工、TRUNK DESIGN、パンプシェード、ミシマ社、πの世界×HOME HOME CLUB \n▶PARK TALK #12 媒体とまち\n19:00-20:00\n＠ガーデンステージ\n公園で学びにふれる、月1回のトーク屋外編。\nゲスト：三島邦弘(ミシマ社代表/『ちゃぶ台』編集長) \n≪5/29 のピクニック≫\n[FOOD & DRINK]\namasora / BI.TO.WA / BISCO smashburger / cucina akairo / drizzle / L’AVENUE / LE MARRON / R the wine shop / VALLESAGRADO / 明暮焙煎所 / アンジョリーノ神戸 / 鉄板韓国料理jinan / 土居精肉店 / トランジスタベーカリー / 七花~nanabana~ / ハレとケ / ポルトパニーノfeat.ごはんや ももんち \n[CULTURE]\n▶カラフルペイント大会\n16:00-21:00\n＠ガーデンステージ\n夜にカラフル。みんなでつくるペイント大会。\n協力：想造楽工 \n▶公園のオーケストラ\n17:30～18:30：アンサンブル\n19:00～20:00：オーケストラ\n＠芝生ひろば\n公園にフルオーケストラがやってくる。\n出演：神戸大学交響楽団 \n≪5/30 のピクニック≫\nFOOD & DRINK]\nCRAZY BURRITO / drizzle / KD donuts ~神出ドーナツ工房~ / L’AVENUE / Le Coin / legno / nenne pan / R the wine shop / tent-coffee / ululato / VALLESAGRADO / viva vin VIVANT / 食堂 粹稔 / ネパール料理店kukuri / ハレとケ / ベッカライノイス / 酪と酵母 / リストランテハナタニ \n[CULTURE] \n▶夜の花屋と公園の髪あそび\n16:00-21:00\n＠ラウンジ\nあなたの気持ちを表現するお手伝い。\n花：grelo\n髪：isso(TICK-TOCK)\,MIKI \n▶公園でラジオ\n17:00-20:00\n＠ガーデンステージほか\nいま公園で起こっていることを届けるライブ配信。\nパーソナリティ：中野耕史 \n【NIGHT PICNIC May 2025 概要】\n●時間：16:00~21:00 ※15:00~ Pre-Picnic\n●主催：URBAN PICNIC @urbanpicnickobe\n●会場：東遊園地(神戸市中央区加納町6-4)\n●入場：無料 \n※出店者、企画内容は予告なく変更となる場合がございます。ご了承ください。
URL:https://urbanpicnic.jp/event/nightpicnic_may2025/
CATEGORIES:公園で学ぶ,公園で遊ぶ,公園で過ごす,公園で食べる
ATTACH;FMTTYPE=image/png:https://urbanpicnic.jp/wp-content/uploads/2025/06/スクリーンショット-2025-06-21-18.25.26-e1752298907207.png
END:VEVENT
BEGIN:VEVENT
DTSTART;TZID=Asia/Tokyo:20250416T160000
DTEND;TZID=Asia/Tokyo:20250418T210000
DTSTAMP:20260425T210137
CREATED:20250328T054854Z
LAST-MODIFIED:20250328T054854Z
UID:6613-1744819200-1745010000@urbanpicnic.jp
SUMMARY:NIGHT PICNIC April 2025 ［遭遇］としての公園
DESCRIPTION:パブリックな夜遊びを\nたゆたいながら文化へ向かう\nあなたと公園の関係性\nNIGHT PICNICは、神戸都心の中心にある都市公園・東遊園地の夜にあらわれる実験的なプログラム。もっと日常的に夜の公園を使いこなすことができたら、夜のまちでの過ごし方が増え、暮らしが豊かになるのではないかという仮説を検証しています。 \n4月のテーマは「遭遇」。 \n手に持っているデバイスひとつで、世界中の人とつながることも、自分の好きな情報に絞り込んで手にすることもできる時代。そんな時代に、公園での「偶然の出会い」や、知らない人たちとすごしている「匿名性」の新しい価値を考えます。 \n≪4/16 のピクニック≫\n今年初日となる水曜日は、神戸市外の各地から公園に新しい風を吹き込んでくれるお店や、書店とイラストレーターのコラボレーション展示、ウクライナの民族舞踊や音楽を処方してくれるDJなど盛りだくさん。ベーカリーも4店舗。少しずつ買って、パンの食べ比べをするのもよさそう。 \n知らないものや人に出会う3日間の幕開けを、お楽しみください。 \n[FOOD & DRINK]\nbirica COFFEE&FRESHVEGS / BREADMAN / coboto bakery / cucina akairo / KD donuts / R the wine shop / RAGI / SAVEUR / VALLESAGRADO / viva vin VIVANT / YOUTH COFFEE / 季と菜と魚と さんたか / 茶と菓と いい日 ハレとケ / ベッカライノイス / まちのピザ屋 BET / 酪と酵母 \n[CULTURE]\n▶夜のための本と絵\n16:00-21:00\n公園の夜に現れる、1 日だけの本屋と画廊。\n出演：自由港書店、小泉まお\n場所：ラウンジ \n▶夜に踊る 〜ウクライナ民族舞踊〜\n①18:00-18:20 ②19:00-19:20\n出演：バルヴィノク\n場所：ガーデンステージ \n▶ヒューマン・ジュークボックス\n18:30-21:00\nDJ が音楽を処方するこころみ。1 曲 100 円。\n出演：Penny 協力：神戸・甲陽音楽&ダンス専門学校\n場所：公園内のどこか \n▶ park table WEEKEND\n17:00-21:00\n「park kitchen WEEKEND」が、3 日間持込可のイートインテーブルに。店内メニューの注文も可能。※席料有料 ※通常利用も可 \n\n≪4/17 のピクニック≫\n3日間の中日、木曜日は世界各国の料理や、農業を営みながら食卓までつなげている神戸市西区のみなさまなど、フードもさまざまな選択肢。\nこどもによるこどものための空間があり、その向かいの芝生ではアフリカ音楽や、文化人類学のトークが繰り広げられる。 \n遭遇する情報量の多さに驚きながら、無理に理解せず、観察してみる。隣の人と、少し話してみる。 \n公園で、迷い込む日。 \n[FOOD & DRINK]\nC-farm / ChiQ / CRAZY BURRITO / csew / drizzle / Harema ハンバーガーと、コーヒーと、 / KD donuts / oimostand / petal / QUEST / R the wine shop / VALLESAGRADO / viva vin VIVANT / 神戸アジアン食堂バル SALA / 神戸中華うえばやし / ナベサンテ / バルストロキッチン / ハレとケ / 酪と酵母 \n[CULTURE]\n▶こどもこうえん食堂\n17:30-20:00\n店員も、食べるのも、こどもだけの夜食堂。※一部申込制 ※有料\n協力：cucina akairo、八方美菜\n場所：ラウンジ \n▶ピクニックのための音楽 ~アフリカ編~\n18:00-19:00\nDJ：Tons\n場所：公園内 \n▶ PARK TALK #11「ひととまち 〜集うことの人類学〜」\n19:00-20:00\nゲスト：松村圭一郎(文化人類学者/岡山大学文学部准教授) \n\n≪4/18 のピクニック：シタマチコウベコラボ DAY≫\n４月日程の最終日はディープな神戸の魅力を掘り起こし、発信し続けるウェブメディア「シタマチコウベ」が公園に立ち込めます。東遊園地の最寄り駅でもある神戸市営地下鉄海岸線「三宮・花時計前駅」からたどり着ける、神戸のシタマチを体感できる特別な日。知らなかった神戸の魅力に“遭遇”してみる？もちろんいつものメンバーも、ビールにワイン、カレーやチーズ、ハンバーガーと多様にピクニックの手助けをしてくれます。 \n[シタマチ FOOD ]\n隠れ家 巛(せん) / SAIGON Truonghai / 丸五 Spice Up / KOBE PAIR TRAWLINGS / したまちのえきロッケン \n[Other FOOD & DRINK]\namasora / BREADMAN / CRAZY BURRITO / drizzle / Harema ハンバーガーと、コーヒーと、 / Harlow ICE Cream / JHOICE laboratory / Le-coin / nenne pan / R the wine shop / spicemobb / VALLESAGRADO / viva vin VIVANT / アンジョリーノ神戸 / ハレとケ / 酪と酵母 \n[シタマチ CULTURE]\n▶ シタマチギャラリー\n16:00-21:00\nディープなお店が集合する 1 日限りのシタマチポップアップ。\n【出店】豆醍珈琲/本屋ロカンタン/神戸ザック・イモック/SHOT BAR BUZZ/淡路屋/踵印製作所/がらくたとボク。\n場所：ラウンジ \n▶公園のダンス\n〜芝生の演奏会特別編〜\n①18:00-18:20 ②19:00-19:20\nナイトピクニックスペシャルエディションとして、3 人のアーティストが公園に多文化の風を吹かせにやってくる。\n出演：芸とまちのコラボレーション遊合祭\n場所：ガーデンステージ \n※出店者、企画内容は予告なく変更となる場合がございます。ご了承ください。
URL:https://urbanpicnic.jp/event/nightpicnic_april2025/
LOCATION:東遊園地\, 中央区加納町6-4\, 神戸市\, 兵庫県\, 652-0186
CATEGORIES:公園で学ぶ,公園で遊ぶ,公園で過ごす,公園で食べる
ATTACH;FMTTYPE=image/jpeg:https://urbanpicnic.jp/wp-content/uploads/2025/03/20241011s-276.jpg
END:VEVENT
BEGIN:VEVENT
DTSTART;TZID=Asia/Tokyo:20250308T110000
DTEND;TZID=Asia/Tokyo:20250308T150000
DTSTAMP:20260425T210137
CREATED:20250207T002042Z
LAST-MODIFIED:20250207T035050Z
UID:6149-1741431600-1741446000@urbanpicnic.jp
SUMMARY:Yellow Yellow Kobe
DESCRIPTION:誰もがその人らしく輝けますようにと願う\nマーケット＆ステージ\n「女性の政治的自由と平等のためにたたかう」として制定された国際女性デーの日付を、3月8日と国連が定めてから今年で50年が経ちます。また、国際連合の創設50周年に行われた第4回世界女性会議で、すべての女性の平等や平和の目標を推進するために謳われた「北京宣言と行動綱領」の宣言から30年という年でもあります。 \nこの50年で世界や女性の権利に対する視点は大きく変わり、神戸でも2022年から「ひょうご・こうべ女性活躍推進企業」（ミモザ企業）を認定する取り組みが始まりました。 \nその一方で、日本企業における女性の管理職の割合などはまだまだ低く、また、つくられた形式的なものではない、だれもが自分らしく生き、表現することができる本当の意味でのフラットな社会が実現できているとは言い難いと感じます。 \n世界に開かれた港町である神戸の、東遊園地というパブリックな場所から、女性の権利について、また誰もが性別にかかわらず自分らしく生きられる街について、改めて考えてみる取り組みです。 \n特定の人が参加する場ではなく、公園という誰もが気軽に訪れる場所だからこそ、性別や年齢に縛られず、みんなで話し合うことができると信じています。 \n「女性を含む誰にとっても、自由と平等は特別なものではなく、ごく当たり前に街の中にあるべきものである」というメッセージを、まちに広げていきましょう。 \n🚩MARKET / 11:00~15:00 @URBAN PICNIC ラウンジ\n兵庫県内で活躍する人やお店が集います。「自分らしく働く」をキーワードに、パートナーで、親子で、おひとりで、チームで。人生における楽しみの一部分として、仕事という面でも輝く皆さんと話し、楽しみましょう。 \n【出店】\nえほんのトコロ / 絵本\nおーみりか / 耳ツボジュエリー&睡眠のためのコスメブランド　※Karen Otaniと同ブース、13:30ごろまで\n本の栞 / 書籍とZINE\nCrazy Burrito / フード(テックスメックス)\nEAST PARK FLOWERS / ミモザの花束\nFRANCESCA AMAM LABEL / アパレル ※La fille de FALと同ブース\nHAILA jewelry / 彫金アクセサリー\nKaren Otani / ナチュラルワイン\nHOME HOME CLUB / 褒める\nLa fille de FAL / 焼き菓子\npetal / コーヒー \n🚩STAGE / 11:00~14:30 @ガーデンステージ(小さな芝生)\nマーケットを行っている向かいの芝生「ガーデンステージ」では、トークやステージで、公園に訪れた人たちと一緒に考える機会をつくります。このイベントへ参加するために来場した方だけでなく、たまたま公園に居合わせた人たちにも種をまくような、すべて参加無料で入退場も自由なプログラムです。 \n🎷パークステージ　①11:00~11:30　②12:00~12:30\nまちで自分らしさを表現できること、そして豊かな表現を探求することについて一緒に考えるためのパフォーマンス。サックス・パーカッション・コンテンポラリーダンスが芝生の上で混ざり合います。(ダンスはどちらか１ステージのみ) \n【出演】\n中西悦子さん / サックスプレイヤー \nキタ ぽんぽこ☆タカユキさん / パーカッショニスト \n小松菜々子さん / コンテンポラリーダンサー \n\n🎙トークセッション「仕事と暮らしの中にある表現」　13:00~14:00\n \n仕事や暮らしのバランス、その中で表現される「自分らしさ」について、今回のYellow Yellow Kobeに参加してくれる出店者や出演者の多様な経験・生き方を聴きながら、会場が一体となって考えるトークセッション。 \n【ゲスト】\n畑菜津美さん / CRAZY BURRITOオーナー \n小松菜々子さん / コンテンポラリーダンサー \n楢崎英理さん / 株式会社AKIND ・HOME HOME CLUBメンバー \n【モデレーター】\n浜野千春さん / 社会福祉士・国家資格キャリアコンサルタント　NPO法人フェミニストカウンセリング神戸 理事 \n\n🏋️‍♀️青空トレーニング＆ヨガ　14:00~14:30 \n気になっていてもなかなか通いづらいトレーニングやヨガ。しかし、心身ともに健康でありたいと思う気持ちはもちろんある。女性専用パーソナルジムのトレーナーが公園にやってきて、性別や年齢問わず体験できるミニトレーニングを開催します。※トレーニング用のゴムバンドやヨガマットをお持ちの場合は、ご持参をお願いします。(持っていなくてももちろんご参加いただけます。) \n協力： personal body design SPARROW (AYAKA，SHIORI)
URL:https://urbanpicnic.jp/event/yyk2025/
LOCATION:東遊園地\, 中央区加納町6-4\, 神戸市\, 兵庫県\, 652-0186
CATEGORIES:公園で学ぶ,公園で遊ぶ
ATTACH;FMTTYPE=image/jpeg:https://urbanpicnic.jp/wp-content/uploads/2025/02/横長.jpg
END:VEVENT
BEGIN:VEVENT
DTSTART;VALUE=DATE:20250129
DTEND;VALUE=DATE:20250209
DTSTAMP:20260425T210137
CREATED:20250204T052517Z
LAST-MODIFIED:20250204T052544Z
UID:6139-1738108800-1739059199@urbanpicnic.jp
SUMMARY:公園調査部会を結成します
DESCRIPTION:東湯園地に関するあれこれを調べてみる。インタビューをしたり、定点観測をしたり、自然を観察したり。調査してみて、東遊園地のことをもっともっと深く知る。それが、公園調査部会です。 \nこれまでは、URBAN PICNICスタッフの疑問や気になることをテーマに調査してきましたが、今回の調査から新たに調査員を募集して、「公園調査部会」を結成します。 \n「ビオトープ池からザリガニがいなくなってしまったのは、なぜ？」 \n「噴水の水、夏は冷たくできないのかな？」 \n「芝生が閉まっている期間があるのはどうして？」 \nそんな風に、東遊園地で「はてな？」を感じたこと、ありませんか？ \nあなたの「はてな？」をもとに、東遊園地のまだ知られていない一面を、調査してみんなで探ってみましょう！ \n調査した内容は、URBAN PICNICが発行する広報誌「UP PRESS」の記事として掲載します。\nより良い公園づくりに向けて、公園の新しい魅力や課題を見つけ出してみませんか。\nみなさんのご応募、お待ちしております！ \nーー \n🔍こんなことをします\n・四半期に一度、調査を実施します\n・みなさんの疑問を持ち寄り、各回部会のみんなで調査のテーマを決定します\n・調査は参加できるタイミングでご参加ください（毎回の参加でなくでも可） \nーー \n📢こんな方をお待ちしています\n・東遊園地で「はてな？」を感じたことがある方\n・自然や歴史に興味がある方\n・東遊園地をよく利用している方\n・チームでの活動が好きな方\n・新しい発見や改善に意欲的な方\n・調査を途中であきらめない方\n年齢や性別、経験は問いません。さまざまな方の参加をお待ちしています。 \nーー \n今回の活動スケジュール\n応募締め切り：2025年2月7日\n調査期間：2025年2月中 \nーー \n応募方法\n●URBAN PICNICの窓口で応募\n建物東側にあるインフォ窓口に直接お越しください。\n●メールで応募\ninfo@urbanpicnic.jpまでご連絡ください。\n①名前（ふりがな）②調査してみたいこと を本文にご記入ください。 \nーー \nお問い合わせ\n電話番号：078-515-6155（9:00-19:00）\nメールアドレス：info@urbanpicnic.jp
URL:https://urbanpicnic.jp/event/park_research_2502/
CATEGORIES:公園で遊ぶ
ATTACH;FMTTYPE=image/jpeg:https://urbanpicnic.jp/wp-content/uploads/2025/02/DSC08271-scaled.jpg
END:VEVENT
BEGIN:VEVENT
DTSTART;TZID=Asia/Tokyo:20241115T100000
DTEND;TZID=Asia/Tokyo:20241115T103000
DTSTAMP:20260425T210137
CREATED:20240825T043618Z
LAST-MODIFIED:20241105T022832Z
UID:5880-1731664800-1731666600@urbanpicnic.jp
SUMMARY:公募プログラム／Morning HULA
DESCRIPTION:３０分間、HULAを楽しむプログラム。 \n踊るだけではなく、芝生に寝っ転がったり、触ったりして、その土地の自然を感じてみる。\nそんな体験ができる、今回の公募プログラム。 \nこの公園を、どんな風に使ったら、素敵な風景がつくれるだろうか。\nこの公園でどんなことをしたら、まち全体が、もっと素敵になるだろうか。\nそんなことを考えながら、市民のみなさんで企画するのが公募プログラムです。 \n今回の企画者は「渋谷めぐ実」さんです。 \n９月の朝、公園で、一緒にフラを楽しんでみませんか？\nご参加、お待ちしております。 \n【『Morning HULA』開催概要】\n日時：２０２４年１１月１５日（金）１０：００～１０：３０\n場所：ガーデンステージ（小さいほうの芝生）\n参加費：無料\n対象：どなたでも参加可能\n申込：不要
URL:https://urbanpicnic.jp/event/morning-hula/
CATEGORIES:公園で遊ぶ
ATTACH;FMTTYPE=image/jpeg:https://urbanpicnic.jp/wp-content/uploads/2024/08/IMG_3182-scaled.jpg
END:VEVENT
BEGIN:VEVENT
DTSTART;TZID=Asia/Tokyo:20241113T160000
DTEND;TZID=Asia/Tokyo:20241113T180000
DTSTAMP:20260425T210137
CREATED:20241023T075721Z
LAST-MODIFIED:20241107T081251Z
UID:6063-1731513600-1731520800@urbanpicnic.jp
SUMMARY:NIGHT PICNIC 2024 After Picnic
DESCRIPTION:2024年は5\,6\,8\,10月と、4回にわたって開催してきたNIGHT PICNICの開催レポートと、今後のNIGHT PICNICの可能性について検討するオープンミーティングを開催します。\nこれまでの東遊園地のあゆみや、NIGHT PICNIC以外の取り組みのご紹介などもありますので、NIGHT PICNICがなぜはじまったのか、どんな狙いで開催しているのかなど、普段訪れるだけではわかりにくい部分もご理解いただけるのではないかと思います。\n出店してみたい、NIGHT PICNICで企画をしたいなどコラボレーションのきっかけに、もしくは来年度の取材検討など、企画を詳しく知る機会に、ご活用ください。 \n🚩タイムテーブル\n2024年11月13日(水)　16:00-18:00\n \n15:45-　受付\n16:00-　開会のあいさつ/東遊園地・URBAN PICNICのこれまで\n16:20-　NIGHT PICNICふりかえり（開催の経緯・2024年の目的や実績など）\n17:00-　休憩\n17:10-　オープンミーティング「NIGHT PICNICのゆくえ」\n企画者・出店者などさまざまな立場から見たNIGHT PICNICを話し合います。\n登壇者(予定)：秋田壮馬(ハレとケ\,出店者)・高橋裕子(U\,運営協力)・岡部敏子(フレンズ)・稲葉滉星(URBAN PICNIC\,企画運営)\nモデレーター：楢崎英理(株式会社AKIND)\n17:50-　閉会\n18:00-　希望者のみ懇親会(出店者等も参加予定) \n🚩参加条件・開催方法\n参加無料・予約制\nオンライン/オフラインのハイブリッド開催\n※申込時にご希望される参加方法のチケットをお選びください。\n※オンライン参加の場合、zoom等による配信を予定しております。\n※それぞれ定員がございます、ご了承ください。 \n🚩会場\nURBAN PICNIC ラウンジ\n神戸市中央区加納町6-4-1 東遊園地内 \n🚩その他注意事項\n・懇親会はワンドリンク付き1\,000円＋料理持ち寄り制です。\n詳細はご参加希望の方にご連絡いたします。\n・混雑した場合、立ち見などをお願いする可能性がございます。ご了承ください。
URL:https://urbanpicnic.jp/event/night-picnic-2024-after-picnic/
LOCATION:東遊園地\, 中央区加納町6-4\, 神戸市\, 兵庫県\, 652-0186
CATEGORIES:公園で学ぶ,公園で遊ぶ
ATTACH;FMTTYPE=image/jpeg:https://urbanpicnic.jp/wp-content/uploads/2024/10/DSC00907.jpg
END:VEVENT
BEGIN:VEVENT
DTSTART;TZID=Asia/Tokyo:20241108T150000
DTEND;TZID=Asia/Tokyo:20241108T160000
DTSTAMP:20260425T210137
CREATED:20240910T032245Z
LAST-MODIFIED:20241105T002620Z
UID:5886-1731078000-1731081600@urbanpicnic.jp
SUMMARY:公募プログラム／English Meet up at the Park（こうえんであそぼう）
DESCRIPTION:英語の手遊びや絵本の読み聞かせ、簡単なゲームを楽しめるプログラム。 \n子どもたちが、気軽に外国の文化に触れられる、外国の文化をもっと近くに感じられる。そういうきっかけが、公園にあったらいいな。\nそんな思いから生まれた、今回の公募プログラム。 \nこの公園を、どんな風に使ったら、素敵な風景がつくれるだろうか。\nこの公園でどんなことをしたら、まち全体が、もっと素敵になるだろうか。 \nそんなことを考えながら、市民のみなさんで企画するプログラムが公募プログラムです。 \n今回の企画者は「Kobe English Academy」のみなさんです。 \n公園で、外国の文化に触れてみませんか？\nご参加、お待ちしております。 \n【『English Meet up at the Park（こうえんであそぼう）』開催概要】\n日時：２０２４年１１月８日（金）１５：１５～１５：４５\n場所：ガーデンステージ（小さいほうの芝生）\n参加費：無料\n対象：お子さまと保護者の方＆どなたでも参加可能\n申込：不要
URL:https://urbanpicnic.jp/event/english-meet-up-at-the-park/
CATEGORIES:公園で遊ぶ
ATTACH;FMTTYPE=image/jpeg:https://urbanpicnic.jp/wp-content/uploads/2024/09/IMG_3358-scaled.jpg
END:VEVENT
BEGIN:VEVENT
DTSTART;TZID=Asia/Tokyo:20241009T160000
DTEND;TZID=Asia/Tokyo:20241011T210000
DTSTAMP:20260425T210137
CREATED:20240923T020448Z
LAST-MODIFIED:20240923T020448Z
UID:6006-1728489600-1728680400@urbanpicnic.jp
SUMMARY:NIGHT PICNIC October 2024
DESCRIPTION:NIGHT PICNIC は、夜の公園をどんなふうに使えたら、わたしたちの暮らしが豊かに、神戸の夜がもっと素敵になるのかを考えるために生まれた、神戸市役所の南側に広がる公園、東遊園地で開催するイベントです。 \n今年度最後の NIGHT PICNIC は、この次の日からも続く日常に対する小さな提案。遊具がない東遊園地だからこそ、「遊ぶ」という行為にクリエイティビティが試される。\n主催者も参加者もわけへだてなく、この公園の遊び方を探す旅。 \n≪10/9のピクニック≫\n[FOOD & DRINK]\nBISCO smashburger\nBlue-B Burgers\ncucina akairo\ndrizzle\n神戸中華うえばやし\n骨付鶏専門店　がやがや\n7bé santé(ナベサンテ)\n酪と酵母\nルリカケス\nR the wine shop\nviva vin VIVANT\nバジェサグラード\nハレとケ\nCÔNE\nKD donuts\n明暮焙煎所 \n[ACTIVITY]\n▶夜と彫刻 by C.A.P.\n17:00-21:00\nアーティスト：築山有城(彫刻家・C.A.P.代表)\n場所：ラウンジ \n▶PING-PONG PICNIC by メトロ卓球場\n16:00-20:00\n場所：公園内 \n▶PARK TALK #07 「夜とまち ～夜の公園を、みんなでつかう～」\n20:00-21:00\n登壇：村上豪英(株式会社村上工務店 代表取締役社長)、稲葉滉星(有限会社リバーワークス、NIGHT PICNIC企画)\n場所：ガーデンステージ \n▶PARK JAZZ by Kobe Jazz Centennial\n19:30-20:00\n場所：ガーデンステージ \n≪10/10のピクニック≫\n[FOOD & DRINK]\nBREADMAN\nCRAZY BURRITO\ndrizzle\nHarema\nブラッスリー ラルドワーズ\nベッカライノイス\n季と菜と魚と さんたか\n小さな中華ビストロ　ROKU\n酪と酵母\nR the wine shop\nviva vin VIVANT\nバジェサグラード\nハレとケ\nHarlow ICE CREAM\nKD donuts\nUNICORN \n[ACTIVITY]\n▶ ロスパンで公園を明るくしよう！\nby パンプシェード\n16:00-21:00　※有料\n場所：ラウンジ \n▶よるの公園たんけん隊 by こどもみらい探求社\n①17:00- ②18:00-\n※事前申込制・有料\n場所：公園内 \n▶植物の夜について\nアーティスト：銅金裕司×HERB SHOP\n18:00-21:00\n場所：ガーデンステージ \n≪10/11のピクニック≫\n[FOOD & DRINK]\nBREADMAN\nC-farm cafe\ndrizzle\nHarema\nHIYORI BROT\nLe coin\nアンジョリーノ\nパリでのできごと\nポルトパニーノfeat.ごはんや ももんち\nR the wine shop\nviva vin VIVANT\nバジェサグラード\nハレとケ\n酪と酵母\ncsew\nHarlow ICE CREAM\noimostand \n[ACTIVITY]\n▶ スナックこのごろ\nby 次世代、暮らしの探究所\n16:00-21:00\n場所：ラウンジ \n▶オペラピクニック\n①17:00~\,②18:00~\,③19:00~\n出演：松尾 知佳(ソプラノ)、立塚夢子(ソプラノ)、大西有紀(作曲・ピアノ)\n場所：ガーデンステージ\n▶夜と描く：うつろい\n18:00-19:00\nアーティスト：RIKA KIKUCHI\n場所：芝生広場 \n——————————————————\nNIGHT PICNIC 2024概要\n●日程：\n5/15(水)～5/17(金)「公園と学ぶ、夜を深める。」\n6/12(水)～6/14(金)「公園を読む、解釈してみる。」\n8/1(木)～8/12(月)「公園で過ごす、持ち寄る。」\n10/9(水)～10/11(金)「公園を遊ぶ、夜が続く」\n●時間：16:00~21:00\n※15:00~は混雑が苦手な人向けのプレピクニックです。\n●主催：URBAN PICNIC\n●会場：東遊園地(神戸市中央区加納町6-4)\n●入場：無料\n●決済方法：各店舗により異なる\n●問い合わせ：info@urbanpicnic.jp\n——————————————————\n※出店者、企画内容は予告なく変更となる場合がございます。ご了承ください。
URL:https://urbanpicnic.jp/event/night-picnic-october-2024/
CATEGORIES:公園で遊ぶ
ATTACH;FMTTYPE=image/jpeg:https://urbanpicnic.jp/wp-content/uploads/2024/09/DSC02389-scaled.jpg
END:VEVENT
BEGIN:VEVENT
DTSTART;TZID=Asia/Tokyo:20241007T170000
DTEND;TZID=Asia/Tokyo:20241007T180000
DTSTAMP:20260425T210137
CREATED:20240825T045904Z
LAST-MODIFIED:20241006T091521Z
UID:5890-1728320400-1728324000@urbanpicnic.jp
SUMMARY:公募プログラム／絵本の夕べ
DESCRIPTION:大人の方向けに、夕暮れどきの公園で絵本を音読したり、ゆったりおしゃべりしたりと穏やかに過ごすプログラム \nふらっと公園に来た人が、この場所でゆったりした時間を過ごそうと思えるようなきっかけをつくりたい。\nそんな思いからうまれた、今回の公募プログラム。 \nこの公園を、どんな風に使ったら、素敵な風景がつくれるだろうか。\nこの公園でどんなことをしたら、まち全体が、もっと素敵になるだろうか。\nそう考えながら、市民のみなさんで企画するのが公募プログラムです。 \n今回の企画者は「セイラ＆やっくん 」のおふたりです。 \n９月の夕暮れどきは、公園で、一緒にゆったりした時間を過ごしてみませんか？\nご参加、お待ちしております。 \n【『絵本の夕べ』開催概要】\n日時：２０２４年１０月７日（月）１７：００～１８：００\n場所：アウトドアライブラリー前\n参加費：無料\n対象：どなたでも参加可能\n申込：不要
URL:https://urbanpicnic.jp/event/ehonnoyuube/
CATEGORIES:公園で遊ぶ
ATTACH;FMTTYPE=image/jpeg:https://urbanpicnic.jp/wp-content/uploads/2024/08/絵本の夕べ.jpg
END:VEVENT
BEGIN:VEVENT
DTSTART;TZID=Asia/Tokyo:20240827T160000
DTEND;TZID=Asia/Tokyo:20240827T180000
DTSTAMP:20260425T210137
CREATED:20240818T065200Z
LAST-MODIFIED:20240818T065200Z
UID:5750-1724774400-1724781600@urbanpicnic.jp
SUMMARY:公募プログラム／絵本と青空とフリスビーと
DESCRIPTION:この公園を、どんな風に使ったら、素敵な風景がつくれるだろうか。\nこの公園でどんなことをしたら、まち全体が、もっと素敵になるだろうか。 \nそんなことを考えながら、市民のみなさんで企画するプログラムが公募プログラムです。 \n今回の企画者は「NPO法人絵本で子育てセンター 神戸支部 てるてるぼうず」のみなさん。\nお子さまも一緒にご参加いただける、絵本の読み聞かせとフリスビーづくりのプログラムです。 \n子どもたちに、屋外の空気を感じながら絵本と親しんでほしい。屋外で空を見上げてみてほしい。\nそんな想いで、今回のプログラムを考えていただきました。 \n8月の夕方、公園で、絵本と青空、そしてフリスビーを楽しんでみませんか。\nご参加、お待ちしております。 \n【『絵本と青空とフリスビーと』開催概要】\n日時：２０２４年８月２７日（火）１６：００～１８：００\n場所：ガーデンステージ（小さいほうの芝生）\n参加費：無料\n対象：お子さまと保護者の方＆どなたでも参加可能\n申込：不要
URL:https://urbanpicnic.jp/event/ehon-aozora-frisbee/
CATEGORIES:公園で遊ぶ
ATTACH;FMTTYPE=image/jpeg:https://urbanpicnic.jp/wp-content/uploads/2024/08/IMG_3030-scaled.jpg
END:VEVENT
END:VCALENDAR