BEGIN:VCALENDAR
VERSION:2.0
PRODID:-//URBAN PICNIC - ECPv6.9.0//NONSGML v1.0//EN
CALSCALE:GREGORIAN
METHOD:PUBLISH
X-WR-CALNAME:URBAN PICNIC
X-ORIGINAL-URL:https://urbanpicnic.jp
X-WR-CALDESC:URBAN PICNIC のイベント
REFRESH-INTERVAL;VALUE=DURATION:PT1H
X-Robots-Tag:noindex
X-PUBLISHED-TTL:PT1H
BEGIN:VTIMEZONE
TZID:Asia/Tokyo
BEGIN:STANDARD
TZOFFSETFROM:+0900
TZOFFSETTO:+0900
TZNAME:JST
DTSTART:20250101T000000
END:STANDARD
END:VTIMEZONE
BEGIN:VEVENT
DTSTART;TZID=Asia/Tokyo:20251003T000000
DTEND;TZID=Asia/Tokyo:20251019T000000
DTSTAMP:20260425T225253
CREATED:20251001T091826Z
LAST-MODIFIED:20251005T131433Z
UID:7224-1759449600-1760832000@urbanpicnic.jp
SUMMARY:GREEN MARKET 2025 Autumnフォトコンテスト
DESCRIPTION:テーマ：植物のある暮らし \n植物を育てる。\n植物と暮らす。\n植物とつながる。 \n土にふれたときの、ふっと心がほどける感覚。\n部屋のすみに佇むグリーン。\nプレゼントにもらった花束を花器にいけているとき。 \n植物のある暮らしのなかには、人との記憶や、自分らしさを感じる瞬間がそっとあります。あなたの日常の中にある、植物とのやさしい時間を、写真におさめてみませんか？そんなすてきな作品をお待ちしております。 \n｜応募方法｜\nInstagramに投稿して応募するフォトコンテストです。\n:1:　Instagramで @greenmarket.eastpark をフォロー\n:2:　投稿写真に @greenmarket.eastpark をメンション\n:3:　ハッシュタグ 「#グリーンマーケットフォトコン2025」 と、エントリーしたい部門 「#育てる部門」、「#暮らす部門」、「#つながる部門」のいずれかをつけて投稿\n:4:　写真のタイトルやエピソードを記入。あなたと植物とのお話を聞かせてください。\n※1人何点でも応募可（1投稿1枚まで）\n※ストーリーズではエントリーとなりません。ご注意ください。\n｜募集期間｜\n2025年10月3日(金) 〜 10月18日(土) \n｜結果発表｜\n2025年10月25日\n当アカウントと神戸・東遊園地のグリーンマーケット会場（入賞写真展示） \n  \n｜３つの部門とプレゼント｜ \n育てる部門\n育てることが喜びであり楽しみ。\nそんなシーンを伝える作品。\nプレゼント：ルーツポーチ５点セット　５名様 \n\n \n  \n暮らす部門\nグリーンがそばにあること、グリーンが近くにあり心地いい様子はどんな風景ですか。\nそんな、植物と暮らす心地よさを伝える作品。\nプレゼント：淡路島｜ミナトノミナト宿泊券（5名様まで宿泊可） 1名様 \n\n \n  \nつながる部門\n沿道でいつも見送ってくれる木々、毎年出会う花、\nまた、植物が人と人をつなぐ様子を伝えるような作品。\nプレゼント：神戸市兵庫区｜食べる植物園お食事券5\,000円 10名様 \n \n \n――― \n  \n特別賞　LOVEGREEN賞\nすべてのご応募の中から、ボタニカル専門のWEBメディアLOVEGREEN編集スタッフが素敵だと感じた作品を投稿いただいた1名の方にムーミン×LOVEGREEN特製ガーデニングバッグをプレゼント。 \n\n<!doctype html> \n\n\n\n\n\nフォトコンテスト 応募要項 \n\n\n \n\nフォトコンテスト 応募要項\n\n\n      応募期間＋ \n\n2025年10月3日～10月18日 \n \n\n\n      入選者への通知＋ \n\n2025年10月20日頃。 \n \n\n\n      結果発表＋ \n\n2025年10月25日　当アカウントと神戸東遊園地のグリーンマーケット会場（入賞写真展示） \n \n\n\n      応募資格＋ \n\n\nInstagramアカウントをお持ちの個人の方。\nアカウントを公開設定にして、ダイレクトメッセージを受け取れる設定にしていること。\n日本国内在住で、賞品の発送先が日本国内の方。\n応募方法・規約に従い、応募ができること。\n\n\n\n      応募規約＋ \n\n\n入賞者には弊社公式InstagramアカウントからDMをお送りいたします。その際、ご住所、お名前、お電話番号等をお伺いいたします。\n入賞の通知から期日までにご連絡のない場合は入賞を取り消しとさせていただきます。\nご応募いただいた投稿の中から、当アカウントの投稿や公式サイトのニュースリリースやイベント等にて、お写真をご紹介させていただく場合がございます。\n写真画像に応募者以外の人物が写っている場合は、その方（未成年の場合は保護者）の承諾を得た上で応募してください。\n写真画像には住所や氏名等の個人情報、政治的または性的表現、法令または公序良俗に反する表現が含まれないようにしてください。\n本コンテストは、やむを得ない事情により中止または内容が変更となる場合がございますので、あらかじめご了承ください。\n\n\n\n      お問い合わせ＋ \n\nコンテストに関するお問い合わせは、以下までお願いいたします。 \ninfo@urbanpicnic.jp
URL:https://urbanpicnic.jp/event/green-market-2025-autumn-photo-contest/
CATEGORIES:GREEN MARKET
ATTACH;FMTTYPE=image/png:https://urbanpicnic.jp/wp-content/uploads/2025/10/GM2025秋フォトコン.png
END:VEVENT
BEGIN:VEVENT
DTSTART;TZID=Asia/Tokyo:20251025T080000
DTEND;TZID=Asia/Tokyo:20251025T170000
DTSTAMP:20260425T225253
CREATED:20251003T040503Z
LAST-MODIFIED:20251008T083404Z
UID:7242-1761379200-1761411600@urbanpicnic.jp
SUMMARY:GREEN MARKET 2025 Autumn
DESCRIPTION:植物と人とが近づける場所、東遊園地。\n10月25日、GREEN MARKET 開催します。 \nGREEN MARKET は、日ごろから植物を暮らしに取り入れるカルチャーを提案するマーケット。花やみどりの生産者や個性的な園芸店、素材にこだわっ た食品や雑貨、古書など魅力的なお店が一同に会し、植物のある 豊かな暮らしを伝えます。 \nまた、会場となる東遊園地は、自然の景を創出するNaturalistic landscapingの手法で構成されたガーデンがあり、ガーデナーや ボランティアが連携し、まちのみどりを支えています。 \n植物のある豊かな暮らしと街。 \nこれを伝え、そのムーブメントをみんなと考える一日です。 \n2025 Autumn のテーマは「循環」。 \nつくる人とつかう人、自然と街、日々の暮らしと未来―\nそのつながりはめぐりめぐって、日常に小さな豊かさをもたらし、次の世代へ受け継がれていきます。 \n種や苗が育ち、やがてまた次の種となるように。\n落ち葉や野菜くずが土に還り、新しい花を育む力になるように。\n植物を分け合い、暮らしのアイデアを交換しながら、人と人ともつながっていくように。 \n自然とともにめぐる暮らしのかたちを、ここで感じてみてください。\nあなたのささやかな関わりが、この循環を育む力になります。 \n🌱 \n| GREEN MARKET 2025 Autumn 概要 | \n日時\n2025年10月25日(土)10:00-16:00\n※雨天の場合、10月26日(日)に延期開催 \n場所\n東遊園地\n（神戸市中央区加納町6-4） \n出店者のみなさん（五十音順） \n🌿Plants and flowers \n👨‍🌾生産者のみなさん_______________\nherva｜ハーブ栽培\nlucky hill fruit farm｜いちじく根域栽培\nmoromoro garden｜ハーブ栽培\nシャンデエルブ｜ハーブ、野菜栽培\nテラゲンファーム｜養蜂、野菜・果樹栽培\n_______________________________ \nantique totto｜ミニ盆栽、アンティーク\nHERB SHOP｜ハーブ、アロマ、蒸留デモンストレーション\nHOME&PLANTS｜観葉植物\ntlahus｜樹木、北欧雑貨\nvalon tila｜生花・EAST PARK FLOWERS\nVESTITA｜生花・EAST PARK FLOWERS\nデラプランタ・レイノ｜観葉植物\nビカクモノ｜観葉植物（ビカクシダ）\n二楽園｜観葉植物、雑貨\n鈴蘭園｜花苗 \n🪵Goods\nAasha｜植物でつくる財布\nFUJIKO｜マクラメ\nHORT｜パロサント\nsoso｜天然木と岩絵具のアクセサリー\nWalnut & Co.｜ルーツポーチ\n地球Labo｜コンポスト \n🥪Foods\nADASTRA Café｜軽食\nbirica COFFEE & FRESHVEGS｜軽食\nborage(ボリジ)｜軽食・焼菓子\nCHiQ｜グルテンフリーのパン\nRAGI｜天然酵母のパン\nよなよなドーナッツ｜植物、米粉とおからのお菓子\nレピス｜焼菓子・瓶詰\n萩原珈琲｜コーヒー、ドリンク \n📚Books\nhoneycombBOOKS*\n蚊帳文庫\n百窓文庫・実験花壇百庭 \n🎨Workshop\nおさんぽアロマテラス｜ハーブバスソルトづくり\nおやこふらっとひろば中央｜落ち葉と枝でつくるアート作品\n二楽園｜ロスフラワーでサシェづくり\n萩原珈琲｜麻袋でつくる育苗ポット\n御影倶楽部｜紙すき体験\nGREEN COMMONS ｜ガーデンの植物でたたき染め \n👩‍🏫Lessons\n食べるハーブラー油をつくろう｜大久保たえ（アトリエレピス）\n小さな森のテラリウムづくり｜Lunca Plants\nアロマバームづくり｜伊藤友美（HERB SHOP） \n🎪Contents\n株式会社エコリカル｜資源の循環の展示\nひょうごの在来種保存会｜シードライブラリー＆スワップ\nLiving Nature Kobe｜街の緑化の展示 \n📷GREEN MARKET 2025 Autumnフォトコンテスト開催！\n応募期間：2025年10月3日（金）-10月18日（土）\nテーマ：植物のある暮らし\n詳細は別の投稿でご案内します。 \n※上記内容は変更となる場合があります。予めご了承ください。 \n協賛\ntlahus @tlahus_sanda\n株式会社エコリカル @greenblue_by_ecolical\n食べる植物園 @tabeshoku_jp\nLOVEGREEN @lovegreen_official\nRoot pouch @terrabon \n後援\n神戸市建設局公園部魅力創造課\n@livingnaturekobe \n主催\nURBAN PICNIC\n@urbanpicnickobe\n(一般社団法人リバブルシティイニシアティブ) \n企画運営・事務局\n有限会社リバーワークス\n@riverworks.jp
URL:https://urbanpicnic.jp/event/green-market-2025-autumn/
CATEGORIES:GREEN MARKET,公園で学ぶ
ATTACH;FMTTYPE=image/jpeg:https://urbanpicnic.jp/wp-content/uploads/2025/10/L1032119-scaled.jpg
END:VEVENT
BEGIN:VEVENT
DTSTART;TZID=Asia/Tokyo:20260426T100000
DTEND;TZID=Asia/Tokyo:20260426T160000
DTSTAMP:20260425T225253
CREATED:20260410T055113Z
LAST-MODIFIED:20260410T055113Z
UID:7641-1777197600-1777219200@urbanpicnic.jp
SUMMARY:GREEN MARKET KOBE 2026 Spring
DESCRIPTION:GREEN MARKET KOBE 2026 Spring\n植物と人とが近づける場所、東遊園地。\n4月26日、GREEN MARKET KOBE 開催します。 \nGREEN MARKET KOBE は、日ごろから植物を暮らしに取り入れるカルチャーを提案するマーケット。花やみどりの生産者や個性的な園芸店、素材にこだわっ た食品や雑貨、古書など魅力的なお店が一同に会し、植物のある 豊かな暮らしを伝えます。 \nまた、会場となる東遊園地は、自然の景を創出するNaturalistic landscapingの手法で構成されたガーデンがあり、ガーデナーや ボランティアが連携し、まちのみどりを支えています。 \n植物のある豊かな暮らしと街。 \nこれを伝え、そのムーブメントをみんなと考える一日です。 \n🌿 \n2026 Spring のテーマは 「wellness」。 \n忙しさのなかで後まわしにしがちな、こころやからだの声。芽吹く緑に季節を感じ、育て、食べ、ふれることで、自分の呼吸に気づいていく。\nほんの少し立ち止まり、植物と向き合う時間が、ととのえるきっかけとなります。 \n植物にふれると穏やかな気持ちになる。心身ともに健康をもたらしてくれる植物のチカラに注目します。 \n🌱 \n| GREEN MARKET KOBE 2026 Spring 概要 |\n日時\n2026年4月26日(日)10:00-16:00\n※少雨決行、荒天中止 \n場所\n東遊園地\n（神戸市中央区加納町6-4） \n出店者のみなさん \n🌿Plants and flowers \n👨‍🌾生産者のみなさん_______________ \n春日園｜植木\nサンクスグリーン｜ハーブ苗\nシャンデエルブ｜ハーブ、野菜苗\nそらといちご｜いちご苗\nテラゲンファーム｜養蜂、野菜・果樹苗\nnanagarden｜花卉農家\nふらわーふぁーむ花宙舎｜花卉農家\nmoromoro garden｜ハーブ苗\nlucky hill fruit farm｜いちじく苗\n_______________________________ \nantique totto｜ミニ盆栽、アンティーク\n鈴蘭園｜花苗\nherva｜ハーブ苗、ハーブティー、ハーブとスパイスのチャイ\nHERB SHOP｜ハーブ、アロマ\nビカクモノ｜観葉植物（ビカクシダ）\nHOME&PLANTS｜観葉植物\ntlahus｜樹木、北欧雑貨\nvalon tila｜生花・EAST PARK FLOWERS\nVESTITA｜生花・EAST PARK FLOWERS\nyorutsumugi｜スワッグ \n🪵Goods\nsoso｜天然木と岩絵具のアクセサリー\n地球Labo｜コンポスト\n淡河バンブープロジェクト｜竹製品\nFUJIKO｜マクラメ\nHORT｜パロサント\nWalnut & Co.｜ルーツポーチ\nRollo Antiques｜アンティーク \n🥪Foods\n芦屋 CHICKEN HEART｜クロワッサンチキンサンド\n空果舎｜ジャム\n農菓みきや｜おべんとう、焼菓子\nよなよなドーナッツ｜植物、米粉とおからのお菓子\nRAGI｜天然酵母のパン\nLeRiz｜米粉パン\nろろろ珈琲豆焙煎所｜コーヒー \n📚Books\n蚊帳文庫\nhoneycombBOOKS*\n百窓文庫・実験花壇百庭 \n🎨Workshop\nおやこふらっとひろば中央｜小さな自然を持ち帰ろう\nGREEN COMMONS｜多肉植物でアート\nFlower Garden Hanako｜ポリエステル培地を使った寄せ植えづくり\n御影倶楽部｜紙すき体験 \n🎪Contents\n神戸市環境局｜こうべキエーロ\nひょうごの在来種保存会｜種の交換会 \n協賛\ntlahus @tlahus_sanda\n株式会社エコリカル @greenblue_by_ecolical\nLOVEGREEN @lovegreen_official \n後援\n神戸市 @livingnaturekobe \n主催\nURBAN PICNIC @urbanpicnickobe\n(一般社団法人リバブルシティイニシアティブ) \n企画運営・事務局\n有限会社リバーワークス @riverworks.jp
URL:https://urbanpicnic.jp/event/green-market-kobe-2026-spring/
CATEGORIES:GREEN MARKET
ATTACH;FMTTYPE=image/png:https://urbanpicnic.jp/wp-content/uploads/2026/04/GM2026SpringAutumnMAIN-3-e1775800241462.png
END:VEVENT
END:VCALENDAR