BEGIN:VCALENDAR
VERSION:2.0
PRODID:-//URBAN PICNIC - ECPv6.9.0//NONSGML v1.0//EN
CALSCALE:GREGORIAN
METHOD:PUBLISH
X-WR-CALNAME:URBAN PICNIC
X-ORIGINAL-URL:https://urbanpicnic.jp
X-WR-CALDESC:URBAN PICNIC のイベント
REFRESH-INTERVAL;VALUE=DURATION:PT1H
X-Robots-Tag:noindex
X-PUBLISHED-TTL:PT1H
BEGIN:VTIMEZONE
TZID:Asia/Tokyo
BEGIN:STANDARD
TZOFFSETFROM:+0900
TZOFFSETTO:+0900
TZNAME:JST
DTSTART:20240101T000000
END:STANDARD
END:VTIMEZONE
BEGIN:VEVENT
DTSTART;TZID=Asia/Tokyo:20251025T080000
DTEND;TZID=Asia/Tokyo:20251025T170000
DTSTAMP:20260425T104423
CREATED:20251003T040503Z
LAST-MODIFIED:20251008T083404Z
UID:7242-1761379200-1761411600@urbanpicnic.jp
SUMMARY:GREEN MARKET 2025 Autumn
DESCRIPTION:植物と人とが近づける場所、東遊園地。\n10月25日、GREEN MARKET 開催します。 \nGREEN MARKET は、日ごろから植物を暮らしに取り入れるカルチャーを提案するマーケット。花やみどりの生産者や個性的な園芸店、素材にこだわっ た食品や雑貨、古書など魅力的なお店が一同に会し、植物のある 豊かな暮らしを伝えます。 \nまた、会場となる東遊園地は、自然の景を創出するNaturalistic landscapingの手法で構成されたガーデンがあり、ガーデナーや ボランティアが連携し、まちのみどりを支えています。 \n植物のある豊かな暮らしと街。 \nこれを伝え、そのムーブメントをみんなと考える一日です。 \n2025 Autumn のテーマは「循環」。 \nつくる人とつかう人、自然と街、日々の暮らしと未来―\nそのつながりはめぐりめぐって、日常に小さな豊かさをもたらし、次の世代へ受け継がれていきます。 \n種や苗が育ち、やがてまた次の種となるように。\n落ち葉や野菜くずが土に還り、新しい花を育む力になるように。\n植物を分け合い、暮らしのアイデアを交換しながら、人と人ともつながっていくように。 \n自然とともにめぐる暮らしのかたちを、ここで感じてみてください。\nあなたのささやかな関わりが、この循環を育む力になります。 \n🌱 \n| GREEN MARKET 2025 Autumn 概要 | \n日時\n2025年10月25日(土)10:00-16:00\n※雨天の場合、10月26日(日)に延期開催 \n場所\n東遊園地\n（神戸市中央区加納町6-4） \n出店者のみなさん（五十音順） \n🌿Plants and flowers \n👨‍🌾生産者のみなさん_______________\nherva｜ハーブ栽培\nlucky hill fruit farm｜いちじく根域栽培\nmoromoro garden｜ハーブ栽培\nシャンデエルブ｜ハーブ、野菜栽培\nテラゲンファーム｜養蜂、野菜・果樹栽培\n_______________________________ \nantique totto｜ミニ盆栽、アンティーク\nHERB SHOP｜ハーブ、アロマ、蒸留デモンストレーション\nHOME&PLANTS｜観葉植物\ntlahus｜樹木、北欧雑貨\nvalon tila｜生花・EAST PARK FLOWERS\nVESTITA｜生花・EAST PARK FLOWERS\nデラプランタ・レイノ｜観葉植物\nビカクモノ｜観葉植物（ビカクシダ）\n二楽園｜観葉植物、雑貨\n鈴蘭園｜花苗 \n🪵Goods\nAasha｜植物でつくる財布\nFUJIKO｜マクラメ\nHORT｜パロサント\nsoso｜天然木と岩絵具のアクセサリー\nWalnut & Co.｜ルーツポーチ\n地球Labo｜コンポスト \n🥪Foods\nADASTRA Café｜軽食\nbirica COFFEE & FRESHVEGS｜軽食\nborage(ボリジ)｜軽食・焼菓子\nCHiQ｜グルテンフリーのパン\nRAGI｜天然酵母のパン\nよなよなドーナッツ｜植物、米粉とおからのお菓子\nレピス｜焼菓子・瓶詰\n萩原珈琲｜コーヒー、ドリンク \n📚Books\nhoneycombBOOKS*\n蚊帳文庫\n百窓文庫・実験花壇百庭 \n🎨Workshop\nおさんぽアロマテラス｜ハーブバスソルトづくり\nおやこふらっとひろば中央｜落ち葉と枝でつくるアート作品\n二楽園｜ロスフラワーでサシェづくり\n萩原珈琲｜麻袋でつくる育苗ポット\n御影倶楽部｜紙すき体験\nGREEN COMMONS ｜ガーデンの植物でたたき染め \n👩‍🏫Lessons\n食べるハーブラー油をつくろう｜大久保たえ（アトリエレピス）\n小さな森のテラリウムづくり｜Lunca Plants\nアロマバームづくり｜伊藤友美（HERB SHOP） \n🎪Contents\n株式会社エコリカル｜資源の循環の展示\nひょうごの在来種保存会｜シードライブラリー＆スワップ\nLiving Nature Kobe｜街の緑化の展示 \n📷GREEN MARKET 2025 Autumnフォトコンテスト開催！\n応募期間：2025年10月3日（金）-10月18日（土）\nテーマ：植物のある暮らし\n詳細は別の投稿でご案内します。 \n※上記内容は変更となる場合があります。予めご了承ください。 \n協賛\ntlahus @tlahus_sanda\n株式会社エコリカル @greenblue_by_ecolical\n食べる植物園 @tabeshoku_jp\nLOVEGREEN @lovegreen_official\nRoot pouch @terrabon \n後援\n神戸市建設局公園部魅力創造課\n@livingnaturekobe \n主催\nURBAN PICNIC\n@urbanpicnickobe\n(一般社団法人リバブルシティイニシアティブ) \n企画運営・事務局\n有限会社リバーワークス\n@riverworks.jp
URL:https://urbanpicnic.jp/event/green-market-2025-autumn/
CATEGORIES:GREEN MARKET,公園で学ぶ
ATTACH;FMTTYPE=image/jpeg:https://urbanpicnic.jp/wp-content/uploads/2025/10/L1032119-scaled.jpg
END:VEVENT
BEGIN:VEVENT
DTSTART;TZID=Asia/Tokyo:20251003T000000
DTEND;TZID=Asia/Tokyo:20251019T000000
DTSTAMP:20260425T104423
CREATED:20251001T091826Z
LAST-MODIFIED:20251005T131433Z
UID:7224-1759449600-1760832000@urbanpicnic.jp
SUMMARY:GREEN MARKET 2025 Autumnフォトコンテスト
DESCRIPTION:テーマ：植物のある暮らし \n植物を育てる。\n植物と暮らす。\n植物とつながる。 \n土にふれたときの、ふっと心がほどける感覚。\n部屋のすみに佇むグリーン。\nプレゼントにもらった花束を花器にいけているとき。 \n植物のある暮らしのなかには、人との記憶や、自分らしさを感じる瞬間がそっとあります。あなたの日常の中にある、植物とのやさしい時間を、写真におさめてみませんか？そんなすてきな作品をお待ちしております。 \n｜応募方法｜\nInstagramに投稿して応募するフォトコンテストです。\n:1:　Instagramで @greenmarket.eastpark をフォロー\n:2:　投稿写真に @greenmarket.eastpark をメンション\n:3:　ハッシュタグ 「#グリーンマーケットフォトコン2025」 と、エントリーしたい部門 「#育てる部門」、「#暮らす部門」、「#つながる部門」のいずれかをつけて投稿\n:4:　写真のタイトルやエピソードを記入。あなたと植物とのお話を聞かせてください。\n※1人何点でも応募可（1投稿1枚まで）\n※ストーリーズではエントリーとなりません。ご注意ください。\n｜募集期間｜\n2025年10月3日(金) 〜 10月18日(土) \n｜結果発表｜\n2025年10月25日\n当アカウントと神戸・東遊園地のグリーンマーケット会場（入賞写真展示） \n  \n｜３つの部門とプレゼント｜ \n育てる部門\n育てることが喜びであり楽しみ。\nそんなシーンを伝える作品。\nプレゼント：ルーツポーチ５点セット　５名様 \n\n \n  \n暮らす部門\nグリーンがそばにあること、グリーンが近くにあり心地いい様子はどんな風景ですか。\nそんな、植物と暮らす心地よさを伝える作品。\nプレゼント：淡路島｜ミナトノミナト宿泊券（5名様まで宿泊可） 1名様 \n\n \n  \nつながる部門\n沿道でいつも見送ってくれる木々、毎年出会う花、\nまた、植物が人と人をつなぐ様子を伝えるような作品。\nプレゼント：神戸市兵庫区｜食べる植物園お食事券5\,000円 10名様 \n \n \n――― \n  \n特別賞　LOVEGREEN賞\nすべてのご応募の中から、ボタニカル専門のWEBメディアLOVEGREEN編集スタッフが素敵だと感じた作品を投稿いただいた1名の方にムーミン×LOVEGREEN特製ガーデニングバッグをプレゼント。 \n\n<!doctype html> \n\n\n\n\n\nフォトコンテスト 応募要項 \n\n\n \n\nフォトコンテスト 応募要項\n\n\n      応募期間＋ \n\n2025年10月3日～10月18日 \n \n\n\n      入選者への通知＋ \n\n2025年10月20日頃。 \n \n\n\n      結果発表＋ \n\n2025年10月25日　当アカウントと神戸東遊園地のグリーンマーケット会場（入賞写真展示） \n \n\n\n      応募資格＋ \n\n\nInstagramアカウントをお持ちの個人の方。\nアカウントを公開設定にして、ダイレクトメッセージを受け取れる設定にしていること。\n日本国内在住で、賞品の発送先が日本国内の方。\n応募方法・規約に従い、応募ができること。\n\n\n\n      応募規約＋ \n\n\n入賞者には弊社公式InstagramアカウントからDMをお送りいたします。その際、ご住所、お名前、お電話番号等をお伺いいたします。\n入賞の通知から期日までにご連絡のない場合は入賞を取り消しとさせていただきます。\nご応募いただいた投稿の中から、当アカウントの投稿や公式サイトのニュースリリースやイベント等にて、お写真をご紹介させていただく場合がございます。\n写真画像に応募者以外の人物が写っている場合は、その方（未成年の場合は保護者）の承諾を得た上で応募してください。\n写真画像には住所や氏名等の個人情報、政治的または性的表現、法令または公序良俗に反する表現が含まれないようにしてください。\n本コンテストは、やむを得ない事情により中止または内容が変更となる場合がございますので、あらかじめご了承ください。\n\n\n\n      お問い合わせ＋ \n\nコンテストに関するお問い合わせは、以下までお願いいたします。 \ninfo@urbanpicnic.jp
URL:https://urbanpicnic.jp/event/green-market-2025-autumn-photo-contest/
CATEGORIES:GREEN MARKET
ATTACH;FMTTYPE=image/png:https://urbanpicnic.jp/wp-content/uploads/2025/10/GM2025秋フォトコン.png
END:VEVENT
BEGIN:VEVENT
DTSTART;TZID=Asia/Tokyo:20250531T110000
DTEND;TZID=Asia/Tokyo:20250531T120000
DTSTAMP:20260425T104423
CREATED:20250524T032914Z
LAST-MODIFIED:20250524T045145Z
UID:6944-1748689200-1748692800@urbanpicnic.jp
SUMMARY:参加者募集｜ビオトープ池で石積み
DESCRIPTION:公園調査部会｜みんなでつくる いきもののすみか\n5/31(金)　参加者募集｜ビオトープ池で石積み\n東遊園地に関するあれこれを調べてみる。\nインタビューをしたり、自然を観察したり。\n調査して、東遊園地のことをもっともっと深く知る。\nそれが、公園調査部会です。\n調査員の1人、幼いころから東遊園地で遊ぶのが大好きだったという小学6年生のしょうたくんは、昨年9月から、東遊園地にあるビオトープ池について調査を続けています。\nしょうたくんによると、東遊園地のビオトープ池では、リニューアルの前後で、ザリガニをはじめ、動物たちの姿を見ることが減ってしまったそうです。 \n生き物が減ってしまったのはどうしてだろう？\n生き物に戻ってきてもらうために、できることは何だろう？\nそんなことを考えながら、ビオトープ池を舞台に、「公園の自然を育てる」取り組みを進めています！\n今回は、池の水辺に「エコトーン」と呼ばれる、生きものたちがすみかとして利用できるやさしい境界を、石積みでつくる取り組みを実施します。\n大小さまざまな石を自分たちの手で運び、積み重ね、水辺に自然な変化を生み出していく体験です。\n石を積み、生きものが集う景色を思い描きながら、みんなで「公園の自然を育てる一歩」を踏み出してみませんか？\nご参加、お待ちしています！ \n【開催概要】\n日　時｜ 2025年5月31日（土）11:00～12:00\n場　所｜ 東遊園地　ビオトープ池（園地西側やや南より）\n※11:00にみちひろばにあるグリーンステージ前へ集合してください。\n※途中参加の場合は、ビオトープ池まで直接お越しください。\n参加方法｜ 参加自由（申込不要）\n持ち物｜\n・汚れてもいい服装\n・厚手のゴム手袋\n・長靴\n・飲み物\n・スコップ（持っている人）\n注意事項｜\n・池の中に入って作業をします。お子さまが参加される場合は、可能な限り保護者の同伴をお願いいたします。\n・安全管理のため、受付時に参加者全員の「名前・住所・電話番号」をお伺いします。\n・保護者の同伴がない場合は、お子さま自身がその情報を伝えられるようにしておいてください。 \n今回は5/31開催の\n「GREEN MARKET」内の1つの取り組みとして実施します！
URL:https://urbanpicnic.jp/event/boshu-biotope/
CATEGORIES:GREEN MARKET
ATTACH;FMTTYPE=image/jpeg:https://urbanpicnic.jp/wp-content/uploads/2025/05/IMG_6209-scaled.jpg
END:VEVENT
BEGIN:VEVENT
DTSTART;TZID=Asia/Tokyo:20250531T100000
DTEND;TZID=Asia/Tokyo:20250531T160000
DTSTAMP:20260425T104423
CREATED:20250424T025638Z
LAST-MODIFIED:20250517T021756Z
UID:6691-1748685600-1748707200@urbanpicnic.jp
SUMMARY:GREEN MARKET 2025 in Spring
DESCRIPTION:5 月31 日（土）　GREEN MARKET 春「Herbs for my life」\n植物と人とが近づける場所、東遊園地。\n5月31日、GREEN MARKET 開催します。 \nGREEN MARKET は、日ごろから植物を暮らしに取り入れるカルチャーを提案するマーケット。花やみどりの生産者や個性的な園芸店、素材にこだわっ た食品や雑貨、古書など魅力的なお店が一同に会し、植物のある 豊かな暮らしを伝えます。\nまた、会場となる東遊園地は、自然の景を創出するNaturalistic landscapingの手法で構成されたガーデンがあり、ガーデナーや ボランティアが連携し、まちのみどりを支えています。 \n植物のある豊かな暮らしと街。 \nこれを伝え、そのムーブメントをみんなと考える一日です。 \n2025春のテーマは「Herbs for my life」 \n「私にとってのハーブ」を考え、ハーブのさらなる可能性を引き出し、新しい定義を見つけていきます。 \n\n| GREEN MARKET 2025 Spring 概要 |\n日時\n2025年5月31日(土)10:00-16:00\n※雨天の場合、6月1日(日)に延期開催 \n場所\n東遊園地（神戸市中央区加納町6-4） \n🎪Market\n花・みどりの生産者\nnanagarden[高見園芸](加西市)\n小谷園芸(加西市)\n原園芸(伊川谷)\nTERRAGEN FARM (伊丹市)\nLucky Hill Fruit Farm (伊丹市)\nシャンデエルブ (姫路市)\n国樹園(大阪府池田市)\n花苗/鈴蘭園\nハーブ/HERB SHOP、herva\n生花/EAST PARK FLOWERS\ngrelo\nVESTITA\nValon tila\n観葉植物/DELAPLANTA REINO、HOME&PLANTS、ビカクモノ、もののけ植物園\n植木と北欧園芸雑貨/tlahus\nボタニカルグッズ/二楽園\nマクラメ/FUJIKO\nコンポスト/地球Labo\n肥料/金澤バイオ研究所 \n \n🥪FOOD\n焼菓子・瓶詰/レピス\nジャム・焼菓子/空果舎\nパン/RAGI\nコーヒー、軽食/ROUND POINT CAFÉ\n軽食、焼菓子/borage(ボリジ)\n植物、米粉とおからのお菓子/よなよなドーナツ\nアイスクリーム/アイスクリームユナイテッド \n📚古書\n蚊帳文庫、花森書林、honeycombBOOKS*、1003、 百窓文庫・実験花壇百庭、舫書店 \n📜アンティーク\nRollo Antiques、Antique L’armoire de TSUBAKI、antique totto \n🌿Herb Lesson （事前申込制）\n-オリジナル発酵ハーブジェノベーゼをつくろう- 講師:大久保たえ(アトリエ・レピス)\n-セルフハンドトリートメントをマスターしよう- 講師:ayaka(BOTANICAL MOMENT)\n-オリジナルブレンドのハーブティづくり- 講師:伊藤友美(HERB SHOP) \n \n🚩東遊園地ガーデンツアー\nGREEN COMMONS \n \n🎨ワークショップ\n種の交換会:ひょうごの在来種保存会\nおはなしピクニック:こども本の森・神戸、おやこふらっとひろば中央\nみんなでつくる いきもののすみか:URBAN PICNIC公園調査隊\nハーブ蒸留体験:HERB SHOP\nハーブ模様のミニ版画:はらっぱGarden 紙すき体験:御影倶楽部\nエコプリント:おさんぽアロマテラス\nロスフラワーでサシェづくり:二楽園\nハーブを使った虫よけグッズづくり:おやこふらっとひろば中央 \n※上記内容は変更となる場合があります。予めご了承ください。 \n協賛\n株式会社トーシンコーポレーション\ntlahus\nLOVEGREEN \n後援\n神戸市建設局公園部魅力創造課 \n主催\nURBAN PICNIC(一般社団法人リバブルシティイニシアティブ) \n企画運営・事務局\n有限会社リバーワークス
URL:https://urbanpicnic.jp/event/green-market-2025-spring/
CATEGORIES:GREEN MARKET
ATTACH;FMTTYPE=image/jpeg:https://urbanpicnic.jp/wp-content/uploads/2025/04/DSC04486-scaled.jpg
END:VEVENT
BEGIN:VEVENT
DTSTART;TZID=Asia/Tokyo:20241005T100000
DTEND;TZID=Asia/Tokyo:20241104T160000
DTSTAMP:20260425T104423
CREATED:20240929T020749Z
LAST-MODIFIED:20240929T020749Z
UID:6030-1728122400-1730736000@urbanpicnic.jp
SUMMARY:ピート・アウドルフのナチュラリスティックガーデン ーいのちがめぐる庭ー 巡回展
DESCRIPTION:世界のガーデンデザイナー「ピート・アウドルフ」の企画展示を東遊園地にて開催します。 \nピート・アウドルフは、ニューヨーク・ハイラインの植栽デザインや世界中のランドスケープデザインで知られるガーデンデザイナーです。 \nその土地に自生する植物や、宿根草を中心とした精緻な庭づくりで、枯れた姿にも生命循環の美しさを見出す革新的なアイデアにより、世界的な評価を得ています。オランダの自庭でのインタビュー等を通して、四季折々の景色を魅せるアウドルフの庭を紹介します。 \n10月5日、東遊園地にて開催されるGREEN MARKETを皮切りに、11月4日まで東遊園地、園地内に屋外展示いたします。 \n10月5日のみ、ピート・アウドルフの原画をURBAN PICNIC「スタジオ」に展示いたします。貴重な原画です。この機会をお見逃しなく。 \nまた、この展示とあわせて、神戸市の「自然の景」の創出によるみどりと花のブランディングの取り組み「Living Nature Kobe」のパネル展示も開催します。ご注目ください。 \n  \n企画概要\n会期：2024年10月5日（土）～2024年11月4日（祝・月）\n場所：東遊園地みちひろば（神戸市中央区加納町6-4）\n観覧料：無料\n主催：URBAN PICNIC（一般社団法人リバブルシティイニシアティブ）\n共催：神戸市\n企画／共催：公益財団法人 ギャラリー エー クワッド本展示は、2024年4月19日~2024年7月11日まで公益財団法人ギャラリーエークワッド（東京都江東区新砂1-1-1）にて開催された展覧会の巡回展となります。 \n  \nーーー \n10月5日GREEN MARKETには、PIET OUDOLF GARDEN TOKYOヘッドガーデナーの永村裕子氏をお招きしてトークセッションを開催します。どうぞあわせてご参加ください。 \n2024.10.5.sat\n13:00ｰ14:00\nトークセッション「園芸、世界のNew Standard」\n永村裕子氏\n（ランドスケープデザイナー、PIET OUDOLF GARDEN TOKYOヘッドガーデナー）\nモデレーター　藤田毅（園芸家・リバーワークス） \nGREEN MARKETは雨天の場合10/6に順延いたします。ご注意ください。
URL:https://urbanpicnic.jp/event/piet-oudolf-garden/
LOCATION:東遊園地\, 中央区加納町6-4\, 神戸市\, 兵庫県\, 652-0186
CATEGORIES:GREEN MARKET,公園で学ぶ
ATTACH;FMTTYPE=image/jpeg:https://urbanpicnic.jp/wp-content/uploads/2024/09/アウドルフ展_A4_TT_omote-01-1.jpg
END:VEVENT
BEGIN:VEVENT
DTSTART;TZID=Asia/Tokyo:20241005T100000
DTEND;TZID=Asia/Tokyo:20241005T160000
DTSTAMP:20260425T104423
CREATED:20240914T074952Z
LAST-MODIFIED:20240928T073647Z
UID:5953-1728122400-1728144000@urbanpicnic.jp
SUMMARY:GREEN MARKET 2024 Autumn
DESCRIPTION:植物と人とが近づける場所、東遊園地。 \n  \n2024年、秋 \nGREEN MARKETの開催が決定しました！ \n  \nGREEN MARKETは、花の生産者やこだわりの園芸店のほか、カルチャーを感じる古書店、自然の素材をいかした雑貨店やコーヒー、パン、焼菓子などが出店し、ワークショップなどの体験も楽しめる、公園のマーケットです。 \n４回目となる今回のマーケットテーマは「New Standard」\n園芸の新しいスタンダードを東遊園地から発信します。 \nーーー \n🪴兵庫県内の花や緑の生産者や園芸店、ワークショップなど、32組の生産者・店舗・団体が参加 \n伊川谷や稲美町、池田市、伊丹市から、生産者がやってきます。 \n   \n品質の良い苗や植木、観葉植物を生産者が自ら販売を行います。育てられた環境を知り、生産者から育て方のアドバイスをぜひ聞いてください。\n伊川谷からは原園芸。稲美町からはうえだローズガーデン＋、姫路市からはシャンデエルブ、大阪府池田市からは国樹園、相生市からはmoromoro gardenが出店します。 \n  \n💐grelo（三宮）× Valon tila（岡本）×Watanabe Mamiが、タッグを組んで、この日だけの公園のお花屋さん「EAST PARK FLOWERS」をオープンします。イギリスのフラワーマーケットのような美しい花々が公園に彩りを添えます。 \n　 \n特別な日だけではなく、日ごろから切り花を手にしてもらえるカルチャーを発信します。 \n  \nーーー \n園芸の今を知り、植物のある暮らしを自分のスケールで考える３つのコンテンツ \n📚ピート・アウドルフのナチュラリスティックガーデンーいのちがめぐる庭ー　巡回展　終日開催 \n \nピート・アウドルフは、ニューヨーク・ハイラインの植栽デザインや世界中のランドスケープデザインで知られるガーデンデザイナーです。その土地に自生する植物や、宿根草を中心とした精緻な庭づくりで、枯れた姿にも生命循環の美しさを見出す革新的なアイデアにより、世界的な評価を得ています。オランダの自庭でのインタビュー等を通して、四季折々の景色を魅せるアウドルフの庭を紹介します。（GREEN MARKETを皮切りに、11月4日まで東遊園地にて展示予定） \n観覧料：無料\n主催：URBAN PICNIC（一般社団法人リバブルシティイニシアティブ）\n共催：神戸市建設局公園部魅力創造課\n企画／共催：公益財団法人 ギャラリー エー クワッド \n  \n🎤トークセッション／永村裕子氏　13:00-14:00\n「園芸、世界のNew Standard」 \n \nゲスト\n永村裕子氏／ランドスケープデザイナー、PIET OUDOLF GARDEN TOKYOヘッドガーデナー \nナチュラリスティックガーデンに精通する景観デザイナー。英国の大学で造園設計デザインを学ぶ。卒業後は数々の在英有名事務所に勤務後帰国。よみうりランド内ハナビヨリの「ピート・アウドルフガーデン東京」のヘッドガーデナーを務める。2024年、チェルシーフラワーショー、シンガポールガーデンフェスティバルの両方で、最優秀賞・金メダルを受賞（南アフリカチーム所属） \n  \n🌱Perennials Collection & Garden　終日開催 \n \n北海道イコロファームより上質な多年草の苗を取り寄せ、販売します。\nまた、園芸家で東遊園地にて市民ガーデナーを育成する講座GREEN COMMONSの講師を務める藤田毅が監修し、この日だけのPerennials Garden（多年草のモデルガーデン）が登場します。\n暮らしに植物を取り入れるアイデアを提案します。 \nPerennials Collection…HERB SHOPブースにて開催\nPerennials Garden\n監修：藤田毅／Riverworks\n施工：GREEN COMMONS\n協賛：株式会社トーシンコーポレーション \nーーー \n🚩東遊園地ガーデンツアー \n \n東遊園地では「自然の景」のデザイン手法゛Naturalistic Landscaping“を用いたガーデンが３つ展開されています。おおらかでダイナミックなメドウガーデンを中心とした「てんくうののはら」、イングリッシュガーデンをモチーフとしたナチュラルな植栽「街へつづくのはら」、市民ガーデナーを育成する学びの庭「ボランティアガーデン」。ガーデンを管理するガーデナーがコンセプトや見どころを案内します。 \n協力：神戸市建設局公園部魅力創造課 \n  \n📕植物をテーマにしたワークショップやスタンプラリー \n \n花苗の寄せ植えや、スワッグづくりなど、植物を暮らしに取り入れるワークショップを開催します。\nハーブや樹木からオイルを精製する蒸留体験や、落ち葉を集めてつくる冠づくり、東遊園地をめぐるスタンプラリーなど、さまざまな植物を身近に感じるワークショップを用意しています。 \n  \n🌿シードペーパーの配布 \n東遊園地内のボランティアガーデンで採取した多年草「アガパンサス」などの種をシードペーパーにして配布します（配布数に限りがあるため先着となります）。加工を担当するのは、東灘区の就労継続支援事業Ｂ型の作業所・御影倶楽部です。白鶴酒造の酒パックを再利用したパルプを原料に１枚ずつ手作業で紙すきを行います。\n東遊園地から、街へみどりをひろげていきます。 \n \n  \n🌱 種の交換会 \n \n在来種の植物は、代々タネを採りながら育てられ、継いでいかれるもの。持続可能なタネを未来に残すための取り組みとして、在来種の種に限った交換会を実施します。自家採種したタネ、ヒトに勧めたい種をご持参ください。 \n協力：シャンデエルブ \n  \n📚おはなしピクニック \n \nおはなしを通じてこどもたちのみどり（植物やハーブ、野菜）に対する興味関心を膨らませ、実際に本物が並ぶマーケットを歩き、生産者と触れ合うきっかけをつくります。おはなしや手遊び、エプロンシアターなど、赤ちゃんから小学生のお子さままで幅広く楽しんでいただけます。 \n協力：こども本の森 神戸、おやこふらっとひろば中央 \n  \nーーー \nGREEN MARKET 2024 Autumn　開催概要 \n日時　2024年10月5日（土）10:00-16:00 \n※雨天の場合、10月6日（日）に順延 \n場所　東遊園地（神戸市中央区加納町6-4） \n  \n🎪MARKET \n花・みどりの生産者／原園芸（伊川谷）、うえだローズガーデン＋（稲美町）、国樹園（大阪府池田市）、moromoro garden（相生市） \n花苗／鈴蘭園 \nハーブ／HERB SHOP \n切り花／EAST PARK FLOWERS（grelo、Valon tila、Watanabe(仮)、Jacques Deco） \nスワッグ／Lunca plants \n観葉植物／DELAPLANTA REINO、Home&Plants \n園芸雑貨／Walnut & Co. \nコンポスト／地球Labo \nコットンのたね制作／御影倶楽部 \nパン／RAGI \nスコーン・焼菓子／UNDERGROUND BAKERY \nコーヒー／ROUND POINT CAFÉ \n軽食・焼菓子／borage（ボリジ） \nアイスクリーム／アイスクリームユナイテッド \n古書／蚊帳文庫、花森書林 \nアンティーク／Rollo Antiques \n  \n🎨WORKSHOP \n種の交換会／ひょうごの在来種保存会 \n東遊園地ガーデンツアー／GREEN COMMONS \nおはなしピクニック／こども本の森・神戸、おやこふらっとひろば中央 \n葉っぱの冠づくり／おやこふらっとひろば中央 \nハーブ蒸留体験／HERB SHOP \n  \nーーー \n主催　URBAN PICNIC（一般社団法人リバブルシティイニシアティブ） \n後援　神戸市 \n協賛　株式会社トーシンコーポレーション \n  \nお問合せ　URBAN PICNIC \ninfo@urbanpicnic.jp
URL:https://urbanpicnic.jp/event/green-market-2024-autumn/
LOCATION:東遊園地\, 中央区加納町6-4\, 神戸市\, 兵庫県\, 652-0186
CATEGORIES:GREEN MARKET
ATTACH;FMTTYPE=image/png:https://urbanpicnic.jp/wp-content/uploads/2024/09/1.png
END:VEVENT
BEGIN:VEVENT
DTSTART;TZID=Asia/Tokyo:20240406T100000
DTEND;TZID=Asia/Tokyo:20240406T160000
DTSTAMP:20260425T104423
CREATED:20240318T233918Z
LAST-MODIFIED:20240412T052808Z
UID:5263-1712397600-1712419200@urbanpicnic.jp
SUMMARY:GREEN MARKET 2024 Spring
DESCRIPTION:植物と人とが近づける場所、東遊園地。 \n  \n2024年、春 \nGREEN MARKETの開催が決定しました！ \n  \nGREEN MARKETは、花やみどりの生産者やこだわりの園芸店のほか、カルチャーを感じる古書店、自然の素材をいかした雑貨店やコーヒー、自然の食材を活かしたフードやパン、焼菓子などが出店し、ワークショップなどの体験も楽しめる、公園のマーケットです。 \n今回は、より植物を身近に、そして環境を守る一歩を進めるため、新しい試みにも挑戦します。 \n  \n🌿シードペーパーの配布 \n東遊園地内のボランティアガーデンで採取した多年草「セラトスシグマ」などの種をシードペーパーにして配布します（配布数に限りがあるため先着となります）。加工を担当するのは、東灘区の就労継続支援事業Ｂ型の作業所・御影倶楽部です。白鶴酒造の酒パックを再利用したパルプを原料に１枚ずつ手作業で紙すきを行います。 \n東遊園地から、街へみどりをひろげていきます。 \n　 \n  \n🌱 垣根のないタネの交換会 \n在来種の植物は、代々タネを採りながら育てられ、継いでいかれるもの。持続可能なタネを未来に残すための取り組みとして、在来種の種に限った交換会を実施します。自家採種したタネ、ヒトに勧めたい種をご持参ください。 \n  \n🍴エディブルテーブル \nハーブや野菜などのエディブルプランツがテーブルの上で育っている！？兵庫県産の食材を用いたイタリアンの仕上げにエディブルテーブルに育つハーブや野菜をのせて食べる体験ができます。 \nイタリアンを担当するのは、三宮のフュージョンレストラン「柏木」と、兵庫県産の食材をいかした料理に定評があるホテル「セトレ舞子」のタッグでご提供いただきます。 \n \nその他にも、HERB SHOPが育てたローズマリーを使ったフォカッチャサンドをROUND POINT CAFÉが提供。乙仲通の人気店UNDERGROUND BAKERYは特製シードケーキを用意。GREEN MARKETならではのハーブや野菜を用いたおいしい「食」をぜひ体験ください。 \n \n  \n👜マイバッグを持参ください \n花苗や観葉植物など、どうしても包装紙を使用してしまいます。でも、たくさんの方がお越しになるマーケットだからこそ、なるべくゴミを減らしたいと考えます。マイバッグのご持参、ご協力ください。 \nーー \n出店者もパワーアップし、35組の生産者・店舗・団体・アーティストが参加。 \n花やみどりの生産者が、加西や伊丹、淡路からやってきます。 \n \n品質の良い苗や植木、観葉植物を生産者が自ら販売を行います。育てられた環境を知り、生産者から育て方のアドバイスをぜひ聞いてください。\n加西市からは高見園芸（花苗など）、小谷園芸（リーフなど）。淡路市からはユーアールエー（観葉植物）、伊丹市からは庭と植木 春日園（植木）が出店します。 \n  \n神戸のすてきな花屋さんVESTITA×Valon tilaが、タッグを組んで、この日だけの公園のお花屋さん「EAST PARK FLOWERS」をオープンします。イギリスのフラワーマーケットのような美しい花々が公園に彩りを添えます。 \n \n東遊園地から、植物を暮らしに取り入れる一歩をはじめてみませんか？ \n  \nーー \nGREEN MARKET 2024 Spring　開催概要 \n日時　2024年4月6日（土）10:00-16:00 \n※雨天の場合、4月7日（日）に順延 \n場所　東遊園地（神戸市中央区加納町6-4） \n  \n🎪MARKET \n高見園芸／花苗・加西市花農家 \n小谷園芸／花苗・加西市花農家 \n鈴蘭園／花苗 \nHERB SHOP／ハーブ、ハーブ加工品 \nEAST PARK FLOWERS／切り花（VESTITA、Valon tila） \nLunca plants／スワッグ \nDELAPLANTA REINO／インテリアグリーン・チャイ \nユーアールエー株式会社／淡路島観葉 \nRoots／観葉植物 \nWalnut & Co.／園芸雑貨 \nTERRAGEN FARM／果樹と養蜂 \n庭と植木　春日園／植木・観葉植物 \nシャンデエルブ／果樹・種 \nsoso／天然木と岩絵具アクセサリー \n御影倶楽部／紙すき雑貨・コットンのたね配布 \n柏木×セトレ舞子／イタリアン at エディブルテーブル \nRAGI／天然酵母のパン \nROUND POINT CAFE／コーヒー ・フォカッチャサンド \nViva Vin VIVANT／ナチュラルワイン \n空果舎／ジャム・アパレル \nCHIQ／天然酵母のパン \nUNDERGROUND BAKERY／スコーン・シードケーキ \n蚊帳文庫／古書 \n花森書林／古書 \n  \n🎨WORKSHOP \nハーブ蒸留体験／HERB SHOP \nバスボムづくり／Happy End \n日光写真／はらっぱGarden \n植物と絵の小径／清原絵画研究所 \n土のワークショップ／スカイカルティベーション \n  \n🖼️GALLERY \nLiving Nature Kobe取り組み紹介／神戸市公園部管理課 \n  \n  \nCONTENTS \n  \n📚おはなしピクニック 10:30-11:10 \n \nおはなしを通じてこどもたちのみどり（植物やハーブ、野菜）に対する興味関心を膨らませ、実際に本物が並ぶマーケットを歩き、生産者と触れ合うきっかけをつくります。おはなしや手遊び、エプロンシアターなど、赤ちゃんから小学生のお子さままで幅広く楽しんでいただけます。 \n協力：こども本の森 神戸、おやこふらっとひろば中央 \n  \n🎤グリーントークセッション　13:00-14:00 \n「在来の種が教えてくれること」 \n \nゲスト \nジョン・ムーア／一般社団法人 シーズ オブ ライフ代表理事 \nアイルランド生まれ。英国シェフィールド大学教育学部卒。教師を経て、ロンドン、ニューヨークの広告代理店に入社し、ブランドマーケティングを担当。その後、電通に入社し日本へ移住。コピーライターとして活躍した後、パタゴニア日本支社⻑、株式会社コスモ・コミュニケーションズ役員を歴任。現在は、一般社団法人 シーズ オブ ライフ代表理事として、種子の保護・育成活動に従事。ローカルシードライブラリー（種図書館）の設立支援やオーガニック教育プログラム、アーバンファーミングの推進、オーガニックガーデのデザイン、SEED to Products（種から作るオーガニック商品）のプロデュースなどを行っている。 \nモデレーター \n藤田毅／Riverworks \n  \n🌱 垣根のないタネの交換会　14:00-15:00 \nタネを通して、タネや作物、農業、環境の問題を知り、タネを扱うスキルを身につけます。持続可能なタネを未来に残すことをめざし、\nタネ採りをするみなさんとゆるやかな繋がりをつくりたいと考えます。 \n・タネを持参しない人も参加できます\n・タネを持ってくる人は、ひとり3品種までご持参ください。（自家採取したタネ、人に勧めたいものなど） \n協力　シャンデエルブ \n  \n🚩東遊園地ガーデンツアー　15:00-15:40 \n \n東遊園地では「自然の景」のデザイン手法゛Naturalistic Landscaping“を用いたガーデンが３つ展開されています。おおらかでダイナミックなメドウガーデンを中心とした「てんくうののはら」、イングリッシュガーデンをモチーフとしたナチュラルな植栽「街へつづくのはら」、市民ガーデナーを育成する学びの庭「ボランティアガーデン」。ガーデンを管理するガーデナーがコンセプトや見どころを案内します。 \n協力：GREEN COMMONS、神戸市建設局公園部管理課 \n  \n主催　URBAN PICNIC \n（一般社団法人リバブルシティイニシアティブ） \n  \n後援　神戸市 \n  \nお問合せ　URBAN PICNIC \ninfo@urbanpicnic.jp
URL:https://urbanpicnic.jp/event/green-market-2024-spring/
LOCATION:東遊園地\, 中央区加納町6-4\, 神戸市\, 兵庫県\, 652-0186
CATEGORIES:GREEN MARKET
ATTACH;FMTTYPE=image/png:https://urbanpicnic.jp/wp-content/uploads/2024/03/GM2024S_WEB.png
END:VEVENT
END:VCALENDAR