BEGIN:VCALENDAR
VERSION:2.0
PRODID:-//URBAN PICNIC - ECPv6.9.0//NONSGML v1.0//EN
CALSCALE:GREGORIAN
METHOD:PUBLISH
X-WR-CALNAME:URBAN PICNIC
X-ORIGINAL-URL:https://urbanpicnic.jp
X-WR-CALDESC:URBAN PICNIC のイベント
REFRESH-INTERVAL;VALUE=DURATION:PT1H
X-Robots-Tag:noindex
X-PUBLISHED-TTL:PT1H
BEGIN:VTIMEZONE
TZID:Asia/Tokyo
BEGIN:STANDARD
TZOFFSETFROM:+0900
TZOFFSETTO:+0900
TZNAME:JST
DTSTART:20250101T000000
END:STANDARD
END:VTIMEZONE
BEGIN:VEVENT
DTSTART;TZID=Asia/Tokyo:20250502T180000
DTEND;TZID=Asia/Tokyo:20250502T193000
DTSTAMP:20260425T011454
CREATED:20250419T093733Z
LAST-MODIFIED:20250419T094103Z
UID:6680-1746208800-1746214200@urbanpicnic.jp
SUMMARY:芝生の演奏会／中安航太・西江花梨デュオ
DESCRIPTION:5/2 fri. 中安航太・西江花梨デュオ\n芝生の演奏会は、東遊園地にある小さな芝生のステージ 「ガーデンステージ」で毎月2回開催する、インストゥルメンタルの演奏会です。公園でドリンクを片手に、奏でられる音を楽しみましょう。\n今回は、ピアノとトロンボーンのシンプルな編成で、ジャズやポップスなどの美しい曲をお届けします。 \n【芝生の演奏会 開催概要】\n日時：2025年5月2日(金)\n1stステージ：18:00-18:30\n2ndステージ：19:00-19:30\n場所：東遊園地　ガーデンステージ（※雨天：park kitchen WEEKENDにて開催）\n兵庫県神戸市中央区加納町6-4-1　東遊園地内\n料金：無料・申込不要\n主催：URBAN PICNIC（一般社団法人リバブルシティイニシアティブ） \n【アーティスト紹介】\n \n– 中安航太・西江花梨デュオ –\n中安航太（トロンボーン）\n1979年神戸市生まれ。甲南中学でトロンボーンをはじめ、Count Basieなどのビッグバンド活動。高校ではSJFで神戸市長賞、大学では山野楽器主催のコンテストで奨励賞を受賞。 現在はザ・エロージャズオーケストラのリーダーを務めるほか、デュオ、アンサンブル、ファンク、ポップス、エフェクター導入など幅広い音楽活動を行い、またCM用レコーディングや、ジャズアンサンブルやボーカルサポートとしてCD作品にも参加。\n西江花梨（ピアノ）\n3歳からエレクトーン、10歳からピアノを習い、大阪音楽大学短期大学部ジャズ科を卒業。 様々なコンクールで賞を受賞。 小学校6年生から現在も関西を中心に、様々な商業施設で演奏している。 CMソングの制作や、レコーディング等に参加、ジャンルを問わず幅広く活動している。
URL:https://urbanpicnic.jp/event/lawn-concert-2505-1/
CATEGORIES:芝生の演奏会
ATTACH;FMTTYPE=image/jpeg:https://urbanpicnic.jp/wp-content/uploads/2025/04/中安航太・西江花梨デュオ.jpg
END:VEVENT
BEGIN:VEVENT
DTSTART;TZID=Asia/Tokyo:20250516T180000
DTEND;TZID=Asia/Tokyo:20250516T193000
DTSTAMP:20260425T011454
CREATED:20250503T072340Z
LAST-MODIFIED:20250503T072340Z
UID:6728-1747418400-1747423800@urbanpicnic.jp
SUMMARY:芝生の演奏会 ／Suomi Morishita Duo Strings with Emiko Mizoguchi
DESCRIPTION:5/16fri. Suomi Morishita Duo Strings with Emiko Mizoguchi\n金曜の夜、週末を前に少しわくわくする時間。\nそんなひとときに、小さな芝生のステージ 「ガーデンステージ」で演奏会を開催します。\n夜空を眺めながら、ドリンクを片手に、奏でられる音を楽しみましょう。 \nいつもはインストゥルメンタルな芝生の演奏会ですが、今回は実験的にボーカルの方もお招きしてお送りします。\nオリジナルジャズを中心に洋楽のカバーなどをお楽しみください。 \n【芝生の演奏会 開催概要】\n日時：2025年5月16日(金)\n1stステージ：18:00-18:30\n2ndステージ：19:00-19:30\n場所：東遊園地　ガーデンステージ（※雨天：park kitchen WEEKENDにて開催）\n兵庫県神戸市中央区加納町6-4-1　東遊園地内\n料金：無料・申込不要\n主催：URBAN PICNIC（一般社団法人リバブルシティイニシアティブ） \n【アーティスト紹介】\nSuomi Morishita Duo Strings with Emiko Mizoguchi\n森下周央彌 × 本倉信平 with 溝口恵美子\nギタリスト・森下周央彌とチェリスト・本倉信平によるDuo Stringsが紡ぐ繊細で深みのある響きに、圧倒的な表現力を誇るボーカリスト・溝口恵美子が加わる。ジャンルの垣根を越え、ジャズやポップスの枠を超えた新たな音楽の世界を切り拓く。
URL:https://urbanpicnic.jp/event/lawn-concert-2505-2/
CATEGORIES:芝生の演奏会
ATTACH;FMTTYPE=application/pdf:https://urbanpicnic.jp/wp-content/uploads/2025/05/名称未設定のデザイン.pdf
END:VEVENT
BEGIN:VEVENT
DTSTART;TZID=Asia/Tokyo:20250528T160000
DTEND;TZID=Asia/Tokyo:20250530T210000
DTSTAMP:20260425T011454
CREATED:20250621T092627Z
LAST-MODIFIED:20250621T093524Z
UID:7014-1748448000-1748638800@urbanpicnic.jp
SUMMARY:NIGHT PICNIC May 2025［媒体］としての公園
DESCRIPTION:パブリックな夜遊びを\nたゆたいながら文化へ向かう\nあなたと公園の関係性\nNIGHT PICNICは、神戸都心の中心にある都市公園・東遊園地の夜にあらわれる実験的なプログラム。もっと日常的に夜の公園を使いこなすことができたら、夜のまちでの過ごし方が増え、暮らしが豊かになるのではないかという仮説を検証しています。 \n5月のテーマは「媒体」。 \n公園は媒(なかだち)する。\n公園を訪れたとき、公園から聞こえる音を耳にしたとき、そこに集う人たちを眺めるとき、わたしたちは公園そのものだけでなく、地域の風土を感じ取る。\nそのまちでの暮らしを想像する。 \n「伝える」でなく「伝わる」を大切に。 \n  \n≪5/28 のピクニック≫\n[FOOD & DRINK]\nbirica COFFEE & FRESHVEGS / BREADMAN / Cini curry / CÔNE / Harlow Ice Cream / JHOICE laboratory / R the wine shop / SAVEUR / The Sowers / uoyaki cave bar / VALLESAGRADO / viva vin VIVANT / アンジョリーノ神戸 / 季と菜と魚と さんたか / 二ノ宮 稀 / ハレとケ / 骨付鶏専門店がやがや / 穂々 \n[CULTURE]\n▶夜にやさしいフェア\n16:00-21:00\n＠ラウンジ\nさまざまな「やさしさ」を集めたマルシェ的なキャンペーン。\n【出展】山陽製紙、想造楽工、TRUNK DESIGN、パンプシェード、ミシマ社、πの世界×HOME HOME CLUB \n▶PARK TALK #12 媒体とまち\n19:00-20:00\n＠ガーデンステージ\n公園で学びにふれる、月1回のトーク屋外編。\nゲスト：三島邦弘(ミシマ社代表/『ちゃぶ台』編集長) \n≪5/29 のピクニック≫\n[FOOD & DRINK]\namasora / BI.TO.WA / BISCO smashburger / cucina akairo / drizzle / L’AVENUE / LE MARRON / R the wine shop / VALLESAGRADO / 明暮焙煎所 / アンジョリーノ神戸 / 鉄板韓国料理jinan / 土居精肉店 / トランジスタベーカリー / 七花~nanabana~ / ハレとケ / ポルトパニーノfeat.ごはんや ももんち \n[CULTURE]\n▶カラフルペイント大会\n16:00-21:00\n＠ガーデンステージ\n夜にカラフル。みんなでつくるペイント大会。\n協力：想造楽工 \n▶公園のオーケストラ\n17:30～18:30：アンサンブル\n19:00～20:00：オーケストラ\n＠芝生ひろば\n公園にフルオーケストラがやってくる。\n出演：神戸大学交響楽団 \n≪5/30 のピクニック≫\nFOOD & DRINK]\nCRAZY BURRITO / drizzle / KD donuts ~神出ドーナツ工房~ / L’AVENUE / Le Coin / legno / nenne pan / R the wine shop / tent-coffee / ululato / VALLESAGRADO / viva vin VIVANT / 食堂 粹稔 / ネパール料理店kukuri / ハレとケ / ベッカライノイス / 酪と酵母 / リストランテハナタニ \n[CULTURE] \n▶夜の花屋と公園の髪あそび\n16:00-21:00\n＠ラウンジ\nあなたの気持ちを表現するお手伝い。\n花：grelo\n髪：isso(TICK-TOCK)\,MIKI \n▶公園でラジオ\n17:00-20:00\n＠ガーデンステージほか\nいま公園で起こっていることを届けるライブ配信。\nパーソナリティ：中野耕史 \n【NIGHT PICNIC May 2025 概要】\n●時間：16:00~21:00 ※15:00~ Pre-Picnic\n●主催：URBAN PICNIC @urbanpicnickobe\n●会場：東遊園地(神戸市中央区加納町6-4)\n●入場：無料 \n※出店者、企画内容は予告なく変更となる場合がございます。ご了承ください。
URL:https://urbanpicnic.jp/event/nightpicnic_may2025/
CATEGORIES:公園で学ぶ,公園で遊ぶ,公園で過ごす,公園で食べる
ATTACH;FMTTYPE=image/png:https://urbanpicnic.jp/wp-content/uploads/2025/06/スクリーンショット-2025-06-21-18.25.26-e1752298907207.png
END:VEVENT
END:VCALENDAR