BEGIN:VCALENDAR
VERSION:2.0
PRODID:-//URBAN PICNIC - ECPv6.9.0//NONSGML v1.0//EN
CALSCALE:GREGORIAN
METHOD:PUBLISH
X-WR-CALNAME:URBAN PICNIC
X-ORIGINAL-URL:https://urbanpicnic.jp
X-WR-CALDESC:URBAN PICNIC のイベント
REFRESH-INTERVAL;VALUE=DURATION:PT1H
X-Robots-Tag:noindex
X-PUBLISHED-TTL:PT1H
BEGIN:VTIMEZONE
TZID:Asia/Tokyo
BEGIN:STANDARD
TZOFFSETFROM:+0900
TZOFFSETTO:+0900
TZNAME:JST
DTSTART:20240101T000000
END:STANDARD
END:VTIMEZONE
BEGIN:VEVENT
DTSTART;TZID=Asia/Tokyo:20250516T180000
DTEND;TZID=Asia/Tokyo:20250516T193000
DTSTAMP:20260424T201530
CREATED:20250503T072340Z
LAST-MODIFIED:20250503T072340Z
UID:6728-1747418400-1747423800@urbanpicnic.jp
SUMMARY:芝生の演奏会 ／Suomi Morishita Duo Strings with Emiko Mizoguchi
DESCRIPTION:5/16fri. Suomi Morishita Duo Strings with Emiko Mizoguchi\n金曜の夜、週末を前に少しわくわくする時間。\nそんなひとときに、小さな芝生のステージ 「ガーデンステージ」で演奏会を開催します。\n夜空を眺めながら、ドリンクを片手に、奏でられる音を楽しみましょう。 \nいつもはインストゥルメンタルな芝生の演奏会ですが、今回は実験的にボーカルの方もお招きしてお送りします。\nオリジナルジャズを中心に洋楽のカバーなどをお楽しみください。 \n【芝生の演奏会 開催概要】\n日時：2025年5月16日(金)\n1stステージ：18:00-18:30\n2ndステージ：19:00-19:30\n場所：東遊園地　ガーデンステージ（※雨天：park kitchen WEEKENDにて開催）\n兵庫県神戸市中央区加納町6-4-1　東遊園地内\n料金：無料・申込不要\n主催：URBAN PICNIC（一般社団法人リバブルシティイニシアティブ） \n【アーティスト紹介】\nSuomi Morishita Duo Strings with Emiko Mizoguchi\n森下周央彌 × 本倉信平 with 溝口恵美子\nギタリスト・森下周央彌とチェリスト・本倉信平によるDuo Stringsが紡ぐ繊細で深みのある響きに、圧倒的な表現力を誇るボーカリスト・溝口恵美子が加わる。ジャンルの垣根を越え、ジャズやポップスの枠を超えた新たな音楽の世界を切り拓く。
URL:https://urbanpicnic.jp/event/lawn-concert-2505-2/
CATEGORIES:芝生の演奏会
ATTACH;FMTTYPE=application/pdf:https://urbanpicnic.jp/wp-content/uploads/2025/05/名称未設定のデザイン.pdf
END:VEVENT
BEGIN:VEVENT
DTSTART;TZID=Asia/Tokyo:20250502T180000
DTEND;TZID=Asia/Tokyo:20250502T193000
DTSTAMP:20260424T201530
CREATED:20250419T093733Z
LAST-MODIFIED:20250419T094103Z
UID:6680-1746208800-1746214200@urbanpicnic.jp
SUMMARY:芝生の演奏会／中安航太・西江花梨デュオ
DESCRIPTION:5/2 fri. 中安航太・西江花梨デュオ\n芝生の演奏会は、東遊園地にある小さな芝生のステージ 「ガーデンステージ」で毎月2回開催する、インストゥルメンタルの演奏会です。公園でドリンクを片手に、奏でられる音を楽しみましょう。\n今回は、ピアノとトロンボーンのシンプルな編成で、ジャズやポップスなどの美しい曲をお届けします。 \n【芝生の演奏会 開催概要】\n日時：2025年5月2日(金)\n1stステージ：18:00-18:30\n2ndステージ：19:00-19:30\n場所：東遊園地　ガーデンステージ（※雨天：park kitchen WEEKENDにて開催）\n兵庫県神戸市中央区加納町6-4-1　東遊園地内\n料金：無料・申込不要\n主催：URBAN PICNIC（一般社団法人リバブルシティイニシアティブ） \n【アーティスト紹介】\n \n– 中安航太・西江花梨デュオ –\n中安航太（トロンボーン）\n1979年神戸市生まれ。甲南中学でトロンボーンをはじめ、Count Basieなどのビッグバンド活動。高校ではSJFで神戸市長賞、大学では山野楽器主催のコンテストで奨励賞を受賞。 現在はザ・エロージャズオーケストラのリーダーを務めるほか、デュオ、アンサンブル、ファンク、ポップス、エフェクター導入など幅広い音楽活動を行い、またCM用レコーディングや、ジャズアンサンブルやボーカルサポートとしてCD作品にも参加。\n西江花梨（ピアノ）\n3歳からエレクトーン、10歳からピアノを習い、大阪音楽大学短期大学部ジャズ科を卒業。 様々なコンクールで賞を受賞。 小学校6年生から現在も関西を中心に、様々な商業施設で演奏している。 CMソングの制作や、レコーディング等に参加、ジャンルを問わず幅広く活動している。
URL:https://urbanpicnic.jp/event/lawn-concert-2505-1/
CATEGORIES:芝生の演奏会
ATTACH;FMTTYPE=image/jpeg:https://urbanpicnic.jp/wp-content/uploads/2025/04/中安航太・西江花梨デュオ.jpg
END:VEVENT
BEGIN:VEVENT
DTSTART;TZID=Asia/Tokyo:20250416T160000
DTEND;TZID=Asia/Tokyo:20250418T210000
DTSTAMP:20260424T201530
CREATED:20250328T054854Z
LAST-MODIFIED:20250328T054854Z
UID:6613-1744819200-1745010000@urbanpicnic.jp
SUMMARY:NIGHT PICNIC April 2025 ［遭遇］としての公園
DESCRIPTION:パブリックな夜遊びを\nたゆたいながら文化へ向かう\nあなたと公園の関係性\nNIGHT PICNICは、神戸都心の中心にある都市公園・東遊園地の夜にあらわれる実験的なプログラム。もっと日常的に夜の公園を使いこなすことができたら、夜のまちでの過ごし方が増え、暮らしが豊かになるのではないかという仮説を検証しています。 \n4月のテーマは「遭遇」。 \n手に持っているデバイスひとつで、世界中の人とつながることも、自分の好きな情報に絞り込んで手にすることもできる時代。そんな時代に、公園での「偶然の出会い」や、知らない人たちとすごしている「匿名性」の新しい価値を考えます。 \n≪4/16 のピクニック≫\n今年初日となる水曜日は、神戸市外の各地から公園に新しい風を吹き込んでくれるお店や、書店とイラストレーターのコラボレーション展示、ウクライナの民族舞踊や音楽を処方してくれるDJなど盛りだくさん。ベーカリーも4店舗。少しずつ買って、パンの食べ比べをするのもよさそう。 \n知らないものや人に出会う3日間の幕開けを、お楽しみください。 \n[FOOD & DRINK]\nbirica COFFEE&FRESHVEGS / BREADMAN / coboto bakery / cucina akairo / KD donuts / R the wine shop / RAGI / SAVEUR / VALLESAGRADO / viva vin VIVANT / YOUTH COFFEE / 季と菜と魚と さんたか / 茶と菓と いい日 ハレとケ / ベッカライノイス / まちのピザ屋 BET / 酪と酵母 \n[CULTURE]\n▶夜のための本と絵\n16:00-21:00\n公園の夜に現れる、1 日だけの本屋と画廊。\n出演：自由港書店、小泉まお\n場所：ラウンジ \n▶夜に踊る 〜ウクライナ民族舞踊〜\n①18:00-18:20 ②19:00-19:20\n出演：バルヴィノク\n場所：ガーデンステージ \n▶ヒューマン・ジュークボックス\n18:30-21:00\nDJ が音楽を処方するこころみ。1 曲 100 円。\n出演：Penny 協力：神戸・甲陽音楽&ダンス専門学校\n場所：公園内のどこか \n▶ park table WEEKEND\n17:00-21:00\n「park kitchen WEEKEND」が、3 日間持込可のイートインテーブルに。店内メニューの注文も可能。※席料有料 ※通常利用も可 \n\n≪4/17 のピクニック≫\n3日間の中日、木曜日は世界各国の料理や、農業を営みながら食卓までつなげている神戸市西区のみなさまなど、フードもさまざまな選択肢。\nこどもによるこどものための空間があり、その向かいの芝生ではアフリカ音楽や、文化人類学のトークが繰り広げられる。 \n遭遇する情報量の多さに驚きながら、無理に理解せず、観察してみる。隣の人と、少し話してみる。 \n公園で、迷い込む日。 \n[FOOD & DRINK]\nC-farm / ChiQ / CRAZY BURRITO / csew / drizzle / Harema ハンバーガーと、コーヒーと、 / KD donuts / oimostand / petal / QUEST / R the wine shop / VALLESAGRADO / viva vin VIVANT / 神戸アジアン食堂バル SALA / 神戸中華うえばやし / ナベサンテ / バルストロキッチン / ハレとケ / 酪と酵母 \n[CULTURE]\n▶こどもこうえん食堂\n17:30-20:00\n店員も、食べるのも、こどもだけの夜食堂。※一部申込制 ※有料\n協力：cucina akairo、八方美菜\n場所：ラウンジ \n▶ピクニックのための音楽 ~アフリカ編~\n18:00-19:00\nDJ：Tons\n場所：公園内 \n▶ PARK TALK #11「ひととまち 〜集うことの人類学〜」\n19:00-20:00\nゲスト：松村圭一郎(文化人類学者/岡山大学文学部准教授) \n\n≪4/18 のピクニック：シタマチコウベコラボ DAY≫\n４月日程の最終日はディープな神戸の魅力を掘り起こし、発信し続けるウェブメディア「シタマチコウベ」が公園に立ち込めます。東遊園地の最寄り駅でもある神戸市営地下鉄海岸線「三宮・花時計前駅」からたどり着ける、神戸のシタマチを体感できる特別な日。知らなかった神戸の魅力に“遭遇”してみる？もちろんいつものメンバーも、ビールにワイン、カレーやチーズ、ハンバーガーと多様にピクニックの手助けをしてくれます。 \n[シタマチ FOOD ]\n隠れ家 巛(せん) / SAIGON Truonghai / 丸五 Spice Up / KOBE PAIR TRAWLINGS / したまちのえきロッケン \n[Other FOOD & DRINK]\namasora / BREADMAN / CRAZY BURRITO / drizzle / Harema ハンバーガーと、コーヒーと、 / Harlow ICE Cream / JHOICE laboratory / Le-coin / nenne pan / R the wine shop / spicemobb / VALLESAGRADO / viva vin VIVANT / アンジョリーノ神戸 / ハレとケ / 酪と酵母 \n[シタマチ CULTURE]\n▶ シタマチギャラリー\n16:00-21:00\nディープなお店が集合する 1 日限りのシタマチポップアップ。\n【出店】豆醍珈琲/本屋ロカンタン/神戸ザック・イモック/SHOT BAR BUZZ/淡路屋/踵印製作所/がらくたとボク。\n場所：ラウンジ \n▶公園のダンス\n〜芝生の演奏会特別編〜\n①18:00-18:20 ②19:00-19:20\nナイトピクニックスペシャルエディションとして、3 人のアーティストが公園に多文化の風を吹かせにやってくる。\n出演：芸とまちのコラボレーション遊合祭\n場所：ガーデンステージ \n※出店者、企画内容は予告なく変更となる場合がございます。ご了承ください。
URL:https://urbanpicnic.jp/event/nightpicnic_april2025/
LOCATION:東遊園地\, 中央区加納町6-4\, 神戸市\, 兵庫県\, 652-0186
CATEGORIES:公園で学ぶ,公園で遊ぶ,公園で過ごす,公園で食べる
ATTACH;FMTTYPE=image/jpeg:https://urbanpicnic.jp/wp-content/uploads/2025/03/20241011s-276.jpg
END:VEVENT
BEGIN:VEVENT
DTSTART;TZID=Asia/Tokyo:20250404T180000
DTEND;TZID=Asia/Tokyo:20250404T193000
DTSTAMP:20260424T201530
CREATED:20250328T054957Z
LAST-MODIFIED:20250328T054957Z
UID:6612-1743789600-1743795000@urbanpicnic.jp
SUMMARY:芝生の演奏会／公園でショーロ
DESCRIPTION:芝生の演奏会は、東遊園地にある小さな芝生のステージ 「ガーデンステージ」で毎月2回開催する、インストゥルメンタルの演奏会です。公園でドリンクを片手に、奏でられる音を楽しみましょう。 \n4月4日（金）は、ブラジル音楽の『ショーロ』をお届けします。暖かくなってきた春の夕暮れを、素敵な音楽と共に過ごしてみては如何でしょうか。 \n【芝生の演奏会 開催概要】\n日時：2025年4月4日(金)\n1stステージ：18:00-18:30\n2ndステージ：19:00-19:30\n場所：東遊園地　ガーデンステージ（※雨天：park kitchen WEEKENDにて開催）\n兵庫県神戸市中央区加納町6-4-1　東遊園地内\n料金：無料・申込不要\n主催：URBAN PICNIC（一般社団法人リバブルシティイニシアティブ） \n【アーティスト紹介】 \n \n“公園でショーロ”\n梅田麻美子(フルート)\n岸本愛理(鍵盤ハーモニカ)\n三本松千枝子(パンデイロ)\n錦織賢治(7弦ギター)ブラジルのリオデジャネイロで生まれたポピュラー音楽、「Choro(ショーロ)」を演奏します。\n美しく切なげなメロディにコード、躍動的なリズム。サンバやボサノヴァのもとになったとも言われています。どうぞ音の会話をお楽しみ下さい。
URL:https://urbanpicnic.jp/event/%e8%8a%9d%e7%94%9f%e3%81%ae%e6%bc%94%e5%a5%8f%e4%bc%9a%ef%bc%8f%e5%85%ac%e5%9c%92%e3%81%a7%e3%82%b7%e3%83%a7%e3%83%bc%e3%83%ad/
CATEGORIES:芝生の演奏会
ATTACH;FMTTYPE=image/jpeg:https://urbanpicnic.jp/wp-content/uploads/2025/03/公園でショーロ.jpg
END:VEVENT
BEGIN:VEVENT
DTSTART;TZID=Asia/Tokyo:20250321T180000
DTEND;TZID=Asia/Tokyo:20250321T193000
DTSTAMP:20260424T201530
CREATED:20250305T012009Z
LAST-MODIFIED:20250305T012009Z
UID:6343-1742580000-1742585400@urbanpicnic.jp
SUMMARY:芝生の演奏会 - 在間一輝 × 竹内英人 – in WEEKEND  shared by 神戸電子専門学校
DESCRIPTION:芝生の演奏会は、東遊園地にある小さな芝生のステージ 「ガーデンステージ」で開催する、インストゥルメンタルの演奏会です。 \nまだ少しだけ冬の寒さが残る3月の夕方、 特別編として、東遊園地のカフェ「park kitchen WEEKEND」にて 演奏会を開催します。 \n芝生の演奏会は、閲覧無料のプログラム。 WEEKEND内での演奏会ですが、今回も閲覧は無料。 WEEKENDでご注文いただかなくても、 自由に入場できる、公園のカフェならではの演奏会です。 \n3月の第三金曜日に来ていただくのは、 サックス&ギターデュオのお二人。 金曜日の夜、ドリンク片手に音楽を楽しむ時間を、 公園で過ごしてみませんか。ふらりと、お立ち寄りください。 \n｜アーティスト紹介｜ \n在間 一輝 × 竹内 英斗 DUO \n様々なバンドやサポート、レコーディングで10年近くグルーヴを磨いてきた2人によるサックス&ギター デュオ アグレッシブ、かつメロウな2人の演奏でどうか素敵な時間をお過ごしください。 \n｜芝生の演奏会 開催概要｜ \n●日にち\n2025年3月21日（金） \n●タイムテーブル\n1stステージ：18:00-18:30\n2ndステージ：19:00-19:30 \n●場所\npark kitchen WEEKEND店内\n神戸市中央区加納町6-4-1 \n●料金\n無料 \n●申込・定員\n申込不要・定員なし \n●主催\n一般社団法人リバブルシティイニシアティブ \n●協賛\n神戸電子専門学校
URL:https://urbanpicnic.jp/event/lawn-concert-2503-2/
CATEGORIES:公園で過ごす,芝生の演奏会
ATTACH;FMTTYPE=image/jpeg:https://urbanpicnic.jp/wp-content/uploads/2025/03/DSC01391-scaled.jpg
END:VEVENT
BEGIN:VEVENT
DTSTART;TZID=Asia/Tokyo:20250307T180000
DTEND;TZID=Asia/Tokyo:20250307T193000
DTSTAMP:20260424T201530
CREATED:20250304T032106Z
LAST-MODIFIED:20250307T085246Z
UID:6336-1741370400-1741375800@urbanpicnic.jp
SUMMARY:芝生の演奏会 - 奈倉翔 × 西垣ドラミ – shared by 神戸電子専門学校
DESCRIPTION:芝生の演奏会は、東遊園地にある小さな芝生のステージ「ガーデンステージ」で開催するインストゥルメンタルの演奏会です。外で過ごすのが心地よい季節の第一・第三金曜日に開催しています。冬時期はお休みだった芝生の演奏会が、3月から帰ってきます。2025年初回の演奏会に来ていただくのは、ヴァイオリニストとピアニストのお二人です。金曜日の夜、ドリンク片手に音楽を楽しむ時間を、公園で過ごしてみませんか。ふらりと、お立ち寄りください。 \n｜アーティスト紹介｜ \n奈倉 翔／ヴァイオリン\n大阪音楽大学器楽学科卒業。\n高校の部活動にて16歳からヴァイオリンを始める。主に高校ではアンサンブルを中心に勉強し、大学ではクラシックで技術を磨きながら、学外でジャズを習う。在学中より様々なアンサンブルに参加し、ジャズバンドを中心に演奏活動を開始する。 \n西垣 ドラミ／ピアノ\n４歳よりクラシックピアノを始め、大阪音楽大学短期大学部にて上田千鶴子氏、小林峡介氏に師事。卒業後、甲陽音楽学院にてジャズピアノを竹下清志氏、佐伯準一氏に師事。\nピアノ指導やレコーディングに参加しつつライブサポートで、日本武道館、インテックス大阪など全国のライブハウス、ホール、ホテル等で演奏経験を積む。現在はピアニカの魔術師等のサポートをしつつジャズを中心に活動中。 \n｜開催概要｜ \n●日にち\n2025年3月7日（金） \n●タイムテーブル\n1stステージ：18:00-18:30\n2ndステージ：19:00-19:30 \n●場所\n東遊園地 ガーデンステージ\n神戸市中央区加納町6-4-1\n※雨天時は公園内にあるparkkitchen　WEEKEND店内で開催します \n●料金\n無料 \n●申込・定員\n申込不要・定員なし \n●主催\n一般社団法人リバブルシティイニシアティブ \n●協賛\n神戸電子専門学校
URL:https://urbanpicnic.jp/event/lawn-concert-2503-1/
CATEGORIES:公園で過ごす,芝生の演奏会
ATTACH;FMTTYPE=image/png:https://urbanpicnic.jp/wp-content/uploads/2025/03/IMG_5184.png
END:VEVENT
BEGIN:VEVENT
DTSTART;TZID=Asia/Tokyo:20241018T180000
DTEND;TZID=Asia/Tokyo:20241018T193000
DTSTAMP:20260424T201530
CREATED:20240929T015405Z
LAST-MODIFIED:20240929T015405Z
UID:6025-1729274400-1729279800@urbanpicnic.jp
SUMMARY:芝生の演奏会／フルート＆ヴァイオリンデュオ　てまり
DESCRIPTION:毎月2回、芝生で開催するインストゥルメンタルの演奏会。 \n10月18日は、 フルート＆ヴァイオリンデュオ　てまりの登場です。 \n今シーズン、ラストの演奏会です。次回開催は春になります。 \n【芝生の演奏会 開催概要】\n日時:2024年10月18日(金) 18:00-、 19:00- 2ステージ \n※雨天：park kitchen WEEKENDにて開催\n場所：東遊園地　ガーデンステージ\n兵庫県神戸市中央区加納町6-4-1　東遊園地内\n料金：参加無料\n主催：URBAN PICNIC（一般社団法人リバブルシティイニシアティブ） \n  \n■アーティスト紹介 \nフルート＆ヴァイオリンデュオ　てまり \n大阪教育大学大学院修了。\n2018年より2人の出身地である神戸市で、より気軽に手軽にクラシック音楽に親しんでもらえる活動をしたいという思いから、「デュオ てまり」として活動開始。\nこれまでに第64回「大阪ガス♪癒しの音楽」や、大阪楽友協会コンサートなど多数出演のほか、阪神シニアカレッジにて音楽史の講座も受け持つ。
URL:https://urbanpicnic.jp/event/lawnconcert-241018/
LOCATION:東遊園地\, 中央区加納町6-4\, 神戸市\, 兵庫県\, 652-0186
CATEGORIES:公園で過ごす,芝生の演奏会
ATTACH;FMTTYPE=image/jpeg:https://urbanpicnic.jp/wp-content/uploads/2024/09/IMG_6674-scaled-e1727575080659.jpg
END:VEVENT
BEGIN:VEVENT
DTSTART;TZID=Asia/Tokyo:20241004T180000
DTEND;TZID=Asia/Tokyo:20241004T193000
DTSTAMP:20260424T201530
CREATED:20240929T014149Z
LAST-MODIFIED:20240929T014149Z
UID:6017-1728064800-1728070200@urbanpicnic.jp
SUMMARY:芝生の演奏会／aco106
DESCRIPTION:毎月2回、芝生で開催するインストゥルメンタルの演奏会。 \n10月4日は、aco106 の登場です。 \n仕事や学校の帰り道。東遊園地に少し寄り道して、演奏を一緒に楽しみましょう。 \n【芝生の演奏会 開催概要】\n日時:2024年10月4日(金) 18:00-、 19:00- 2ステージ \n※雨天：park kitchen WEEKENDにて開催\n場所：東遊園地　ガーデンステージ\n兵庫県神戸市中央区加納町6-4-1　東遊園地内\n料金：参加無料\n主催：URBAN PICNIC（一般社団法人リバブルシティイニシアティブ） \n  \n■アーティスト紹介 \naco106 \n \n結成から20年以上、常に先端を走るインストバンドK-106のメンバー4名が奏でるアコースティックファンクミュージック！ （アルトサックスorテナーサックスorトロンボーン and ファンクアコギ）変幻自在な楽曲と、小編成でも踊らせるファンクスピリッツが融合し、本家K-106にも負けず劣らず、感動とグルーブの坩堝な楽しいライブミュージックを聞かせてくれます。 \n  \n 
URL:https://urbanpicnic.jp/event/lawnconcert-241004/
LOCATION:東遊園地\, 中央区加納町6-4\, 神戸市\, 兵庫県\, 652-0186
CATEGORIES:公園で過ごす,芝生の演奏会
ATTACH;FMTTYPE=image/jpeg:https://urbanpicnic.jp/wp-content/uploads/2024/09/IMG_6707.jpg
END:VEVENT
BEGIN:VEVENT
DTSTART;TZID=Asia/Tokyo:20240920T180000
DTEND;TZID=Asia/Tokyo:20240920T193000
DTSTAMP:20260424T201530
CREATED:20240824T050716Z
LAST-MODIFIED:20240828T073730Z
UID:5866-1726855200-1726860600@urbanpicnic.jp
SUMMARY:芝生の演奏会／ArtCat
DESCRIPTION:毎月2回、芝生で開催するインストゥルメンタルの演奏会。 \n9月20日は、ArtCat ( アートキャット ) の登場です。 \n仕事や学校の帰り道。東遊園地に少し寄り道して、演奏を一緒に楽しみましょう。 \n【芝生の演奏会 開催概要】\n日時:2024年9月20日(金) 18:00-、 19:00- 2ステージ \n※雨天：park kitchen WEEKENDにて開催\n場所：東遊園地　ガーデンステージ\n兵庫県神戸市中央区加納町6-4-1　東遊園地内\n料金：参加無料\n主催：URBAN PICNIC（一般社団法人リバブルシティイニシアティブ） \n9月は、和田興産株式会社さまの協賛のもと開催します。 \n  \n■アーティスト紹介 \nArtCat ( アートキャット ) \n神戸市中央区のポップスピアノ・バイオリン教室を運営するピアニスト坂口尚久とバイオリニスト坂口亜也子による夫婦デュオ。\n兵庫県立芸術文化センター大ホールにて「ArtCat ジブリコンサート（2023）」「ArtCatディズニーコンサート（2024）」を開催。\n第49回神戸まつり「ArtCatナマステ〜インドでカーニバル〜」、第50回神戸まつり「ArtCatユニバーサルステージ」をプロデュース。第51回神戸まつりでは、おまつりパレード初出場。\n演者も観客もみんなが笑顔になれる音楽イベントを企画し、多くの人々に音楽の楽しさを伝えたいと日々活動を続けている。 \n  \n  \n坂口亜也子　バイオリン\n石川県小松市出身。\n３歳よりバイオリンを始め小松市立高等学校芸術コース、同志社女子大学学芸学部音楽学科卒業。卒業後、ホテル・結婚式場にてブライダルバイオリニストとして活動。地域イベントや子供向けコンサート・幼稚園・保育園・こども食堂での演奏にも力を入れている。 \n  \n  \n 坂口尚久　ピアノ\n兵庫県神戸市出身。相愛大学音楽学部卒業。 在学中より小曽根ミュージックスクールにてジャズピアノを学ぶ。卒業後、ブライダル・レストラン・ジャズバーを中心に活動。第３回神戸おやじジャズバンドコンテスト審査員特別賞、第13回関西ピアノオーディション専門部門審査員賞受賞。 また、社会福祉士資格を取得し福祉現場での演奏活動も行う傍ら、後進の指導にもあたっている。 特定非営利活動法人「音楽堂」理事。 音楽教室ArtCat KOBE代表。 \n 
URL:https://urbanpicnic.jp/event/lawn-concert-240920/
CATEGORIES:公園で過ごす,芝生の演奏会
ATTACH;FMTTYPE=image/jpeg:https://urbanpicnic.jp/wp-content/uploads/2024/08/att.gkQp3Wi1jKQSvL5uG2WAkBK82ahEU6meI8We-sAD5Qc.jpg
END:VEVENT
BEGIN:VEVENT
DTSTART;TZID=Asia/Tokyo:20240906T180000
DTEND;TZID=Asia/Tokyo:20240906T193000
DTSTAMP:20260424T201530
CREATED:20240813T100417Z
LAST-MODIFIED:20240830T014412Z
UID:5742-1725645600-1725651000@urbanpicnic.jp
SUMMARY:芝生の演奏会／松村明&松村真美
DESCRIPTION:毎月2回、芝生で開催するインストゥルメンタルの演奏会。 \n9月6日は、松村明 & 松村真美の登場です。 \n仕事や学校の帰り道。東遊園地に少し寄り道して、演奏を一緒に楽しみましょう。 \n【芝生の演奏会 開催概要】\n日時:2024年9月6日(金) 18:00-、 19:00- 2ステージ\n※雨天：park kitchen WEEKENDにて開催\n場所：東遊園地　ガーデンステージ\n兵庫県神戸市中央区加納町6-4-1　東遊園地内\n料金：参加無料\n主催：URBAN PICNIC（一般社団法人リバブルシティイニシアティブ） \n9月は、和田興産株式会社さまの協賛のもと開催します。 \n  \n■アーティスト紹介 \n松村明 & 松村真美 \n  \n松村明 \n３歳より本格的にクラシックピアノを始める。幼少期よりピティナピアノコンクールに出場、５度の全国決勝大会へ進出し奨励賞を受賞。\n大阪音楽大学に入学し、特別研究クラスに合格。\n在学中にJAZZに魅了された。\n卓越した演奏テクニックで独自の音楽を創造する新進気鋭のピアニスト。\n数々のツアーやJAZZフェスティバルに出演の他、大阪を拠点に各地のライブハウスやコンサートホールにて活躍中。\n2014年には初のall improvisation のオリジナルCD「One day」を発売し好評を得ている。コンクール\n2019年10月、オーストリア、ウィーンでソロライブに成功。\n現在はリッツ・カールトン大阪のザ・バーのレギュラーピアニストを務める。\n2022年7月、大阪府豊能郡能勢町天王にある築180年の古民家を改修、コンサートを開催しながら愛犬の秋田犬と暮らしている。\nインスタグラム　akitainu_kominka \n  \n  \n  \n  \n松村真美  \n同志社女子大学音楽学部音楽学科フルート演奏専攻卒業。京都フランス音楽アカデミーマスタークラス修了。中務晴之氏、小久見豊子氏、フィリップ・ベルノルド氏に師事。関西を中心に数々のソロコンサートに出演、室内楽では関西のみならず各地で公演し好評を博す。\nまた、2006年よりホテルのディナーショー出演をきっかけにクラシック以外の音楽にも興味を持ちNYやCubaにてJAZZやラテン音楽の研修を積み、今ではJAZZフェスティバルにも多数出演、Flute JAZZ QUARTETTOを組むなどクラシック以外でも活躍の場を広げる。\n2022年より能勢町天王にて古民家を改装した音楽サロン『天音』を経営し毎月クラシックやJAZZのコンサートを行う。\nその他、YAMAHAフルート科講師や、男女共同参画の授業の一環で中学生対象に特別授業を行うなど、小・中・高校などにてアウトリーチや後進の指導にも力を入れている。
URL:https://urbanpicnic.jp/event/lawn-concert-2409-1/
CATEGORIES:公園で過ごす,芝生の演奏会
ATTACH;FMTTYPE=image/jpeg:https://urbanpicnic.jp/wp-content/uploads/2024/08/240906_performers-scaled.jpg
END:VEVENT
BEGIN:VEVENT
DTSTART;TZID=Asia/Tokyo:20240816T180000
DTEND;TZID=Asia/Tokyo:20240816T193000
DTSTAMP:20260424T201530
CREATED:20240726T082422Z
LAST-MODIFIED:20240727T001840Z
UID:5693-1723831200-1723836600@urbanpicnic.jp
SUMMARY:芝生の演奏会／スインギー坂野 & 辻晋哉
DESCRIPTION:毎月2回、芝生で開催するインストゥルメンタルの演奏会。 \n8月16日は、スインギー坂野 & 辻晋哉の登場です。 \n仕事や学校の帰り道。東遊園地に少し寄り道して、演奏を一緒に楽しみましょう。 \n【芝生の演奏会 開催概要】\n日時:2024年8月16日(金) 18:00-、 19:00- 2ステージ\n※雨天ラウンジにて開催\n場所：東遊園地　ガーデンステージ\n兵庫県神戸市中央区加納町6-4-1　東遊園地内\n料金：参加無料\n主催：URBAN PICNIC（一般社団法人リバブルシティイニシアティブ） \n  \n■アーティスト紹介 \nスインギー坂野 & 辻晋哉 \n  \nスインギー坂野　ジャズウクレレプレイヤー \nアコースティックJazzトリオであるUkulele Swing Trioのリーダー。\nジャズを中心に演奏しており、トリオで7枚のアルバムを全国リリース。\n2nd\,3rd\,5th\,6th\,7thアルバムはハワイのグラミー賞と称される「ナ・ホク・ハノハノ・アワード」のインターナショナル部門にノミネートされ、2ndアルバムでベスト・インターナショナル・アルバム賞を受賞。他にウクレレ2本のジャズユニットUkulele JAZZ Duoでも活動をしており、日本・台湾でアルバムをリリースして台湾縦断ツアーを完遂。\nNHK神戸のジャズライブKOBEをはじめ、テレビやラジオにも出演。\n楽曲はNHKの”日曜美術館”や民放ハワイ番組のBGMに使われている。\n2013年度ジ・ウクレレコンテストのファイナリスト \n  \n  \n  \n \n辻晋哉　クロマチックハーモニカ奏者 \n18歳よりクロマチックハーモニカを始め、徳永延生氏に師事。\nSPAH IHO HOHNER FESTIVAL（アメリカ\,1991年）において世界第２位、WORLD HARMONICA FESTIVAL（ドイツ\,1997年）において世界第２位を受賞。\n関西や東京において、アドリブを生かしたジャズ、ポップス、ボサノヴァなど幅広いジャンルで、数々のミュージシャンとの共演やCD参加、ミュージカル音楽の担当など、現在精力的に音楽活動中。\nまた講師として30年、ミュージックスクール等関西各地で教室を開講している。
URL:https://urbanpicnic.jp/event/lawnconcert-240816/
LOCATION:東遊園地\, 中央区加納町6-4\, 神戸市\, 兵庫県\, 652-0186
CATEGORIES:公園で過ごす,芝生の演奏会
ATTACH;FMTTYPE=image/jpeg:https://urbanpicnic.jp/wp-content/uploads/2024/07/DSC01079sakano-scaled.jpg
END:VEVENT
BEGIN:VEVENT
DTSTART;TZID=Asia/Tokyo:20240802T180000
DTEND;TZID=Asia/Tokyo:20240802T193000
DTSTAMP:20260424T201530
CREATED:20240726T082409Z
LAST-MODIFIED:20240727T003821Z
UID:5687-1722621600-1722627000@urbanpicnic.jp
SUMMARY:芝生の演奏会／Caribbian Wind
DESCRIPTION:毎月2回、芝生で開催するインストゥルメンタルの演奏会。 \n8月2日は、Caribbian Windの登場です。カホンとスティールパンのハーモニーが公園に響きます。 \n公園でドリンクを片手に、奏でられる音を楽しみましょう。 \n  \n【芝生の演奏会 開催概要】\n日時:2024年8月2日(金) 18:00-、 19:00- 2ステージ\n場所：東遊園地　ガーデンステージ\n兵庫県神戸市中央区加納町6-4-1　東遊園地内\n料金：参加無料\n主催：URBAN PICNIC（一般社団法人リバブルシティイニシアティブ） \n  \n■アーティスト紹介 \nCaribbian Wind \n冨士 正太朗　ドラム、パーカッション奏者 \nクラッシックの打楽器を松永吉明氏、北野徹氏に師事、大阪音楽大学器楽打楽器学部出身。同学在学中にジャズと出合い田中ヒロシ氏にジャズドラムを師事。ポピュラーのパーカッションを都筑明弘氏、大宜見元氏に師事。山田能史氏率いるサルサバンド「ハポニスモ」に参加。同グループCD「ハポニスモ」発売。日本各地でのCD発売ツアーを行う。\nバイオリン奏者堀口和子率いるラテンジャズバンド「Ajims」に参加。\nサークル音楽教室代表として神戸にて子供たちのためのボランティア音楽イベントや大人向けのジャズセッションイベント等盛んに音楽普及活動を行っている。 \n  \n  \n  \n村治 進　スティールパン \nカリブ海トリニダード・トバゴ共和国の楽器スティールパンを演奏しています。製作、調律とプレイヤーの両面からスティールパンの「いい音」を考えれる演奏家はほんっとに少ないのです。日本でもトリニダードでもね。
URL:https://urbanpicnic.jp/event/lawnconcert-240802/
LOCATION:東遊園地\, 中央区加納町6-4\, 神戸市\, 兵庫県\, 652-0186
CATEGORIES:公園で過ごす,芝生の演奏会
ATTACH;FMTTYPE=image/jpeg:https://urbanpicnic.jp/wp-content/uploads/2024/07/att.4ngn3FExU67XKW7E8ZHl4K3UrRen2ewpRbUwsXdOiH8-1.jpg
END:VEVENT
BEGIN:VEVENT
DTSTART;TZID=Asia/Tokyo:20240801T180000
DTEND;TZID=Asia/Tokyo:20240812T220000
DTSTAMP:20260424T201530
CREATED:20240726T071754Z
LAST-MODIFIED:20240727T002106Z
UID:5679-1722535200-1723500000@urbanpicnic.jp
SUMMARY:NIGHT PICNIC August 2024
DESCRIPTION:「公園で過ごす、持ち寄る。」 \n公園での夜のピクニックがみんなの中に定着していったら、夜の公園でなにをして、どう楽しんでいるのだろう。 \nみんなが街からお気に入りを持ってきて、公園に集ってみる。 \n公園にも、そこでしか体験できない少しのスパイスがあって、その場で出会う豊かさを楽しむ。 \n普段のにぎやかさほどではない、少しだけスパイシーな公園の夜を、思い思いに楽しむアイディアを持ち寄って、過ごしましょう。 \n  \n【8/1-12 毎日18:00-22:00】\n●NIGHT KIOSK(ナイトキオスク)\n兵庫県内で作られたopen airのビールやワインと、自分で挟んでつくるサンドイッチ。\n手ぶらで立ち寄っても、クラフトピクニックが楽しめるセットをメインに、ちょっと気の利いたおいしいものをご用意しています。レジャーシートやグラス、蚊取線香などの有料レンタルもあり、会社帰りやお出かけの前後に気軽にピクニックを楽しめます。 \n  \n【8/1 木】\n●NIGHT CAMPUS「広場とソクラテス：哲学ことはじめ」　19:00-20:00\n登壇：茶谷 直人/神戸大学大学院人文学研究科・文学部教授\n●出店：drizzle/カレー \n  \n【8/2 金】\n●芝生の演奏会　18:00-18:30\,19:00-19:30\n出演：Caribbean Wind(カホン/冨士 正太郎\, スティールパン/村治 進)\n●出店：BREADMAN/パン、カレー \n  \n【8/3 土】\n●こどもナイト　18:00-20:00\n①噴水こどもディスコ\n噴水広場がこどもたちのダンスステージに。本格的なDJの選曲に乗って、踊って楽しむこどものためのディスコです。\n②おさがりプロジェクト　by PORTO\n「おやこの世界を広げるサードプレイスPORTO」に集まる、こども服を循環させるプロジェクト。\n●出店：未定 \n  \n【8/4 日】\n●ナイトカレーピクニック　18:00-22:00\n様々な種類のカレーを、神戸産のお米で楽しむ、発汗の夜。\n●出店：ネパール料理店kukuri、屋根裏カリー306、スパイスモブ、QUEST、ナチュラリズムファーム(お米) \n  \n【8/5 月】\n●ナイトピラティス　19:00-19:30\,19:45-20:15\nインストラクター：SHIORI\, AYU (TOKI PILATES STUDIO)\n参加無料・マット持参推奨 \n  \n【8/6 火】\n●アロマピクニック　18:00-22:00\n芝生に、天然のアロマオイルがほのかに香る、嗅覚で楽しむピクニック。 \n  \n【8/7 水】\n●ナイトヨガ　19:00-19:50\nインストラクター：濱田 さやか (studio SUNDARI)\n参加無料・マット持参推奨 \n  \n【8/8 木】\n●NIGHT CAMPUS「記憶に残る風景をつくる：建築学入門」　20:00-21:00\n登壇：槻橋 修/神戸大学院工学研究科建築学専攻教授\n●出店：L’epice レピス \n  \n【8/9 金】\n●ナイトヨガ　19:00-19:50\nインストラクター：濱田 さやか (studio SUNDARI)\n●出店：ブラッスリーラルドワーズ/カレー \n  \n【8/10 土】\n●CINEMA PICNIC　19:00-22:00\n演者：天宮 遥/ピアニスト\n●出店：CRAZY BURRITO/カレー\nさかいのびーつ/スムージー \n  \n【8/11 日】\n●盆DANCE (仮)　18:30-19:00\, 19:30-20:00\nみんなでゆるく身体を動かすダンスな踊り\n●出店：柏木/カレー\nHarlow ICE CREAM/アイスクリーム \n  \n【8/12 月・祝】\n●Mini Beer Garden　18:00-22:00\nビールとスパイス、たまにアイス。行ったり来たり。公園の小さな本格ビアガーデン\n●出店：amasora/スパイスデリ、cucina akairo/カレー、ハレとケ/ビール、バジェサグラード/ビール、Harlow ICE CREAM/アイスクリーム \n  \n※内容や出店者は変更になる可能性があります。 \n\nNIGHT PICNIC 2024概要\n●日程：\n8/1(木)~8/12(月・祝)\n10/9(水)~10/11(金)\n●時間：8月→18:00-22:00　10月→16:00-21:00\n●主催：URBAN PICNIC\n●会場：東遊園地 (神戸市中央区加納町6-4)\n●入場：無料\n●決済方法：各店舗により異なる\n●問い合わせ：info@urbanpicnic.jp \n\n 
URL:https://urbanpicnic.jp/event/night-picnic-240801/
LOCATION:東遊園地\, 中央区加納町6-4\, 神戸市\, 兵庫県\, 652-0186
CATEGORIES:公園で過ごす
ATTACH;FMTTYPE=image/jpeg:https://urbanpicnic.jp/wp-content/uploads/2024/07/SNS08.jpg
END:VEVENT
BEGIN:VEVENT
DTSTART;TZID=Asia/Tokyo:20240717T180000
DTEND;TZID=Asia/Tokyo:20240717T193000
DTSTAMP:20260424T201530
CREATED:20240703T002221Z
LAST-MODIFIED:20240703T002316Z
UID:5611-1721239200-1721244600@urbanpicnic.jp
SUMMARY:芝生の演奏会 in WEEKEND
DESCRIPTION:毎月2回、芝生の上で開催するインストゥルメンタルの演奏会。 \n梅雨休みの7月、特別編として東遊園地のカフェ「park kitchen WEEKEND」にて演奏会を開催します。 \n屋内なので、雨が降っても大丈夫。ゆっくりとドリンクや食事とあわせて楽しむことができます。 \n  \n芝生の演奏会は、観覧無料のプログラム。 \nWEEKEND内での演奏会ですが、今回も観覧無料。WEEKENDでご注文いただかなくても自由に入場いただき観覧いただけます。 \n公園のカフェならではの演奏会です。 \n  \n演奏会に登場いただくのは、ピアノとフルートのデュオ「HaseTama」のお二人です。 \n仕事や学校の帰り道。東遊園地に少し寄り道して、演奏を一緒に楽しみましょう。 \n  \n【芝生の演奏会 in WEEKEND 開催概要】 \n日時:2024年7月17日(水) 18:00-、 19:00- 2ステージ \n場所：東遊園地 in WEEKEND \n兵庫県神戸市中央区加納町6-4-1　東遊園地内 \n料金：参加無料 \n主催：URBAN PICNIC（一般社団法人リバブルシティイニシアティブ）・park kitchen WEEKEND \n  \n■アーティスト紹介 \nHaseTama \n神戸を拠点に活動する、クラシックではない新しい音楽を奏でる【HaseTama】。 \n神奈川と大阪出身の2人が2020年淡路島で出会い、結成しました。 \nクラシックを基盤にジャンルを超えた演奏をお届けします。ピアニスト長谷川とフルーティスト佐藤の歌心で、心に響く音楽をお届けします。 \nミント神戸、CBS bubble（西元町）でのアコースティックライブ、シオヤチョコレート（塩屋）でのクリスマスコンサート、カフェコンサート、野外ライブやレストランでのBGM演奏など、様々な場所やイベントで演奏しています。
URL:https://urbanpicnic.jp/event/lawnconcert-240717/
LOCATION:東遊園地\, 中央区加納町6-4\, 神戸市\, 兵庫県\, 652-0186
CATEGORIES:公園で過ごす,芝生の演奏会
ATTACH;FMTTYPE=image/jpeg:https://urbanpicnic.jp/wp-content/uploads/2024/07/4FAE5444-6C96-484A-A8D7-A9A5333E32B2.jpg
END:VEVENT
BEGIN:VEVENT
DTSTART;TZID=Asia/Tokyo:20240605T180000
DTEND;TZID=Asia/Tokyo:20240605T193000
DTSTAMP:20260424T201530
CREATED:20240520T122320Z
LAST-MODIFIED:20240520T123710Z
UID:5508-1717610400-1717615800@urbanpicnic.jp
SUMMARY:芝生の演奏会／chika et sae
DESCRIPTION:毎月第1・3水曜に芝生で開催するインストゥルメンタルの演奏会。 \n6月5日は、chika et saeの登場です。ボタンアコーディオンの奥行きのある音色が公園に響きます。 \n仕事や学校の帰り道。東遊園地に少し寄り道して、演奏を一緒に楽しみましょう。 \n  \n【芝生の演奏会 開催概要】\n日時:2024年6月5日(水) 18:00-、 19:00- 2ステージ\n※雨天ラウンジにて開催\n場所：東遊園地　ガーデンステージ\n兵庫県神戸市中央区加納町6-4-1　東遊園地内\n料金：参加無料\n主催：URBAN PICNIC（一般社団法人リバブルシティイニシアティブ） \n  \n■アーティスト紹介 \nchika et sae \n野村千佳、三浦冴によるボタンアコーディオンデュオ。\n2008年より神戸を拠点に関西一円で演奏活動中。ワールドミュージックやオリジナル曲を中心に、2台のアコーディオンで豊かな表現を追求している。\n2019年11月に1stアルバム「un après-midi」を発売。
URL:https://urbanpicnic.jp/event/lawnconcert-240605/
LOCATION:東遊園地\, 中央区加納町6-4\, 神戸市\, 兵庫県\, 652-0186
CATEGORIES:公園で過ごす,芝生の演奏会
ATTACH;FMTTYPE=image/jpeg:https://urbanpicnic.jp/wp-content/uploads/2024/05/3-263-scaled.jpeg
END:VEVENT
BEGIN:VEVENT
DTSTART;TZID=Asia/Tokyo:20240501T180000
DTEND;TZID=Asia/Tokyo:20240501T193000
DTSTAMP:20260424T201530
CREATED:20240418T105445Z
LAST-MODIFIED:20240418T110833Z
UID:5494-1714586400-1714591800@urbanpicnic.jp
SUMMARY:芝生の演奏会／Arabic Jazz session
DESCRIPTION:毎月第1・3水曜に芝生で開催するインストゥルメンタルの演奏会。\n週の中日にみなさんと公園で音楽を楽しみます。 \n5月1日は、Arabic Jazz sessionの登場です。アラブの神秘的なメロディをみなさんとシェアします。 \n公園でドリンクを片手に、奏でられる音を楽しみましょう。 \n  \n【芝生の演奏会 開催概要】\n日時:2024年5月1日(水) 18:00-、 19:00- 2ステージ\n※雨天ラウンジにて開催\n場所：東遊園地　ガーデンステージ\n兵庫県神戸市中央区加納町6-4-1　東遊園地内\n料金：参加無料\n主催：URBAN PICNIC（一般社団法人リバブルシティイニシアティブ） \n  \n■アーティスト紹介 \nArabic Jazz session \nバイオリン奏者の秦進一、ウード奏者の加藤吉樹、そして作曲家でギタリストの森下周央彌によって結成された新感覚の音楽ユニット。中東の神秘的な楽曲からオリジナル曲まで、幅広い音楽体験をお楽しみください。 \n  \n \n秦進一／バイオリン \n  \n \n加藤吉樹／ウード \n  \n \n森下周央彌／ギター \n  \nTOP、秦進一、森下周央彌　photo by 玉垣香織
URL:https://urbanpicnic.jp/event/lawnconcert-240501/
LOCATION:東遊園地\, 中央区加納町6-4\, 神戸市\, 兵庫県\, 652-0186
CATEGORIES:公園で過ごす,芝生の演奏会
ATTACH;FMTTYPE=image/jpeg:https://urbanpicnic.jp/wp-content/uploads/2024/04/DSC00242-scaled.jpg
END:VEVENT
BEGIN:VEVENT
DTSTART;TZID=Asia/Tokyo:20240417T180000
DTEND;TZID=Asia/Tokyo:20240417T193000
DTSTAMP:20260424T201530
CREATED:20240407T073341Z
LAST-MODIFIED:20240412T011904Z
UID:5313-1713376800-1713382200@urbanpicnic.jp
SUMMARY:芝生の演奏会／ALBIREO
DESCRIPTION:  \n  \n毎月第1・3水曜に芝生で開催するインストゥルメンタルの演奏会。\n週の中日にみなさんと公園で音楽を楽しみます。公園でドリンクを片手に、奏でられる音を楽しみましょう。 \n【芝生の演奏会 開催概要】\n日時:2024年4月17日(水) 18:00- 19:00- 2ステージ\n※雨天ラウンジにて開催\n場所：ガーデンステージ\n兵庫県神戸市中央区加納町6-4-1　東遊園地内\n料金・定員：参加無料・無し\n主催：一般社団法人リバブルシティイニシアティブ \n■アーティスト紹介 \nALBIREO（アルビレオ） \nはくちょう座を形成する星、アルビレオ…天上の宝石とも称えられる二重星の如く、時に抒情的に時に冷淡な表情を感じさせるオーボエと、時にダイナミックに時に繊細に奏でられるピアノによって生み出される音楽は、それを聴く人々の心の中で輝き続ける事でしょう… 社会福祉士でもある坂口尚久と小林唯の音楽の世界は、福祉の精神の一つでもある「人々に寄り添う」気持ちを大切に、聴いて下さる皆さまの記憶に訴えかける様な選曲を心がけています。「記憶の中に生き続ける音楽に触れた時、自然と涙が溢れました…」頂いたお言葉の意味を抱きしめて、精一杯演奏をさせて頂きます。 KOBEまちなかパフォーマンス登録アーティスト（第一期） \n  \n  \n \n  \n小林 唯　オーボエ \n加古川市出身。兵庫県立加古川西高等学校、大阪音楽大学音楽学部器楽学科卒業。 ソロオーボイストとして活動。福祉施設や学校等での演奏活動や後進へのオーボエ指導に加え、現在NPO法人音楽堂にて児童発達支援管理責任者として日々様々な課題を抱えた児童達と音楽や多彩な療育活動を通じて「生きる力」を共に感じ、音楽と福祉の融合を実現している。 社会福祉士/公認心理師/保育士/地域音楽コーディネーター/やぎ楽器・JDR 講師 \n  \n坂口尚久 ピアノ \n兵庫県神戸市出身。相愛大学音楽学部卒業。 在学中より小曽根ミュージックスクールにてジャズピアノを学ぶ。卒業後、ブライダル・レストラン・ジャズバーを中心に活動。第３回神戸おやじジャズバンドコンテスト審査員特別賞、第13回関西ピアノオーディション専門部門審査員賞受賞。 また、社会福祉士資格を取得し福祉現場での演奏活動も行う傍ら、後進の指導にもあたっている。 特定非営利活動法人「音楽堂」理事。 音楽教室ArtCat KOBE代表。
URL:https://urbanpicnic.jp/event/lawnconcert-240417/
LOCATION:東遊園地\, 中央区加納町6-4\, 神戸市\, 兵庫県\, 652-0186
CATEGORIES:芝生の演奏会
ATTACH;FMTTYPE=image/jpeg:https://urbanpicnic.jp/wp-content/uploads/2024/04/434076536_956722312251894_4579082542192567844_n.jpg
END:VEVENT
BEGIN:VEVENT
DTSTART;TZID=Asia/Tokyo:20240403T180000
DTEND;TZID=Asia/Tokyo:20240403T193000
DTSTAMP:20260424T201530
CREATED:20240305T104112Z
LAST-MODIFIED:20240412T053031Z
UID:4584-1712167200-1712172600@urbanpicnic.jp
SUMMARY:芝生の演奏会／在間一輝×茶之木一世
DESCRIPTION:毎月第1・3水曜に芝生で開催するインストゥルメンタルの演奏会。\n週の中日にみなさんと公園で音楽を楽しみます。公園でドリンクを片手に、奏でられる音を楽しみましょう。 \n【芝生の演奏会 開催概要】\n日時:2024年4月3日(水) 18:00- 19:00- 2ステージ\n※雨天ラウンジにて開催\n場所：ガーデンステージ\n兵庫県神戸市中央区加納町6-4-1　東遊園地内\n料金・定員：参加無料・無し\n主催：一般社団法人リバブルシティイニシアティブ \n■アーティスト紹介 \n\n在間一輝 / サックス\n甲陽音楽学院卒業後、関西発インストゥルメンタルファンクバンド「ナチュラルキラーズ」に加入し活動。メンバー達の卓越したスキルを駆使し、繊細かつアグレッシブなステージでオーディエンスを魅了するバンド路線は自身の音楽スタイルに大きく像を結ぶ。2015年には韓国で開催された大型フェス「ZANDARI FESTA」に出演し成功を収めるなど国内をはじめ 海外での活動も精力的に行う。 \n\n■茶之木一世/ピアノ\n幼少期からクラシックピアノ、19歳でJAZZピアノを始める。現在様々なジャンルの経験を生かし、Jazz、Soul 、Funk 、Hiphop などBlackmusicを中心に国内だけでなく海外でも活動している。INSTURUMENTALFUNKバンド「NATURALKILLERS」のキーボーディスト。
URL:https://urbanpicnic.jp/event/lawnconcert-240403/
LOCATION:東遊園地\, 中央区加納町6-4\, 神戸市\, 兵庫県\, 652-0186
CATEGORIES:芝生の演奏会
ATTACH;FMTTYPE=image/jpeg:https://urbanpicnic.jp/wp-content/uploads/2024/03/IMG_9755-scaled-1.jpg
END:VEVENT
BEGIN:VEVENT
DTSTART;TZID=Asia/Tokyo:20240320T160000
DTEND;TZID=Asia/Tokyo:20240320T173000
DTSTAMP:20260424T201530
CREATED:20240305T095303Z
LAST-MODIFIED:20240412T060804Z
UID:4568-1710950400-1710955800@urbanpicnic.jp
SUMMARY:芝生の演奏会／公園でショーロ
DESCRIPTION:2024年、春。あたたかさを感じはじめる3月。芝生の演奏会が帰ってきます。 \n開催曜日を金曜から、毎月第1・3水曜に変更。週の中日にみなさんと公園で音楽を楽しみます。芝生で開催するインストゥルメンタルの演奏会。公園でドリンクを片手に、奏でられる音を楽しみましょう。 \n2024年トップバッターは、公園にぴったりなブラジル音楽の『ショーロ』をお届けします。3/20春分の日のため、特別に通常よりもはやい16時、17時に開催します。水曜のイブニングタイム、芝生でお会いしましょう。 \n【芝生の演奏会 開催概要】\n日時：3/20（祝・水）16:00-、 17:00-　2ステージ\n※雨天時はURBAN PICNICラウンジ にて開催\n場所：東遊園地　ガーデンステージ（神戸市中央区加納町6-4）\n料金：無料・申込不要 \n■アーティスト紹介\n\n公園でショーロ\n梅田麻美子(フルート)／岸本愛理(クラリネット)\n三本松千枝子(パンデイロ)／錦織賢治(7弦ギター) \nブラジルのリオデジャネイロで生まれたポピュラー音楽、「ショーロ」を演奏します。美しく切なげなメロディにコード、躍動的なリズム。後に生まれるサンバやボサノヴァに大きな影響を与えたと言われています。 \n関西中心に演奏会をしたり、Roda de Choro(ショーロのセッション)を楽しんでいます。お気に召したらご一緒に。
URL:https://urbanpicnic.jp/event/lawnconcert-240320/
LOCATION:東遊園地\, 中央区加納町6-4\, 神戸市\, 兵庫県\, 652-0186
CATEGORIES:芝生の演奏会
ATTACH;FMTTYPE=image/jpeg:https://urbanpicnic.jp/wp-content/uploads/2024/03/IMG_0338-scaled-1.jpg
END:VEVENT
END:VCALENDAR