BEGIN:VCALENDAR
VERSION:2.0
PRODID:-//URBAN PICNIC - ECPv6.9.0//NONSGML v1.0//EN
CALSCALE:GREGORIAN
METHOD:PUBLISH
X-WR-CALNAME:URBAN PICNIC
X-ORIGINAL-URL:https://urbanpicnic.jp
X-WR-CALDESC:URBAN PICNIC のイベント
REFRESH-INTERVAL;VALUE=DURATION:PT1H
X-Robots-Tag:noindex
X-PUBLISHED-TTL:PT1H
BEGIN:VTIMEZONE
TZID:Asia/Tokyo
BEGIN:STANDARD
TZOFFSETFROM:+0900
TZOFFSETTO:+0900
TZNAME:JST
DTSTART:20240101T000000
END:STANDARD
END:VTIMEZONE
BEGIN:VEVENT
DTSTART;TZID=Asia/Tokyo:20250528T160000
DTEND;TZID=Asia/Tokyo:20250530T210000
DTSTAMP:20260425T012009
CREATED:20250621T092627Z
LAST-MODIFIED:20250621T093524Z
UID:7014-1748448000-1748638800@urbanpicnic.jp
SUMMARY:NIGHT PICNIC May 2025［媒体］としての公園
DESCRIPTION:パブリックな夜遊びを\nたゆたいながら文化へ向かう\nあなたと公園の関係性\nNIGHT PICNICは、神戸都心の中心にある都市公園・東遊園地の夜にあらわれる実験的なプログラム。もっと日常的に夜の公園を使いこなすことができたら、夜のまちでの過ごし方が増え、暮らしが豊かになるのではないかという仮説を検証しています。 \n5月のテーマは「媒体」。 \n公園は媒(なかだち)する。\n公園を訪れたとき、公園から聞こえる音を耳にしたとき、そこに集う人たちを眺めるとき、わたしたちは公園そのものだけでなく、地域の風土を感じ取る。\nそのまちでの暮らしを想像する。 \n「伝える」でなく「伝わる」を大切に。 \n  \n≪5/28 のピクニック≫\n[FOOD & DRINK]\nbirica COFFEE & FRESHVEGS / BREADMAN / Cini curry / CÔNE / Harlow Ice Cream / JHOICE laboratory / R the wine shop / SAVEUR / The Sowers / uoyaki cave bar / VALLESAGRADO / viva vin VIVANT / アンジョリーノ神戸 / 季と菜と魚と さんたか / 二ノ宮 稀 / ハレとケ / 骨付鶏専門店がやがや / 穂々 \n[CULTURE]\n▶夜にやさしいフェア\n16:00-21:00\n＠ラウンジ\nさまざまな「やさしさ」を集めたマルシェ的なキャンペーン。\n【出展】山陽製紙、想造楽工、TRUNK DESIGN、パンプシェード、ミシマ社、πの世界×HOME HOME CLUB \n▶PARK TALK #12 媒体とまち\n19:00-20:00\n＠ガーデンステージ\n公園で学びにふれる、月1回のトーク屋外編。\nゲスト：三島邦弘(ミシマ社代表/『ちゃぶ台』編集長) \n≪5/29 のピクニック≫\n[FOOD & DRINK]\namasora / BI.TO.WA / BISCO smashburger / cucina akairo / drizzle / L’AVENUE / LE MARRON / R the wine shop / VALLESAGRADO / 明暮焙煎所 / アンジョリーノ神戸 / 鉄板韓国料理jinan / 土居精肉店 / トランジスタベーカリー / 七花~nanabana~ / ハレとケ / ポルトパニーノfeat.ごはんや ももんち \n[CULTURE]\n▶カラフルペイント大会\n16:00-21:00\n＠ガーデンステージ\n夜にカラフル。みんなでつくるペイント大会。\n協力：想造楽工 \n▶公園のオーケストラ\n17:30～18:30：アンサンブル\n19:00～20:00：オーケストラ\n＠芝生ひろば\n公園にフルオーケストラがやってくる。\n出演：神戸大学交響楽団 \n≪5/30 のピクニック≫\nFOOD & DRINK]\nCRAZY BURRITO / drizzle / KD donuts ~神出ドーナツ工房~ / L’AVENUE / Le Coin / legno / nenne pan / R the wine shop / tent-coffee / ululato / VALLESAGRADO / viva vin VIVANT / 食堂 粹稔 / ネパール料理店kukuri / ハレとケ / ベッカライノイス / 酪と酵母 / リストランテハナタニ \n[CULTURE] \n▶夜の花屋と公園の髪あそび\n16:00-21:00\n＠ラウンジ\nあなたの気持ちを表現するお手伝い。\n花：grelo\n髪：isso(TICK-TOCK)\,MIKI \n▶公園でラジオ\n17:00-20:00\n＠ガーデンステージほか\nいま公園で起こっていることを届けるライブ配信。\nパーソナリティ：中野耕史 \n【NIGHT PICNIC May 2025 概要】\n●時間：16:00~21:00 ※15:00~ Pre-Picnic\n●主催：URBAN PICNIC @urbanpicnickobe\n●会場：東遊園地(神戸市中央区加納町6-4)\n●入場：無料 \n※出店者、企画内容は予告なく変更となる場合がございます。ご了承ください。
URL:https://urbanpicnic.jp/event/nightpicnic_may2025/
CATEGORIES:公園で学ぶ,公園で遊ぶ,公園で過ごす,公園で食べる
ATTACH;FMTTYPE=image/png:https://urbanpicnic.jp/wp-content/uploads/2025/06/スクリーンショット-2025-06-21-18.25.26-e1752298907207.png
END:VEVENT
BEGIN:VEVENT
DTSTART;TZID=Asia/Tokyo:20250416T160000
DTEND;TZID=Asia/Tokyo:20250418T210000
DTSTAMP:20260425T012009
CREATED:20250328T054854Z
LAST-MODIFIED:20250328T054854Z
UID:6613-1744819200-1745010000@urbanpicnic.jp
SUMMARY:NIGHT PICNIC April 2025 ［遭遇］としての公園
DESCRIPTION:パブリックな夜遊びを\nたゆたいながら文化へ向かう\nあなたと公園の関係性\nNIGHT PICNICは、神戸都心の中心にある都市公園・東遊園地の夜にあらわれる実験的なプログラム。もっと日常的に夜の公園を使いこなすことができたら、夜のまちでの過ごし方が増え、暮らしが豊かになるのではないかという仮説を検証しています。 \n4月のテーマは「遭遇」。 \n手に持っているデバイスひとつで、世界中の人とつながることも、自分の好きな情報に絞り込んで手にすることもできる時代。そんな時代に、公園での「偶然の出会い」や、知らない人たちとすごしている「匿名性」の新しい価値を考えます。 \n≪4/16 のピクニック≫\n今年初日となる水曜日は、神戸市外の各地から公園に新しい風を吹き込んでくれるお店や、書店とイラストレーターのコラボレーション展示、ウクライナの民族舞踊や音楽を処方してくれるDJなど盛りだくさん。ベーカリーも4店舗。少しずつ買って、パンの食べ比べをするのもよさそう。 \n知らないものや人に出会う3日間の幕開けを、お楽しみください。 \n[FOOD & DRINK]\nbirica COFFEE&FRESHVEGS / BREADMAN / coboto bakery / cucina akairo / KD donuts / R the wine shop / RAGI / SAVEUR / VALLESAGRADO / viva vin VIVANT / YOUTH COFFEE / 季と菜と魚と さんたか / 茶と菓と いい日 ハレとケ / ベッカライノイス / まちのピザ屋 BET / 酪と酵母 \n[CULTURE]\n▶夜のための本と絵\n16:00-21:00\n公園の夜に現れる、1 日だけの本屋と画廊。\n出演：自由港書店、小泉まお\n場所：ラウンジ \n▶夜に踊る 〜ウクライナ民族舞踊〜\n①18:00-18:20 ②19:00-19:20\n出演：バルヴィノク\n場所：ガーデンステージ \n▶ヒューマン・ジュークボックス\n18:30-21:00\nDJ が音楽を処方するこころみ。1 曲 100 円。\n出演：Penny 協力：神戸・甲陽音楽&ダンス専門学校\n場所：公園内のどこか \n▶ park table WEEKEND\n17:00-21:00\n「park kitchen WEEKEND」が、3 日間持込可のイートインテーブルに。店内メニューの注文も可能。※席料有料 ※通常利用も可 \n\n≪4/17 のピクニック≫\n3日間の中日、木曜日は世界各国の料理や、農業を営みながら食卓までつなげている神戸市西区のみなさまなど、フードもさまざまな選択肢。\nこどもによるこどものための空間があり、その向かいの芝生ではアフリカ音楽や、文化人類学のトークが繰り広げられる。 \n遭遇する情報量の多さに驚きながら、無理に理解せず、観察してみる。隣の人と、少し話してみる。 \n公園で、迷い込む日。 \n[FOOD & DRINK]\nC-farm / ChiQ / CRAZY BURRITO / csew / drizzle / Harema ハンバーガーと、コーヒーと、 / KD donuts / oimostand / petal / QUEST / R the wine shop / VALLESAGRADO / viva vin VIVANT / 神戸アジアン食堂バル SALA / 神戸中華うえばやし / ナベサンテ / バルストロキッチン / ハレとケ / 酪と酵母 \n[CULTURE]\n▶こどもこうえん食堂\n17:30-20:00\n店員も、食べるのも、こどもだけの夜食堂。※一部申込制 ※有料\n協力：cucina akairo、八方美菜\n場所：ラウンジ \n▶ピクニックのための音楽 ~アフリカ編~\n18:00-19:00\nDJ：Tons\n場所：公園内 \n▶ PARK TALK #11「ひととまち 〜集うことの人類学〜」\n19:00-20:00\nゲスト：松村圭一郎(文化人類学者/岡山大学文学部准教授) \n\n≪4/18 のピクニック：シタマチコウベコラボ DAY≫\n４月日程の最終日はディープな神戸の魅力を掘り起こし、発信し続けるウェブメディア「シタマチコウベ」が公園に立ち込めます。東遊園地の最寄り駅でもある神戸市営地下鉄海岸線「三宮・花時計前駅」からたどり着ける、神戸のシタマチを体感できる特別な日。知らなかった神戸の魅力に“遭遇”してみる？もちろんいつものメンバーも、ビールにワイン、カレーやチーズ、ハンバーガーと多様にピクニックの手助けをしてくれます。 \n[シタマチ FOOD ]\n隠れ家 巛(せん) / SAIGON Truonghai / 丸五 Spice Up / KOBE PAIR TRAWLINGS / したまちのえきロッケン \n[Other FOOD & DRINK]\namasora / BREADMAN / CRAZY BURRITO / drizzle / Harema ハンバーガーと、コーヒーと、 / Harlow ICE Cream / JHOICE laboratory / Le-coin / nenne pan / R the wine shop / spicemobb / VALLESAGRADO / viva vin VIVANT / アンジョリーノ神戸 / ハレとケ / 酪と酵母 \n[シタマチ CULTURE]\n▶ シタマチギャラリー\n16:00-21:00\nディープなお店が集合する 1 日限りのシタマチポップアップ。\n【出店】豆醍珈琲/本屋ロカンタン/神戸ザック・イモック/SHOT BAR BUZZ/淡路屋/踵印製作所/がらくたとボク。\n場所：ラウンジ \n▶公園のダンス\n〜芝生の演奏会特別編〜\n①18:00-18:20 ②19:00-19:20\nナイトピクニックスペシャルエディションとして、3 人のアーティストが公園に多文化の風を吹かせにやってくる。\n出演：芸とまちのコラボレーション遊合祭\n場所：ガーデンステージ \n※出店者、企画内容は予告なく変更となる場合がございます。ご了承ください。
URL:https://urbanpicnic.jp/event/nightpicnic_april2025/
LOCATION:東遊園地\, 中央区加納町6-4\, 神戸市\, 兵庫県\, 652-0186
CATEGORIES:公園で学ぶ,公園で遊ぶ,公園で過ごす,公園で食べる
ATTACH;FMTTYPE=image/jpeg:https://urbanpicnic.jp/wp-content/uploads/2025/03/20241011s-276.jpg
END:VEVENT
BEGIN:VEVENT
DTSTART;TZID=Asia/Tokyo:20240920T113000
DTEND;TZID=Asia/Tokyo:20241006T190000
DTSTAMP:20260425T012009
CREATED:20240920T031759Z
LAST-MODIFIED:20240920T053648Z
UID:5983-1726831800-1728241200@urbanpicnic.jp
SUMMARY:分身ロボットカフェDAWN ver.β in Kobe 期間限定キャラバン
DESCRIPTION:URBAN PICNIC内にあるレンタルスペース「ラウンジ」にて、期間限定のカフェがオープンします。\nその名も「分身ロボットカフェDAWN ver.β」 \n分身ロボットカフェは株式会社オリィ研究所が運営する、さまざまな事情で外出困難な方が分身ロボット『OriHime』＆『OriHime-D』を遠隔操作しサービスを提供している新しいカフェです。 \n \n東京都中央区日本橋に常設店舗があり、URBAN PICNICで実施の「キャラバンカフェ」では、全国を行脚する「キャラバン」という意味のとおり、分身ロボット『OriHime』を使った未来の働き方を全国・全世界広めていくことを目的に活動されています。 \n今回のキャラバンカフェでは、park kitchen WEEKENDのドリンクやお食事・スイーツを、分身ロボットOriHimeの接客と共に楽しめます。 \nパイロットの方（分身ロボット『OriHime』や『OriHime-D』を操作されている方）はご自宅など、全世界の各地から、接客などの業務をされています。なかには、日本を飛び出して海外から業務されている方も。\nパイロットの方によると、ロボットに入ることで、お客さんとお話しするときに緊張が和らいだりもするのだとか。 \nテクノロジーから考える、人々の新しい社会参加の形「遠隔就労の可能性」をぜひ体験してみてください。 \n\n\n\n開催期間\n2024/9/20(金)~10/6(日)\n\n\n時間\n11:30~19:00 ※予約推奨\n\n\n主催\n株式会社オリィ研究所\n\n\n問い合わせ先\nmail:kobe-dawn@orylab.com\n\n\n公式サイト\n分身ロボットカフェDAWN ver.β
URL:https://urbanpicnic.jp/event/bunshin-robot-cafe/
CATEGORIES:公園で食べる
ATTACH;FMTTYPE=image/png:https://urbanpicnic.jp/wp-content/uploads/2024/09/IMG_3427-コピー.png
END:VEVENT
END:VCALENDAR